{"text_format":"1","workbook":"xlsx","n_sheets":54,"sheets":["Intro","Rallye","Verifs_mod","Verifs_VHC","Verifs_TT","SOFT","Horaires Etap1","Horaires Etap2","Horaires Etap3","Etap1","REtap1","Etap2","REtap2","Etap3","Retap3","Final","Main-Courante","Suivi-ES","Péna Etp 1","Péna Etp 2","Péna Etp 3","Fic_Abd","Abandons","Notif-DC","Not-DC-Final","Not-Tech","Médical","Moyenne","Recos","Tp-Forfait","Cons_Ouvr","Brieff_Ouvr","Communique","Brieff_Conc","Service","Brieff_Com","V_Encd","R_Licence","Att_Acc","A_Video","Officiels","MC_PC","Clot_1","CHK_List","Attest-Conf","Reinteg","IndPerf","Pena","JF_Const","Temps","R2","Emarg","Liste ","Clear"],"not_rendered":{"charts":0,"images":26,"macros":1,"external_links":0,"defined_names":75,"comments":21,"pivot_tables":0},"unopened":[],"bounds":{"document_bytes":16777216,"sheet_cells":100000,"rows_first":2000,"rows_last":500,"rows_between":2000,"halvings":0,"cell_chars":16384,"cell_head_chars":4096},"cells_cut":0,"cells_raw":0,"read":"whole","date_system":"1900"}

{"sheet":"Intro","index":0,"n_rows":33,"n_cols":12,"rows_kept":33,"cut":false,"hidden":false,"merged":[[33,13,34,13],[1,11,2,12],[11,13,12,13],[13,13,14,13],[15,13,16,13],[17,13,18,13],[23,13,24,13],[25,13,26,13],[29,13,30,13],[31,13,32,13],[19,13,20,13],[21,13,22,13],[1,13,2,13],[3,13,4,13],[5,13,6,13],[7,13,8,13],[9,13,10,13],[1,2,1,9],[2,2,2,9],[32,9,32,11],[31,0,31,2],[31,9,31,11],[5,8,5,10],[5,4,5,6],[3,2,3,8],[28,10,29,12],[29,4,29,8],[3,10,4,10],[3,11,4,11]]}
[]
[null,null,"Gestion Rallye",null,null,null,null,null,null,null,{"$f":"TODAY()","v":"2018-12-16"},"Mode Protégé"]
[null,null,{"$f":"Rallye!E10","v":"16ème Rallye du PAYS de St-YRIEX"},null,null,null,null,null,null,null,{"$f":"NOW()","v":43450.393981712965}]
[null,null,{"$f":"Rallye!E11","v":"3ème Rallye VHC du PAYS de St-YRIEX"},null,null,null,null,null,null,null,"En Course :",{"$f":"Etap3!G62","v":45}]
[]
[null,null,"Préparation",null,"Suivi Rallye et Rapports",null,null,null,"Editions Préparatoires"]
[]
[]
[]
[]
[]
[]
[]
[]
[]
[]
[]
[]
[]
[]
[]
[]
[]
[]
[]
[]
[]
[]
[null,null,null,null,null,null,null,null,null,null,"2018-10"]
[]
[]
["Directeur de Course :",null,null,{"$f":"Officiels!K15","v":"LORRE Joseph"},null,null,null,null,null,"Auteur : Joseph LORRE"]
[null,null,"Fichier :",{"$f":"nomclasseur()","v":"DC_Rallye_2018.xlsm"},null,null,null,null,null,"2018-10-01"]

{"sheet":"Rallye","index":1,"n_rows":211,"n_cols":13,"rows_kept":211,"cut":false,"hidden":false,"merged":[[188,7,188,8],[189,7,189,8],[190,7,190,8],[191,7,191,8],[192,7,192,8],[198,7,198,8],[199,7,199,8],[209,7,209,8],[208,7,208,8],[200,7,200,8],[206,7,206,8],[210,7,210,8],[201,7,201,8],[202,7,202,8],[203,7,203,8],[204,7,204,8],[205,7,205,8],[207,7,207,8],[193,7,193,8],[194,7,194,8],[195,7,195,8],[196,7,196,8],[197,7,197,8],[187,7,187,8],[176,7,176,8],[177,7,177,8],[178,7,178,8],[179,7,179,8],[180,7,180,8],[181,7,181,8],[182,7,182,8],[183,7,183,8],[184,7,184,8],[167,7,167,8],[168,7,168,8],[163,7,163,8],[164,7,164,8],[169,7,169,8],[170,7,170,8],[171,7,171,8],[166,7,166,8],[186,7,186,8],[185,7,185,8],[172,7,172,8],[174,7,174,8],[175,7,175,8],[173,7,173,8],[160,7,160,8],[161,7,161,8],[148,7,148,8],[149,7,149,8],[150,7,150,8],[152,7,152,8],[155,4,155,8],[162,7,162,8],[165,7,165,8],[146,7,146,8],[143,7,143,8],[153,7,153,8],[147,7,147,8],[151,7,151,8],[145,7,145,8],[144,7,144,8],[135,7,135,8],[125,7,125,8],[131,7,131,8],[132,7,132,8],[134,7,134,8],[130,7,130,8],[129,7,129,8],[126,7,126,8],[123,7,123,8],[119,7,119,8],[142,7,142,8],[141,7,141,8],[136,7,136,8],[139,7,139,8],[137,7,137,8],[140,7,140,8],[138,7,138,8],[122,7,122,8],[133,7,133,8],[128,7,128,8],[84,7,84,8],[92,7,92,8],[114,7,114,8],[90,7,90,8],[91,7,91,8],[116,7,116,8],[86,7,86,8],[88,7,88,8],[117,7,117,8],[127,7,127,8],[94,7,94,8],[109,7,109,8],[105,7,105,8],[103,7,103,8],[107,7,107,8],[111,7,111,8],[112,7,112,8],[115,7,115,8],[124,7,124,8],[121,7,121,8],[118,7,118,8],[120,7,120,8],[113,7,113,8],[108,7,108,8],[64,7,64,8],[72,7,72,8],[73,7,73,8],[68,7,68,8],[87,7,87,8],[71,7,71,8],[77,7,77,8],[83,7,83,8],[95,7,95,8],[106,7,106,8],[104,7,104,8],[96,7,96,8],[110,7,110,8],[98,4,98,8],[93,7,93,8],[74,7,74,8],[78,7,78,8],[75,7,75,8],[89,7,89,8],[82,7,82,8],[80,7,80,8],[76,7,76,8],[79,7,79,8],[85,7,85,8],[81,7,81,8],[67,7,67,8],[70,7,70,8],[63,7,63,8],[62,7,62,8],[1,2,2,4],[41,1,41,3],[54,7,54,8],[47,4,47,9],[43,6,43,7],[52,7,52,8],[36,4,36,6],[53,7,53,8],[44,6,44,7],[9,1,9,2],[66,7,66,8],[69,7,69,8],[19,4,19,5],[10,4,10,6],[20,4,20,5],[60,7,60,8],[58,7,58,8],[57,7,57,8],[39,4,39,6],[65,7,65,8],[61,7,61,8],[8,9,8,12],[15,7,15,10],[16,4,16,5],[37,9,37,12],[38,9,38,12],[39,9,39,12],[55,7,55,8],[9,4,9,8],[59,7,59,8],[37,4,37,6],[18,4,18,5],[13,4,13,5],[20,2,20,3],[36,9,36,12],[35,8,35,12],[11,4,11,6],[56,7,56,8],[38,4,38,6]]}
[]
[null,null,"PARAMETRES EPREUVE "]
[]
[]
[]
[]
[]
[null,null,null,"DESCRIPTIF de L'EPREUVE"]
[null,null,null," ",null,null,null,null,"Nom du Fichier :",{"$f":"nomclasseur()","v":"DC_Rallye_2018.xlsm"}]
[null,"GENERAL",null," Nom Epreuve  :","16ème Rallye du PAYS de St-YRIEX"]
[null,null,null,"Si DoublureVHC Nom:","3ème Rallye VHC du PAYS de St-YRIEX"]
[null,null,null,"Dates de l'Epreuve :","15 et 16 Septembre 2018"]
[]
[null,null,null,"Ligue :","LRSA Nouvelle Aquitaine Sud"]
[null,null,null,"Permis d'Organisation :","N 511 du 3/07/2018"]
[]
[null,null,null,"Lieu : ","87500 St-YRIEX La PERCHE"]
[]
[null,null,null,"ASA Organisatrice :","ASA Saint Martial"]
[null,null,null,"Code ASA :"]
[null,null,"Championnat/Ecurie Organisatrice :",null,"Championnat de France 2ème Div"]
[]
[null,null,null,"Date Vérifs Adminstratives le :","2018-09-15","de :","08:00:00","à :","11:15:00","et de :",null,"à :"]
[null,null,null,"et le :",null,"de :",null,"à :",null,"et de :",null,"à :"]
[null,null,null,"Date Vérifs Techniques le :","2018-09-15","de :","08:30:00","à :","11:30:00","et de :",null,"à :"]
[null,null,null,"et le :",null,"de :",null,"à :",null,"et de :",null,"à :"]
[]
[null,null,null,"Dates de Reconnaissances :","2018-08-08","de :","09:00:00","à :","11:30:00","et de :","14:00:00","à :","19:00:00"]
[null,null,null,null,"2018-09-09","de :","09:00:00","à :","11:30:00","et de :","14:00:00","à :","19:00:00"]
[null,null,null,null,"2018-09-13","de :","09:00:00","à :","12:00:00","et de :","14:00:00","à :","21:15:00"]
[null,null,null,null,"2018-09-14","de :","09:00:00","à :","12:00:00","et de :","14:00:00","à :","21:15:00"]
[]
[null,null,null,"Date Arrivée :","2018-09-16"]
[]
[null,null,null,"N° Téléphone PC : ",555004997]
[null,null,null,null,null,null,null,null,"INFORMATIONS pour ATTESTATION CONFORMITE"]
[null,null,null,"Vérifications Finales :","Garage VERSAVEAU",null,null,null,"Org. Technique :","MAZAUD Laurent"]
[null,null,null,null,"Avenue de Coussac",null,null,null,"N° Arrèté :","2018/28"]
[null,null,null,null,"87500 St-YRIEX La PERCHE",null,null,null,"De : ","Préfecture de la Haute Vienne"]
[null,null,null,null,"Se munir de moyens pour vider les réservoirs",null,null,null,"Du : ","2018-09-10"]
[]
[null,"Date Affichage classement FINAL : ",null,null,"2018-09-16","à: "]
[]
[null,null,null,"Pénalités pour Avance : ","1 mnt","Départ : ","10 s"]
[null,null,null,"pour Retard : ","10 s"]
[]
[]
[null,null,null,"Etape 1","1ère Etape  Sections  1 - 2"]
[]
[null,null,null,"Date 1ère Etape :","2018-09-15","à :","14:40:00"]
[null,null,null,"Affichage Classement de l'Etape :",null,"à :"]
[null,"Points de Contrôle"]
[null,null,null,"Nom","Heure Th.","Temps Imparti","Kms Partiel","Kms Total"]
[null,null,"1ère","Section"]
[null,"C.H. :","0","Sortie Parc Départ",{"$f":"G50","v":"14:40:00"},"00:05:00",null,{"$f":"H54+G55","v":0}]
[null,"C.H. :","0A","Entrée Assist (Stade St Yriex)",{"$f":"E55+F55","v":"14:45:00"},"00:15:00",null,{"$f":"H55+G56","v":0}]
[null,"C.H. :","0B","Sortie Assistance",{"$f":"E56+F56","v":"15:00:00"},"00:12:00",null,0]
[null,"C.H. :","1","Avant Départ ES 1","15:12:00","00:03:00",null,0]
[null,"Départ E.S. :","1","Le BOCAGE 1 (11,5 Kms)","15:15:00",null,null,0]
[null,"Arriv. E.S. :","1",null,"15:15:00","00:40:00",null,0]
[null,"C.H. :","2","Avant Départ ES 2","15:55:00","00:03:00",null,0]
[null,"Départ E.S. :","2","Le TINDEIX 1 (8,75 Kms)","15:58:00",null,null,0]
[null,"Arriv. E.S. :","2",null,"15:58:00","00:40:00",null,{"$f":"H62+G63","v":0}]
[null,"C.H. :","3","Avant Départ ES 3","16:38:00","00:03:00",null,0]
[null,"Départ E.S. :","3","Les PALLOUX 1 (10,80 Kms)","16:41:00",null,null,0]
[null,"Arriv. E.S. :","3",null,"16:41:00","00:30:00",null,0]
[null,"C.H. :","3A","Entrée Parc Regroup","17:11:00",null,null,0]
[null,null,"2ème","Section","17:11:00","01:10:00",null,0]
[null,"C.H. :","3B","Sortie Parc Regroup","18:21:00","00:05:00",null,0]
[null,"C.H. :","3C","Entrée Assist (Stade St Yriex)","18:26:00","00:30:00",null,0]
[null,"C.H. :","3D","Sortie Assistance","18:56:00","00:12:00",null,0]
[null,"C.H. :","4","Avant Départ ES 4","19:08:00","00:03:00",null,0]
[null,"Départ E.S. :","4","Le BOCAGE 2 (11,5 Kms)","19:11:00",null,null,0]
[null,"Arriv. E.S. :","4",null,"19:11:00","00:40:00",null,0]
[null,"C.H. :","5","Avant Départ ES 5","19:51:00","00:03:00",null,0]
[null,"Départ E.S. :","5","Le TINDEIX 2 (8,75 Kms)","19:54:00",null,null,0]
[null,"Arriv. E.S. :","5",null,"19:54:00","00:40:00",null,0]
[null,"C.H. :","6","Avant Départ ES 6","20:34:00","00:03:00",null,0]
[null,"Départ E.S. :","6","Les PALLOUX 2 (10,80 Kms)","20:37:00",null,null,0]
[null,"Arriv. E.S. :","6",null,"20:37:00","00:30:00",null,0]
[null,"C.H. :","6A","Entrée Parc Fermé Fin Etape","21:07:00",null,null,0]
[null,null,null,null,"21:07:00",null,null,0]
[null,null,null,null,"21:07:00",null,null,0]
[null,null,null,null,"21:07:00",null,null,0]
[null,null,null,null,"21:07:00",null,null,0]
[null,null,null,null,"21:07:00",null,null,0]
[null,null,null,null,"21:07:00",null,null,0]
[null,null,null,null,"21:07:00",null,null,0]
[null,null,null,null,"21:07:00",null,null,0]
[null,null,null,null,"21:07:00",null,null,0]
[null,null,null,null,"21:07:00",null,null,0]
[null,null,null,null,"21:07:00",null,null,0]
[null,null,null,null,"21:07:00",null,null,0]
[null,null,null,null,"21:07:00",null,null,0]
[null,null,null,null,"21:07:00",null,null,0]
[null,null,null,null,"21:07:00",null,null,0]
[null,null,null,null,"21:07:00",null,null,0]
[]
[null,null,null,"Etape 2","2ème Etape Sections 3 - 4 - 5"]
[]
[null,null,null,"Date 2ème Etape :","2018-09-16","à :","07:30:00"]
[null,null,null,"Affichage Classement de l'Etape :",null,"à :"]
[null,"Points de Contrôle"]
[null,null,null,"Nom","Heure Th.","Temps Imparti","Kms Partiel","Kms Total"]
[null,null,"3ème","Section"]
[null,"C.H. :","6B","Sortie Parc Départ",{"$f":"G101","v":"07:30:00"},"00:05:00",null,{"$f":"G106","v":0}]
[null,"C.H. :","6C","Entrée Assist (Stade St Yriex)",{"$f":"E106+F106","v":"07:35:00"},"00:20:00",null,{"$f":"H106+G107","v":0}]
[null,"C.H. :","6D","Sortie Assistance",{"$f":"E107+F107","v":"07:55:00"},"00:25:00",null,{"$f":"H107+G108","v":0}]
[null,"C.H. :","7","Avant Départ ES 7",{"$f":"E108+F108","v":"08:20:00"},"00:03:00",null,0]
[null,"Départ E.S. :","7","La GABIE de la POULE 1 (9 Kms)",{"$f":"E109+F109","v":"08:23:00"},null,null,0]
[null,"Arriv. E.S. :","7",null,"08:23:00","00:20:00",null,0]
[null,"C.H. :","8","Avant Départ ES 8","08:43:00","00:03:00",null,0]
[null,"Départ E.S. :","8","GLANDON 1 (17,810 Kms)","08:46:00",null,null,0]
[null,"Arriv. E.S. :","8",null,"08:46:00","00:35:00",null,0]
[null,"C.H. :","8A","Entrée Parc Regroup","09:21:00",null,null,0]
[null,null,"4ème","Section","09:21:00","00:45:00",null,0]
[null,"C.H. :","8B","Sortie Parc Regroup",{"$f":"E116+F116","v":"10:06:00"},"00:05:00",null,0]
[null,"C.H. :","8C","Entrée Assist (Stade St Yriex)","10:11:00","00:40:00",null,0]
[null,"C.H. :","8D","Sortie Assistance","10:51:00","00:25:00",null,0]
[null,"C.H. :","9","Avant Départ ES 9","11:16:00","00:03:00",null,0]
[null,"Départ E.S. :","9","La GABIE de la POULE 2 (9 Kms)","11:19:00",null,null,0]
[null,"Arriv. E.S. :","9",null,"11:19:00","00:20:00",null,0]
[null,"C.H. :","10","Avant Départ ES 10","11:39:00","00:03:00",null,0]
[null,"Départ E.S. :","10","GLANDON 2 (17,810 Kms)","11:42:00",null,null,0]
[null,"Arriv. E.S. :","10",null,"11:42:00","00:35:00",null,0]
[null,"C.H. :","10A","Entrée Parc Regroup","12:17:00",null,null,0]
[null,null,"5ème","Section","12:17:00","00:45:00",null,0]
[null,"C.H. :","10B","Sortie Parc Regroup","13:02:00","00:05:00",null,0]
[null,"C.H. :","10C","Entrée Assist (Stade St Yriex)","13:07:00","00:40:00",null,0]
[null,"C.H. :","10 D","Sortie Assistance","13:47:00","00:25:00",null,0]
[null,"C.H. :","11","Avant Départ ES 11","14:12:00","00:03:00",null,0]
[null,"Départ E.S. :","11","La GABIE de la POULE 3 (9 Kms)","14:15:00",null,null,0]
[null,"Arriv. E.S. :","11",null,"14:15:00","00:20:00",null,0]
[null,"C.H. :","12","Avant Départ ES 12","14:35:00","00:03:00",null,0]
[null,"Départ E.S. :","12","GLANDON 3 (17,810 Kms)","14:38:00",null,null,0]
[null,"Arriv. E.S. :","12",null,"14:38:00","00:35:00",null,0]
[null,"C.H. :","12A","Entrée Assist (Stade St Yriex)","15:13:00","00:10:00",null,0]
[null,"C.H. :","12B","Sortie Assistance","15:23:00","00:05:00",null,0]
[null,"C.H. :","12C","Entrée Parc Fermé d'Arrivée","15:28:00",null,null,0]
[null,null,null,null,"15:28:00",null,null,0]
[null,null,null,null,"15:28:00",null,null,0]
[null,null,null,null,"15:28:00",null,null,0]
[null,null,null,null,"15:28:00",null,null,0]
[null,null,null,null,"15:28:00",null,null,0]
[null,null,null,null,"15:28:00",null,null,0]
[null,null,null,null,"15:28:00",null,null,0]
[null,null,null,null,"15:28:00",null,null,0]
[null,null,null,null,"15:28:00",null,null,0]
[null,null,null,null,"15:28:00",null,null,0]
[null,null,null,null,"15:28:00",null,null,0]
[null,null,null,null,"15:28:00",null,null,0]
[null,null,null,null,"15:28:00",null,null,0]
[null,null,null,null,"15:28:00",null,null,0]
[null,null,null,null,"15:28:00",null,null,0]
[]
[null,null,null,"Etape 3"]
[]
[null,null,null,"Date 3ème Etape :",null,"à :"]
[null,null,null,"Affichage Classement de l'Etape :",null,"à :"]
[null,"Points de Contrôle"]
[null,null,null,"Nom","Heure Th.","Temps Imparti","Kms Partiel","Kms Total"]
[null,null,"5ème","Section"]
[null,null,null,null,{"$f":"G158","v":"00:00:00"}]
[null,null,null,null,{"$f":"E163+F163","v":"00:00:00"}]
[null,null,null,null,{"$f":"E164+F164","v":"00:00:00"}]
[null,null,null,null,{"$f":"E165+F165","v":"00:00:00"}]
[null,null,null,null,{"$f":"E166+F166","v":"00:00:00"}]
[null,null,null,null,"00:00:00"]
[null,null,null,null,"00:00:00"]
[null,null,null,null,"00:00:00"]
[null,null,null,null,"00:00:00"]
[null,null,null,null,"00:00:00"]
[null,null,null,null,"00:00:00"]
[null,null,null,null,{"$f":"E173+F173","v":"00:00:00"}]
[null,null,null,null,{"$f":"E174+F174","v":"00:00:00"}]
[null,null,null,null,"00:00:00"]
[null,null,null,null,"00:00:00"]
[null,null,null,null,"00:00:00"]
[null,null,null,null,"00:00:00"]
[null,null,null,null,"00:00:00"]
[null,null,null,null,"00:00:00"]
[null,null,null,null,"00:00:00"]
[null,null,null,null,"00:00:00"]
[null,null,null,null,"00:00:00"]
[null,null,null,null,"00:00:00"]
[null,null,null,null,"00:00:00"]
[null,null,null,null,"00:00:00"]
[null,null,null,null,"00:00:00"]
[null,null,null,null,"00:00:00"]
[null,null,null,null,"00:00:00"]
[null,null,null,null,"00:00:00"]
[null,null,null,null,"00:00:00"]
[null,null,null,null,"00:00:00"]
[null,null,null,null,"00:00:00"]
[null,null,null,null,"00:00:00"]
[null,null,null,null,"00:00:00"]
[null,null,null,null,"00:00:00"]
[null,null,null,null,"00:00:00"]
[null,null,null,null,"00:00:00"]
[null,null,null,null,"00:00:00"]
[null,null,null,null,"00:00:00"]
[null,null,null,null,"00:00:00"]
[null,null,null,null,"00:00:00"]
[null,null,null,null,"00:00:00"]
[null,null,null,null,"00:00:00"]
[null,null,null,null,"00:00:00"]
[null,null,null,null,"00:00:00"]
[null,null,null,null,"00:00:00"]
[null,null,null,null,"00:00:00"]
[null,null,null,null,"00:00:00"]
[null,null,null,null,"00:00:00"]

{"sheet":"Verifs_mod","index":2,"n_rows":148,"n_cols":29,"rows_kept":148,"cut":false,"hidden":false,"merged":[[88,10,88,12],[91,9,91,10],[145,1,145,4],[116,1,116,9],[102,2,102,7],[119,1,119,9],[120,0,120,9],[92,9,92,10],[117,1,117,9],[141,1,141,4],[147,1,147,4],[146,1,146,4],[143,1,143,4],[144,1,144,4],[133,1,133,8],[142,7,142,9],[146,6,146,8],[135,1,135,6],[142,1,142,4],[96,0,96,9],[99,2,99,5],[141,7,141,9],[131,1,131,8],[130,1,130,8],[106,2,106,7],[129,1,129,8],[112,1,112,8],[103,1,103,7],[109,2,109,5],[132,1,132,8],[50,11,52,11],[50,1,52,1],[56,1,56,3],[73,1,73,3],[57,11,58,11],[72,9,72,11],[30,11,31,11],[30,1,32,1],[45,11,46,11],[44,1,44,3],[36,1,39,1],[40,1,42,1],[33,11,34,11],[40,11,41,11],[36,11,37,11],[45,1,46,1],[8,1,8,4],[18,11,19,11],[26,11,27,11],[20,11,23,11],[24,11,25,11],[18,1,19,1],[20,1,23,1],[4,1,4,4],[5,1,5,4],[6,1,6,4],[7,1,7,4],[5,5,7,10],[10,1,10,3],[24,1,25,1],[26,1,27,1],[33,1,35,1],[29,1,29,3],[12,1,12,3],[17,1,17,3],[47,1,48,1],[47,11,48,11],[115,1,115,9],[113,1,113,9],[125,2,125,6],[67,1,67,3],[87,5,87,7],[88,5,88,7],[118,1,118,9],[105,2,105,7],[114,1,114,9],[70,1,70,3],[61,1,61,3],[80,9,80,10],[72,5,72,7],[72,1,72,3]]}
[]
[null,null,null,null,null,null,null,"Document n° :"]
[]
[]
[null,{"$f":"Rallye!E10","v":"16ème Rallye du PAYS de St-YRIEX"}]
[null,{"$f":" Rallye!E12","v":"15 et 16 Septembre 2018"},null,null,null,"RAPPORT n° 1 du Directeur de Course"]
[null,{"$f":"Rallye!E14","v":"LRSA Nouvelle Aquitaine Sud"}]
[null,{"$f":"Rallye!E19","v":"ASA Saint Martial"}]
[null,{"$f":"Rallye!E21","v":"Championnat de France 2ème Div"}]
[null,"HORAIRES",null,null,"Date","Ouverture","Fermeture",null,"Ouverture","Fermeture"]
[null,"Vérifications Administratives le :",null,null,{"$f":"Rallye!E23","v":"2018-09-15"},{"$f":"Rallye!G23","v":"08:00:00"},{"$f":"Rallye!I23","v":"11:15:00"},"et de",{"$f":"Rallye!K23","v":"00:00:00"},{"$f":"Rallye!M23","v":"00:00:00"}]
[null,null,null,"et le :",{"$f":"Rallye!E24","v":"00:00:00"},{"$f":"Rallye!G24","v":"00:00:00"},{"$f":"Rallye!I24","v":"00:00:00"},"et de",{"$f":"Rallye!K24","v":"00:00:00"},{"$f":"Rallye!M24","v":"00:00:00"}]
[null,"Vérifications  Techniques le :",null,null,{"$f":"Rallye!E25","v":"2018-09-15"},{"$f":"Rallye!G25","v":"08:30:00"},{"$f":"Rallye!I25","v":"11:30:00"},"et de",{"$f":"Rallye!K25","v":"00:00:00"},{"$f":"Rallye!M25","v":"00:00:00"}]
[null,null,null,"et le :",{"$f":"Rallye!E26","v":"00:00:00"},{"$f":"Rallye!G26","v":"00:00:00"},{"$f":"Rallye!I26","v":"00:00:00"},"et de",{"$f":"Rallye!K26","v":"00:00:00"},{"$f":"Rallye!M26","v":"00:00:00"}]
[]
[null,"GROUPE",null,"CYLINDREE","ENGAGES","FORFAITS","ABSENTS","VERIF. ADM","VERIF. TECH.","NON CONF.","ADMIS au DEPART"]
[null,null,null,null,null,null,null,null,null,"ABSENT"]
[null,"GROUPE N - FN",null,null,{"$f":"SUM(E19:E28)","v":16},{"$f":"SUM(F19:F28)","v":4},0,12,12,0,12]
[null,"Classe 1","N 1","0 - 1400",1,1,null,{"$f":"(E19-(F19+G19))","v":0},{"$f":"H19","v":0},null,{"$f":"(I19-J19)","v":0},{"$f":"K19+K20","v":1}]
[null,null,"FN 1",null,1,null,null,1,{"$f":"H20","v":1},null,1]
[null,"Classe 2","N 2","1401 - 1600",3,null,null,3,3,null,3,{"$f":"K21+K22+K23+K24","v":6}]
[null,null,"N 2 Série",null,4,2,null,2,2,null,2]
[null,null,"FN 2",null,2,1,null,1,1,null,1]
[null,null,"FN 2 Série",null,null,null,null,0,0,null,0]
[null,"Classe 3","N 3","1601 - 2000",null,null,null,0,0,null,0,{"$f":"K25+K26","v":2}]
[null,null,"FN 3",null,2,null,null,2,2,null,2]
[null,"Classe 4","N 4","2001 - 2500",1,null,null,1,1,null,1,{"$f":"K27+K28","v":3}]
[null,null,"FN 4",null,2,null,null,2,2,null,2]
[null,null,null,null,null,null,null,null,null,null,null,null,null,null,null,null,null,null,null,null,null,null,null,null,null,null,null,null,{"$f":"H:(I)","v":{"$error":"#NAME?"}}]
[null,"GROUPE A - FA",null,null,{"$f":"SUM(E31:E43)","v":11},0,0,11,11,0,11]
[null,"Classe 5","A 5",null,1,null,null,{"$f":"(E31-(F31+G31))","v":1},{"$f":"H31","v":1},null,{"$f":"(I31-J31)","v":1},{"$f":"K31+K32","v":1}]
[null,null,"FA 5","0 - 1400",null,null,null,0,0,null,0]
[null,null,"A/FA 5 K",null,null,null,null,{"$f":"(E33-(F33+G33))","v":0},0,null,{"$f":"(I33-J33)","v":0},{"$f":"K33","v":0}]
[null,"Classe 6","A 6",null,null,null,null,0,0,null,0,{"$f":"K34+K35","v":1}]
[null,null,"FA 6","1401 - 1600",1,null,null,{"$f":"(E35-(F35+G35))","v":1},1,null,{"$f":"(I35-J35)","v":1}]
[null,null,"A/FA 6 K ","Super 1600",3,null,null,3,3,null,3,{"$f":"K36","v":3}]
[null,"Classe 7","A 7",null,1,null,null,1,1,null,1,{"$f":"K37+K38","v":2}]
[null,null,"FA 7","1601 - 2000",1,null,null,1,1,null,1]
[null,null,"A/FA 7 K",null,1,null,null,1,1,null,1,{"$f":"K39","v":1}]
[null,null,"A/FA 7 S","Super 2000",1,null,null,1,1,null,1,{"$f":"K40","v":1}]
[null,"Classe 8","A 8",null,null,null,null,0,0,null,0,{"$f":"K41+K42","v":1}]
[null,null,"FA 8",null,1,null,null,1,1,null,1]
[null,null,"A/FA 8 W","WRC",1,null,null,1,1,null,1,{"$f":"K43","v":1}]
[]
[null,"GROUPE R",null,null,{"$f":"SUM(E46:E55)","v":20},0,0,20,20,0,20]
[null,"Classe R 1","R1 A","0 - 1400",3,null,null,{"$f":"(E46-(F46+G46))","v":3},{"$f":"H46","v":3},null,{"$f":"I46-J46","v":3},{"$f":"K46+K47","v":3}]
[null,null,"R1 B","1401 - 1600",null,null,null,0,0,null,{"$f":"(I47-J47)","v":0}]
[null,"Classe R 2","R2 B","1401 - 1600",2,null,null,2,2,null,2,{"$f":"K48+K49","v":2}]
[null,null,"R2 C","1601 - 2000",null,null,null,0,0,null,0]
[null,"Classe R 2 J","R2 J","1601 - 2000",null,null,null,0,0,null,0,{"$f":"K50","v":0}]
[null,"Classe R 3","R3 C","0 - 2000",4,null,null,4,4,null,4,{"$f":"K51+K52+K53","v":7}]
[null,null,"R3 D","D T - 2000",null,null,null,0,0,null,0]
[null,null,"R3 T","T  - 1600",3,null,null,3,3,null,3]
[null,"Classe R 4","R 4","(+) 2000",1,null,null,1,1,null,1,{"$f":"K54","v":1}]
[null,"Classe R 5","R 5",null,7,null,null,7,7,null,7,{"$f":"K55","v":7}]
[]
[null,"GROUPE GT",null,null,{"$f":"SUM(E58:E60)","v":5},1,0,4,4,0,4]
[null,"Classe 9","GT 9","0 - 2000",null,null,null,{"$f":"(E58-(F58+G58))","v":0},{"$f":"H58","v":0},null,{"$f":"(I58-J58)","v":0},{"$f":"K58+K59","v":3}]
[null,"Classe 10","GT 10","+ 2000",4,1,null,{"$f":"(E59-(F59+G59))","v":3},{"$f":"H59","v":3},null,{"$f":"(I59-J59)","v":3}]
[null,"Classe GT+15","GT+15",null,1,null,null,{"$f":"(E60-(F60+G60))","v":1},{"$f":"H60","v":1},null,{"$f":"(I60-J60)","v":1}]
[null,null,null,null,4]
[null,"GROUPE F2000",null,null,{"$f":"SUM(E63:E66)","v":22},0,0,22,22,0,22]
[null,"Classe 11","F2000-11","0  - 1150",null,null,null,{"$f":"(E63-(F63+G63))","v":0},{"$f":"H63","v":0},null,{"$f":"(I63-J63)","v":0}]
[null,"Classe 12","F2000-12","1151 - 1400",4,null,null,{"$f":"(E64-(F64+G64))","v":4},{"$f":"H64","v":4},null,{"$f":"(I64-J64)","v":4}]
[null,"Classe 13","F2000-13","1401 - 1600",5,null,null,{"$f":"(E65-(F65+G65))","v":5},{"$f":"H65","v":5},null,{"$f":"(I65-J65)","v":5}]
[null,"Classe 14","F2000-14","1601 - 2000",13,null,null,{"$f":"(E66-(F66+G66))","v":13},{"$f":"H66","v":13},null,{"$f":"(I66-J66)","v":13}]
[]
[]
[]
[]
[null,"TOTAL ",null,null,{"$f":"E18+E30+E45+E57+E62+E68","v":74},5,0,69,69,0,{"$f":"K18+K30+K45+K57+K62+K69","v":69}]
[]
[null,"Forfaits avant Vérifications",null,null,null,"Non Présentés",null,null,null,"Non Conformes Techniquement"]
[]
[null,"N°","Groupe","Classe",null,"N°","Groupe","Classe",null,"N°","Grp/Clas"]
[1,61,"FN",2]
[2,73,"N","2S"]
[3,74,"N",1]
[4,71,"N","2S"]
[5,14,"GT",10]
[6,null,null,null,null,null,null,null,null,"Divers"]
[7]
[8]
[9]
[10]
[11]
[12]
[13]
[14,null,null,null,null,"Pris sur Liste d'Attente",null,null,null,"Fait à :",{"$f":"Rallye!E17","v":"87500 St-YRIEX La PERCHE"}]
[15,null,null,null,null,"N°","Groupe","Classe",null,"le :",{"$f":"TODAY()","v":"2018-12-16"}]
[16,null,null,null,null,null,null,null,null,"à :",{"$f":"NOW()","v":43450.393981712965}]
[17,null,null,null,null,null,null,null,null,"Le Directeur de Course"]
[18,null,null,null,null,null,null,null,null,{"$f":"Officiels!K15","v":"LORRE Joseph"}]
[19,null,null,null,null,null,null,null,null,"Lic :",{"$f":"Officiels!E15","v":"10395"}]
[]
[]
["VERIFICATIONS ADMINISTRATIVES"]
[]
[null,"Nombre de concurrents engagés",null,null,null,null,null,null,{"$f":"E71","v":74}]
[null,"dont : "]
[]
[null,"Nombre de concurrents Non Présentés",null,null,"(forfaits pendant les vérificatons)",null,null,null,{"$f":"G71","v":0}]
[null,"N° : ",{"$f":"CONCATENATE(F76,\" \",F77,\" \",F78,\" \",F79,\" \",F80,\" \",F81,\" \",F82,\" \",F83,\" \",F84,\" \",F85,\" \",F86,\" \",F87)","v":"           "}]
[]
[null,"Nombre de concurrents forfaits",null,null,"(Avant l'ouverture & forfait pendant vérifications)",null,null,null,{"$f":"F71","v":5}]
[null,"N° : ",{"$f":"CONCATENATE(B76,\" \",B77,\" \",B78,\" \",B79,\" \",B80,\" \",B81,\" \",B82,\" \",B83,\" \",B84,\" \",B85,\" \",B86,\" \",B87,\" \",B88,\" \",B89,\" \",B90,)","v":"61 73 74 71 14          "}]
[null,"N° : ",{"$f":"CONCATENATE(B91,\" \",B92,\" \",B93,\" \",B94,)","v":"   "}]
[]
[null,"Nombre de concurrents pris sur la liste d'attente",null,null,null,null,null,null,{"$f":"COUNT(F91:F94)","v":0}]
[null,"N° : ",{"$f":"CONCATENATE(F91,\"  \",F92,\"  \",F93,\"  \",F94)","v":"      "}]
[null,"Nombre de concurrents vérifiés administrativement",null,null,null,null,null,null,{"$f":"H71","v":69}]
[]
[null,"Commentaires :"]
[]
[]
[]
[]
[]
[]
[]
["VERIFICATIONS TECHNIQUES"]
[]
[null,"Nombre de véhicules attendus",null,null,null,null,null,null,{"$f":"I71","v":69}]
[]
[null,"Nombre de véhicules présentant une/des anomalie(s) ou absent",null,null,null,null,null,null,{"$f":"J71","v":0}]
[null,"N° : ",{"$f":"CONCATENATE(J76,\"  \",J77,\"  \",J78,\"  \",J79,\"  \")","v":"        "}]
[]
[null,"Nombre de véhicules sans anomalies apparentes",null,null,null,null,null,null,{"$f":"K71","v":69}]
[]
[null,"Commentaires :"]
[]
[]
[]
[]
[]
[null,"Nombre de concurrents autorisés à prendre le départ",null,null,null,null,null,null,{"$f":"K71","v":69}]
[]
[null,null,"Répartition par groupe :","Gr N/FN","Gr A/FA","Gr R","Gr GT","Gr F2000","Gr GT + 15"]
[null,null,null,{"$f":"K18","v":12},{"$f":"K30","v":11},{"$f":"K45","v":20},{"$f":"K58+K59","v":3},{"$f":"K62","v":22},{"$f":"K60","v":1}]
[null,"Pièces Jointes :"]
[]
[null,"Liste des Engagés",null,null,null,null,"Fait à :",{"$f":"Rallye!E17","v":"87500 St-YRIEX La PERCHE"}]
[null,"Liste des Partants",null,null,null,null,"le :",{"$f":"TODAY()","v":"2018-12-16"}]
[null,"Rapport Vérifs Administratives",null,null,null,null,"à :",{"$f":"NOW()","v":43450.393981712965}]
[null,"Rapport Commissaires Techniques"]
[null,"Ordres et Heures de Départ Etape ",null,null,null,null,null,"Le Directeur de Course"]
[null,null,null,null,null,null,{"$f":"Officiels!K15","v":"LORRE Joseph"}]
[null,null,null,null,null,null,"Lic :",{"$f":"Officiels!E15","v":"10395"}]

{"sheet":"Verifs_VHC","index":3,"n_rows":119,"n_cols":10,"rows_kept":119,"cut":false,"hidden":false,"merged":[[50,8,50,10],[58,0,58,9],[94,1,94,7],[68,2,68,6],[115,2,115,5],[111,2,111,5],[110,2,110,5],[80,0,80,8],[108,2,108,7],[98,4,98,6],[98,1,98,2],[78,1,78,7],[62,2,62,6],[54,7,54,8],[95,1,95,7],[87,2,87,5],[56,2,56,4],[93,1,93,7],[112,2,112,5],[117,2,117,4],[114,2,114,5],[90,2,90,6],[92,1,92,2],[116,2,116,4],[8,5,8,6],[8,1,8,4],[19,9,20,9],[39,1,39,3],[22,9,23,9],[39,4,39,6],[28,9,29,9],[31,9,32,9],[39,7,39,9],[4,1,4,4],[5,1,5,4],[6,1,6,4],[7,1,7,4],[5,5,7,9],[118,9,118,11],[10,1,10,3],[65,2,65,6],[16,9,17,9],[53,7,53,8],[107,2,107,7],[25,9,26,9],[12,1,12,3],[77,1,77,7],[76,1,76,7],[56,6,56,8],[49,1,49,3],[51,8,51,10],[118,5,118,7],[113,2,113,5],[71,2,71,5]]}
[]
[null,null,null,null,null,null,null,"Document n° : "]
[]
[]
[null,{"$f":"IF(Rallye!E11<>\"\",Rallye!E11,Rallye!E10)","v":"3ème Rallye VHC du PAYS de St-YRIEX"}]
[null,{"$f":" Rallye!E12","v":"15 et 16 Septembre 2018"},null,null,null,"RAPPORT n° 1 du Directeur de Course"]
[null,{"$f":"Rallye!E14","v":"LRSA Nouvelle Aquitaine Sud"}]
[null,{"$f":"Rallye!E19","v":"ASA Saint Martial"}]
[null,{"$f":"Rallye!E21","v":"Championnat de France 2ème Div"}]
[null,"HORAIRES",null,null,"Date","Ouverture","Fermeture",null,"Ouverture","Fermeture"]
[null,"Vérifications Administratives le :",null,null,{"$f":"Rallye!E23","v":"2018-09-15"},{"$f":"Rallye!G23","v":"08:00:00"},{"$f":"Rallye!I23","v":"11:15:00"},"et de",{"$f":"Rallye!K23","v":"00:00:00"},{"$f":"Rallye!M23","v":"00:00:00"}]
[null,null,null,"et le :",{"$f":"Rallye!E24","v":"00:00:00"},{"$f":"Rallye!G24","v":"00:00:00"},{"$f":"Rallye!I24","v":"00:00:00"},"et de",{"$f":"Rallye!K24","v":"00:00:00"},{"$f":"Rallye!M24","v":"00:00:00"}]
[null,"Vérifications  Techniques le :",null,null,{"$f":"Rallye!E25","v":"2018-09-15"},{"$f":"Rallye!G25","v":"08:30:00"},{"$f":"Rallye!I25","v":"11:30:00"},"et de",{"$f":"Rallye!K25","v":"00:00:00"},{"$f":"Rallye!M25","v":"00:00:00"}]
[null,null,null,"et le :",{"$f":"Rallye!E26","v":"00:00:00"},{"$f":"Rallye!G26","v":"00:00:00"},{"$f":"Rallye!I26","v":"00:00:00"},"et de",{"$f":"Rallye!K26","v":"00:00:00"},{"$f":"Rallye!M26","v":"00:00:00"}]
[]
[null,null,"ENGAGES","FORFAITS","ABSENTS","VERIF. ADM","VERIF. TECHN","NON CONF.","ADMIS au DEPART"]
[null,"Groupe 1",null,null,null,{"$f":"C17-D17-E17","v":0},{"$f":"F17","v":0},null,{"$f":"G17-H17","v":0}]
[]
[null,"Groupe 2",null,null,null,{"$f":"C19-D19-E19","v":0},{"$f":"F19","v":0},null,{"$f":"G19-H19","v":0}]
[]
[null,"Groupe 3",null,null,null,{"$f":"C21-D21-E21","v":0},{"$f":"F21","v":0},null,{"$f":"G21-H21","v":0}]
[]
[null,"Groupe 4",null,null,null,{"$f":"C23-D23-E23","v":0},{"$f":"F23","v":0},null,{"$f":"G23-H23","v":0}]
[]
[null,"Groupe 5",null,null,null,{"$f":"C25-D25-E25","v":0},{"$f":"F25","v":0},null,{"$f":"G25-H25","v":0}]
[]
[null,"Gr N VHC J1",null,null,null,{"$f":"C27-D27-E27","v":0},{"$f":"F27","v":0},null,{"$f":"G27-H27","v":0}]
[]
[null,"Gr A VHC J1",null,null,null,{"$f":"C29-D29-E29","v":0},{"$f":"F29","v":0},null,{"$f":"G29-H29","v":0}]
[]
[null,"Gr B VHC J1",null,null,null,{"$f":"C31-D31-E31","v":0},{"$f":"F31","v":0},null,{"$f":"G31-H31","v":0}]
[]
[null,"Gr N VHC J2",null,null,null,{"$f":"C33-D33-E33","v":0},{"$f":"F33","v":0},null,{"$f":"G33-H33","v":0}]
[null,null,null,null,null,{"$f":"C34-D34-E34","v":0}]
[null,"Gr A VHC J2",null,null,null,{"$f":"C35-D35-E35","v":0},{"$f":"F35","v":0},null,{"$f":"G35-H35","v":0}]
[null,"Gr B VHC J2",null,null,null,{"$f":"C36-D36-E36","v":0},{"$f":"F36","v":0},null,{"$f":"G36-H36","v":0}]
[null,"Classics",null,null,null,{"$f":"C37-D37-E37","v":0},{"$f":"F37","v":0},null,{"$f":"G37-H37","v":0}]
[null,"Total :",{"$f":"SUM(C17:C37)","v":0},0,0,0,0,0,0]
[]
[null,"Forfaits avant vérifications",null,null,"Non Présentés",null,null,"Refusés/Non Conformes Tech"]
[]
[null,"Numéro","Groupe",null,"Numéro","Groupe",null,"Numéro","Groupe"]
[]
[]
[]
[]
[]
[]
[]
[null,"Concurrents Pris sur Liste d'attente"]
[null,null,null,null,null,null,null,"Fait à :",{"$f":"Rallye!E17","v":"87500 St-YRIEX La PERCHE"}]
[null,"Numéro","Groupe",null,"Numéro","Groupe",null,"le :",{"$f":"TODAY()","v":"2018-12-16"}]
[null,null,null,null,null,null,null,"à :",{"$f":"NOW()","v":43450.393981712965}]
[null,null,null,null,null,null,null,"Le Directeur de Course"]
[null,null,null,null,null,null,null,{"$f":"Officiels!K15","v":"LORRE Joseph"}]
[null,null,null,null,null,null,null,"Lic :",{"$f":"Officiels!E15","v":"10395"}]
[]
[]
["VERIFICATIONS ADMINISTRATIVES"]
[]
[]
[null,"Nombre de concurrents engagés",null,null,null,null,null,{"$f":"C38","v":0}]
[null,"dont : "]
[]
[null,"Nombre de concurrents forfaits",null,null,null,null,null,{"$f":"D38","v":0}]
[null,"N° :",{"$f":"CONCATENATE(B43,\"  \",B44,\"  \",B45,\"  \",B46,\"  \",B47,\"  \",B48)","v":"          "}]
[]
[null,"Nombre de concurrents non présentés",null,null,null,null,null,{"$f":"E38","v":0}]
[null,"N° :",{"$f":"CONCATENATE(E43,\"  \",E44,\"  \",E45,\"  \",E46,\"  \",E47,\"  \",E48)","v":"          "}]
[]
[null,"Nombre de concurrents pris sur la liste d'attente",null,null,null,null,null,{"$f":"COUNT(B53:B55)","v":0}]
[null,"N° :",{"$f":"CONCATENATE(B53,\"  \",B54,\"  \",B55,\" \",E53,\" \",E54,\" \",E55)","v":"       "}]
[]
[null,"Nombre de concurrents vérifiés",null,null,null,null,null,{"$f":"I38","v":0}]
[]
[null,"Commentaires :"]
[]
[]
[]
[]
["VERIFICATIONS TECHNIQUES"]
[]
[null,"Nombre de véhicules attendus",null,null,null,null,null,{"$f":"H74","v":0}]
[]
[null,"Nombre de véhicules vérifiés",null,null,null,null,null,{"$f":"G38","v":0}]
[]
[null,"Nombre de véhicules présentant une/des anomalie(s) ou absent",null,null,null,null,null,{"$f":"H38","v":0}]
[null,"N° :",{"$f":"CONCATENATE(H43,\"  \",H44,\"  \",H45,\"  \",H46,\" \",H47,\" \",H48)","v":"        "}]
[]
[null,"Nombre de véhicules sans anomalies apparentes",null,null,null,null,null,{"$f":"I38","v":0}]
[]
[]
[null,"Commentaires :"]
[]
[]
[]
[]
[]
[null,"NOMBRE DE CONCURRENTS ",null,"VHC","AUTORISES A PRENDRE LE DEPART",null,null,{"$f":"I38","v":0},"Classics","VHRS"]
[null,null,null,null,null,null,null,null,{"$f":"I37","v":0}]
[null,"Répartition par Catégorie :"]
[null,null,"Groupe 1","Groupe 2","Groupe 3","Groupe 4","Groupe 5"]
[null,null,{"$f":"I17","v":0},{"$f":"I19","v":0},{"$f":"I21","v":0},{"$f":"I23","v":0},{"$f":"I25","v":0}]
[]
[null,null,"Gr N VHC J1","Gr A VHC J1","Gr B VHC J1","Gr N VHC J2","Gr A VHC J2","Gr B VHC J2"]
[null,null,{"$f":"I27","v":0},{"$f":"I29","v":0},{"$f":"I31","v":0},{"$f":"I33","v":0},{"$f":"I35","v":0},{"$f":"I36","v":0}]
[]
[null,"Réserves :"]
[]
[null,"Pièces Jointes : "]
[null,null,"Liste des autorisés au départ"]
[]
[]
[]
[]
[]
[null,"Fait à :",{"$f":"Rallye!E17","v":"87500 St-YRIEX La PERCHE"}]
[null,"le :",{"$f":"TODAY()","v":"2018-12-16"},null,null,null,"Le Directeur de Course"]
[null,"à :",{"$f":"NOW()","v":43450.393981712965},null,null,{"$f":"Officiels!K15","v":"LORRE Joseph"},null,null,"Lic :",{"$f":"Officiels!E15","v":"10395"}]

{"sheet":"Verifs_TT","index":4,"n_rows":130,"n_cols":12,"rows_kept":130,"cut":false,"hidden":false,"merged":[[8,1,8,4],[8,5,8,6],[4,1,4,4],[5,1,5,4],[5,5,7,9],[6,1,6,4],[7,1,7,4],[12,1,12,3],[9,6,9,7],[25,11,35,11],[22,1,22,3],[86,2,86,7],[64,1,64,3],[79,2,79,5],[25,1,25,3],[33,1,33,3],[17,11,24,11],[10,1,10,3],[17,1,17,3],[29,1,29,3],[129,1,129,4],[107,2,107,6],[123,1,123,4],[124,1,124,4],[127,1,127,4],[126,1,126,4],[123,6,123,9],[125,6,125,7],[124,6,124,8],[128,1,128,4],[128,7,128,9],[111,1,111,2],[114,1,114,8],[93,1,93,8],[99,1,99,9],[125,1,125,4],[112,1,112,8],[113,1,113,8],[122,1,122,4],[96,1,96,8],[94,1,94,8],[100,0,100,9],[98,1,98,8],[95,1,95,8],[97,1,97,8],[72,2,72,4],[58,9,58,10],[73,2,73,3],[72,6,72,8],[92,1,92,2],[63,1,63,3],[73,6,73,8],[83,2,83,7],[89,2,89,5],[80,3,80,5],[76,0,76,9],[36,1,36,3],[39,1,39,3],[48,1,48,3],[39,11,46,11],[50,1,50,3],[50,5,50,7],[50,9,50,11]]}
[]
[null,null,null,null,null,null,null,"Document n° : "]
[]
[]
[null,{"$f":"Rallye!E10","v":"16ème Rallye du PAYS de St-YRIEX"}]
[null,{"$f":" Rallye!E12","v":"15 et 16 Septembre 2018"},null,null,null,"RAPPORT n° 1 du Directeur de Course"]
[null,{"$f":"Rallye!E14","v":"LRSA Nouvelle Aquitaine Sud"}]
[null,{"$f":"Rallye!E19","v":"ASA Saint Martial"}]
[null,{"$f":"Rallye!E21","v":"Championnat de France 2ème Div"}]
[null,"HORAIRES",null,null,"Date","Ouverture","Fermeture",null,"Ouverture","Fermeture"]
[null,"Vérifications Administratives le :",null,null,{"$f":"Rallye!E23","v":"2018-09-15"},{"$f":"Rallye!G23","v":"08:00:00"},{"$f":"Rallye!I23","v":"11:15:00"},"et de",{"$f":"Rallye!K23","v":"00:00:00"},{"$f":"Rallye!M23","v":"00:00:00"}]
[null,null,null,"et le :",{"$f":"Rallye!E24","v":"00:00:00"},{"$f":"Rallye!G24","v":"00:00:00"},{"$f":"Rallye!I24","v":"00:00:00"},"et de",{"$f":"Rallye!K24","v":"00:00:00"},{"$f":"Rallye!M24","v":"00:00:00"}]
[null,"Vérifications  Techniques le :",null,null,{"$f":"Rallye!E25","v":"2018-09-15"},{"$f":"Rallye!G25","v":"08:30:00"},{"$f":"Rallye!I25","v":"11:30:00"},"et de",{"$f":"Rallye!K25","v":"00:00:00"},{"$f":"Rallye!M25","v":"00:00:00"}]
[null,null,null,"et le :",{"$f":"Rallye!E26","v":"00:00:00"},{"$f":"Rallye!G26","v":"00:00:00"},{"$f":"Rallye!I26","v":"00:00:00"},"et de",{"$f":"Rallye!K26","v":"00:00:00"},{"$f":"Rallye!M26","v":"00:00:00"}]
[]
[null,"GROUPE",null,"CYLINDREE","ENGAGES","FORFAITS","ABSENTS","VERIF. ADM","VERIF. TECH.","NON CONF.","ADMIS au DEPART"]
[null,null,null,null,null,null,null,null,null,"ABSENT"]
[null,"GROUPE T1 A (Essence et Diesel)",null,null,{"$f":"SUM(E19:E22)","v":0},0,0,0,0,0,0,{"$f":"K18+K23","v":0}]
[null,"Classe","T1 A 1","0 - 2000",null,null,null,{"$f":"(E19-(F19+G19))","v":0},{"$f":"H19","v":0},null,{"$f":"(I19-J19)","v":0}]
[null,"Classe","T1 A 2","2001 - 3000",null,null,null,{"$f":"(E20-(F20+G20))","v":0},{"$f":"H20","v":0},null,{"$f":"(I20-J20)","v":0}]
[null,"Classe","T1 A 3","3001 - 3600",null,null,null,{"$f":"(E21-(F21+G21))","v":0},{"$f":"H21","v":0},null,{"$f":"(I21-J21)","v":0}]
[null,"Classe","T1 A 4","+ 3600 / T1 FIA / T1 RR",null,null,null,{"$f":"(E22-(F22+G22))","v":0},{"$f":"H22","v":0},null,{"$f":"(I22-J22)","v":0}]
[null,"GROUPR T1B (Essence et Diesel)",null,null,{"$f":"SUM(E24:E25)","v":0},0,0,0,0,0,0]
[null,"Classe","T1 B 1","0 - 1600",null,null,null,{"$f":"(E24-(F24+G24))","v":0},{"$f":"H24","v":0},null,{"$f":"(I24-J24)","v":0}]
[null,"Classe","T1 B 2","1601 - 2000",null,null,null,{"$f":"(E25-(F25+G25))","v":0},{"$f":"H25","v":0},null,{"$f":"(I25-J25)","v":0}]
[null,"GROUPE T2",null,null,{"$f":"SUM(E27:E29)","v":0},0,0,0,0,0,0,{"$f":"K26+K30+K34","v":0}]
[null,"Classe","T2 1","0 - 2500 E",null,null,null,{"$f":"(E27-(F27+G27))","v":0},{"$f":"H27","v":0},null,{"$f":"(I27-J27)","v":0}]
[null,"Classe","T2 2"," + 2500 E",null,null,null,{"$f":"(E28-(F28+G28))","v":0},{"$f":"H28","v":0},null,{"$f":"(I28-J28)","v":0}]
[null,"Classe ","T2 D","Diesel",null,null,null,{"$f":"(E29-(F29+G29))","v":0},{"$f":"H29","v":0},null,{"$f":"(I29-J29)","v":0}]
[null,"GROUPE T2 B",null,null,{"$f":"SUM(E31:E33)","v":0},{"$f":"SUM(F31:F33)","v":0},0,0,0,0,0]
[null,"Classe","T2 B 1","0 -2500",null,null,null,{"$f":"(E31-(F31+G31))","v":0},{"$f":"H31","v":0},null,{"$f":"(I31-J31)","v":0}]
[null,"Classe","T2 B 2","2501 - 5000",null,null,null,{"$f":"(E32-(F32+G32))","v":0},{"$f":"H32","v":0},null,{"$f":"(I32-J32)","v":0}]
[null,"Classe","T2 B 3"," + 5000",null,null,null,{"$f":"(E33-(F33+G33))","v":0},{"$f":"H33","v":0},null,{"$f":"(I33-J33)","v":0}]
[null,"GROUPE T2 B +",null,null,{"$f":"SUM(E35:E36)","v":0},{"$f":"SUM(F35:F36)","v":0},0,0,0,0,0]
[null,"Classe","T2 B + 1","0 - 2500",null,null,null,{"$f":"(E35-(F35+G35))","v":0},{"$f":"H35","v":0},null,{"$f":"(I35-J35)","v":0}]
[null,"Classe","T2 B + 2","2501 - 3000",null,null,null,{"$f":"(E36-(F36+G36))","v":0},{"$f":"H36","v":0},null,{"$f":"(I36-J36)","v":0}]
[null,"GROUPE T3",null,null,{"$f":"E38+E39","v":0},{"$f":"F38+F39","v":0},{"$f":"G38+G39","v":0},{"$f":"SUM(H38:H39)","v":0},{"$f":"SUM(I38:I39)","v":0},{"$f":"SUM(J38:J39)","v":0},{"$f":"SUM(K38:K39)","v":0}]
[null,"Classe","T3 - 2 RM",null,null,null,null,{"$f":"(E38-(F38+G38))","v":0},{"$f":"H38","v":0},null,{"$f":"(I38-J38)","v":0}]
[null,"Classe","T3 - 4 RM",null,null,null,null,{"$f":"(E39-(F39+G39))","v":0},{"$f":"H39","v":0},null,{"$f":"(I39-J39)","v":0}]
[null,"GROUPE SSV",null,null,{"$f":"SUM(E41:E47)","v":0},0,0,0,0,0,0]
[null,"Classe",2,"0 - 880",null,null,null,{"$f":"(E41-(F41+G41))","v":0},{"$f":"H41","v":0},null,{"$f":"(I41-J41)","v":0}]
[null,"Classe",3,"0 - 880",null,null,null,0,0,null,0]
[null,"Classe",4,"+ 880 - 1050",null,null,null,0,0,null,0]
[null,"Classe",5,"+ 880 - 1050",null,null,null,0,0,null,0]
[null,"Classe",6,"0 - 1000",null,null,null,0,0,null,0]
[null,"Classe",7,"0 - 1000",null,null,null,0,0,null,0]
[null,null,null,null,null,null,null,0,0,null,0]
[]
[null,"TOTAL : ",null,null,{"$f":"E18+E23+E26+E30+E34+E40","v":0},0,0,0,0,0,0]
[]
[null,"Forfaits avant vérifications",null,null,null,"Non Présentés",null,null,null,"Refusés/Non Conformes Tech"]
[]
[null,"N°","Groupe","Classe",null,"N°","Groupe","Classe",null,"N°","Grp/Clas"]
[]
[]
[]
[]
[]
[null,null,null,null,null,null,null,null,null,"Divers"]
[]
[]
[]
[]
[]
[null,"Concurrents Pris sur Liste d'attente"]
[null,"Numéro","Groupe","Classe"]
[]
[]
[]
[]
[]
[]
[null,"Fait à :",{"$f":"Rallye!E17","v":"87500 St-YRIEX La PERCHE"},null,null,null,"Le Directeur de Course"]
[null,"le :",{"$f":"TODAY()","v":"2018-12-16"},null,null,null,{"$f":"Officiels!K15","v":"LORRE Joseph"}]
[null,"à :",{"$f":"NOW()","v":43450.393981712965},null,null,null,"Lic :",{"$f":"Officiels!E15","v":"10395"}]
[]
["VERIFICATIONS ADMINISTRATIVES"]
[]
[null,"Nombre de concurrents engagés",null,null,null,null,null,null,{"$f":"E49","v":0}]
[null,"dont : "]
[]
[]
[null,"Nombre de concurrents forfaits",null,null,"(avant l'ouverture des vérificatons)",null,null,null,{"$f":"F49","v":0}]
[null,"N° : ",{"$f":"CONCATENATE(B54,\"  \",B55,\"  \",B56,\"  \",B57,\"  \",B58,\"  \",B59,\"  \",B60,\"  \",B61,\"  \",B62,\" \",B63)","v":"                 "}]
[]
[null,"Nombre de concurrents non présentés",null,null,"(& forfait pendant vérifications)",null,null,null,{"$f":"G49","v":0}]
[null,null,{"$f":"CONCATENATE(F54,\"  \",F55,\"  \",F56,\"  \",F57,\"  \",F58,\"  \",F59,\"  \",F60,\"  \",F61,\"  \",F62,\" \",F63,\" \",F64,\" \",F65,\" \",F66,\" \",F67)","v":"                     "}]
[]
[null,"Nombre de concurrents pris sur la liste d'attente",null,null,null,null,null,null,{"$f":"COUNT(B67:B71)","v":0}]
[null,null,{"$f":"CONCATENATE(B67,\"  \",B68,\"  \",B69,\"  \",B70,\"  \",B71)","v":"        "}]
[]
[null,"Nombre de concurrents vérifiés administrativement",null,null,null,null,null,null,{"$f":"H49","v":0}]
[null,"Commentaires :"]
[]
[]
[]
[]
[]
[]
[]
["VERIFICATIONS TECHNIQUES"]
[]
[null,"Nombre de véhicules attendus",null,null,null,null,null,null,{"$f":"I49","v":0}]
[]
[null,"Nombre de véhicules vérifiés",null,null,null,null,null,null,{"$f":"I49","v":0}]
[]
[null,"Nombre de véhicules présentant une/des anomalie(s) ou absent",null,null,null,null,null,null,{"$f":"J49","v":0}]
[null,"N° : ",{"$f":"CONCATENATE(J54,\"  \",J55,\"  \",J56,\"  \",J57,\"  \",J58,\" \",J60,\" \",J61,\" \",J62,\" \",J63,\" \",J64)","v":"             "}]
[]
[null,"Nombre de véhicules sans anomalies apparentes",null,null,null,null,null,null,{"$f":"K49","v":0}]
[]
[null,"Commentaires :"]
[]
[]
[]
[]
[null,"Nombre de concurrents autorisés à prendre le départ",null,null,null,null,null,null,{"$f":"K49","v":0}]
[]
[null,null,"Répartition par groupe :","Gr T1 A","Gr T1 B","Gr T2","Gr T2 B","Gr T2 B+","Gr T3","SSV"]
[null,null,null,{"$f":"K18","v":0},{"$f":"K23","v":0},{"$f":"K26","v":0},{"$f":"K30","v":0},{"$f":"K34","v":0},{"$f":"K37","v":0},{"$f":"K41","v":0}]
[]
[null,"Pièces Jointes :"]
[]
[null,null,null,null,null,"Fait à :",{"$f":"Rallye!E17","v":"87500 St-YRIEX La PERCHE"}]
[null,null,null,null,null,"le :",{"$f":"TODAY()","v":"2018-12-16"}]
[null,null,null,null,null,"à :",{"$f":"NOW()","v":43450.393981712965}]
[]
[{"$f":"A75","v":0},null,null,null,null,null,null,"Le Directeur de Course"]
[null,null,null,null,null,null,null,{"$f":"Officiels!K15","v":"LORRE Joseph"}]
[null,null,null,null,null,null,"Lic :",{"$f":"Officiels!E15","v":"10395"}]

{"sheet":"SOFT","index":5,"n_rows":43,"n_cols":9,"rows_kept":43,"cut":false,"hidden":false,"merged":[[10,4,10,6],[8,4,8,6],[0,0,0,8],[1,0,1,8],[4,0,4,8],[6,4,6,8],[3,0,3,8],[2,3,2,6],[8,7,8,8]]}
["     DOCUMENT A RETOURNER AVEC LES CLASSEMENTS ( Rapport de clôture avec numéro de licence)"]
["          Sté Patrick Soft, Service Classement  F . F . S . A . FAX : 04 66 04 82 68"]
[null,null,null,"EPREUVE : RALLYE"]
["REPARTITION DES CONCURENTS"]
["AUTORISES A PRENDRE LE DEPART"]
[]
[null,null,null,"NOM DE L'EPREUVE :",{"$f":"Rallye!E10","v":"16ème Rallye du PAYS de St-YRIEX"}]
[]
[null,null,null,"DATE :",{"$f":"Rallye!E12","v":"15 et 16 Septembre 2018"},null,null,{"$f":"Rallye!E15","v":"N 511 du 3/07/2018"}]
[]
[null,null,null,"ASA ORGANISATRICE :",{"$f":"Rallye!E19","v":"ASA Saint Martial"}]
[]
[null,null,null,"CONTACT (classement) :"]
[]
[null,null,null,"Tél / Fax - Horaires :"]
[]
[null,"N / FN",null,"N FN/1","N FN/2","N2 Série","N FN/3","N FN/4"]
[null,{"$f":"SUM(D18:H18)","v":12},null,{"$f":"Verifs_mod!L19","v":1},{"$f":"Verifs_mod!K21+Verifs_mod!K23","v":4},{"$f":"Verifs_mod!K22+Verifs_mod!K24","v":2},{"$f":"Verifs_mod!L25","v":2},{"$f":"Verifs_mod!L27","v":3}]
[]
[]
[null,"A / FA",null,"A FA/5","A FA/6","A FA/7","A FA/8"]
[null,{"$f":"D22+E22+F22+G22+H22+D26+E26+F26+G26+H26","v":11},null,{"$f":"Verifs_mod!L31","v":1},{"$f":"Verifs_mod!L34","v":1},{"$f":"Verifs_mod!L37","v":2},{"$f":"Verifs_mod!L41","v":1}]
[]
[]
[null,null,null,"A FA/5K","A FA/6K","A FA/7K","A/7S","A FA/8W"]
[null,null,null,{"$f":"Verifs_mod!L33","v":0},{"$f":"Verifs_mod!L36","v":3},{"$f":"Verifs_mod!L39","v":1},{"$f":"Verifs_mod!L40","v":1},{"$f":"Verifs_mod!L43","v":1}]
[]
[null,"R",null,"R/1","R/2","R/2J","R/3","R/4","R/5"]
[null,{"$f":"SUM(D29:I29)","v":20},null,{"$f":"Verifs_mod!L46","v":3},{"$f":"Verifs_mod!L48","v":2},{"$f":"Verifs_mod!L50","v":0},{"$f":"Verifs_mod!L51","v":7},{"$f":"Verifs_mod!L54","v":1},{"$f":"Verifs_mod!L55","v":7}]
[]
[null,"F2000",null,"F2000/11","F2000/12","F2000/13","F2000/14"]
[null,{"$f":"SUM(D32:G32)","v":22},null,{"$f":"Verifs_mod!K63","v":0},{"$f":"Verifs_mod!K64","v":4},{"$f":"Verifs_mod!K65","v":5},{"$f":"Verifs_mod!K66","v":13}]
[]
[null,"GT ",null,"GT/9","GT/10"]
[null,{"$f":"SUM(D35:E35)","v":3},null,{"$f":"Verifs_mod!K58","v":0},{"$f":"Verifs_mod!K59","v":3}]
[null,null,null,null,null,null,null,null," "]
[null,"GT+",null,"GT+/15"]
[null,{"$f":"D38","v":1},null,{"$f":"Verifs_mod!K60","v":1}]
[]
["NOMBRE DE CONCURRENTS ADMIS A PRENDRE LE DEPART :",null,null,null,null,null,null,{"$f":"B18+B22+B29+B32+B35+B38","v":69}]
[]
["Patrick Soft - BP 98217 - 115 Av , Amédée Bollée - 30942 NIMES Cedex 9"]
["    TEL : 04 66 04 82 71   -    Fax :  04 66 04 82 68     -    htp://www.patricksoft.fr"]

{"sheet":"Horaires Etap1","index":6,"n_rows":53,"n_cols":22,"rows_kept":53,"cut":false,"hidden":false,"merged":[[6,8,6,14],[2,1,2,7],[3,1,3,7],[4,1,4,7],[6,1,6,7],[3,11,4,14],[3,8,4,10],[5,8,5,14],[5,1,5,7]]}
[]
[]
[null,{"$f":"Rallye!E10","v":"16ème Rallye du PAYS de St-YRIEX"}]
[null,{"$f":"Rallye!E11","v":"3ème Rallye VHC du PAYS de St-YRIEX"},null,null,null,null,null,null,"HORAIRES",null,null,{"$f":"Rallye!E48","v":"1ère Etape  Sections  1 - 2"},null,null,null,"Durée Prévue  Etape =  ",null,null,null,null,null,{"$f":"((SUM(P11:P53)+(TIME(0,ABS(Q5+V5+V7+V9+R10+S10+T10+T5+(Q7*2)-1),0))))","v":"07:56:00"}]
[null,{"$f":"Rallye!E19","v":"ASA Saint Martial"},null,null,null,null,null,null,null,null,null,null,null,null,null,"En course =",{"$f":"Etap1!G10","v":69},null,"nb VHC :",5]
[null,null,null,null,null,null,null,null,{"$f":"Rallye!E50","v":"2018-09-15"},null,null,null,null,null,null,"Durée ES =",{"$f":"V11-Q11+$U$10","v":"03:09:00"}]
[null,{"$f":"Rallye!E14","v":"LRSA Nouvelle Aquitaine Sud"},null,null,null,null,null,null,null,null,null,null,null,null,null,"nb 2' =",2,null,null,{"$f":"IF(T5>0,TIME(0,ABS(T5)-1,0))","v":"00:04:00"},"Tps ajouté =",10]
[null,null,null,null,"Orga","TRICO","Autorité","Promo 1","Promo 2","Promo 3","Observ","Info-Sono","000","00","0 Mod","TEMPS","1ère Voiture","Dern VHC","0 Mod","1ère Voiture","Dern Voiture","BALAI"]
[null,null,null,null,-90,-75,-60,-40,-39,-38,-37,-30,-25,-15,-10,"Imparti","VHC",null,5,"Modernes","Théorique",2]
[null,null,{"$f":"Rallye!C54","v":"1ère"},{"$f":"Rallye!D54","v":"Section"},{"$f":"TIME(0,ABS(E9),0)","v":"01:30:00"},"01:15:00","01:00:00","00:40:00","00:39:00","00:38:00","00:37:00","00:30:00","00:25:00","00:15:00","00:10:00",null,null,{"$f":"TIME(0,ABS(R9),0)","v":"00:00:00"},{"$f":"TIME(0,ABS(S9),0)","v":"00:05:00"},"00:10:00",{"$f":"TIME(0,ABS((T5-1)+(Q5-1)+(Q7)+(V7)),0)","v":"01:24:00"},{"$f":"TIME(0,ABS(V9),0)","v":"00:02:00"}]
[null,{"$f":"Rallye!B55","v":"C.H. :"},{"$f":"Rallye!C55","v":"0"},{"$f":"Rallye!D55","v":"Sortie Parc Départ"},{"$f":"$Q11-E$10","v":"13:10:00"},{"$f":"$Q11-F$10","v":"13:25:00"},{"$f":"$Q11-G$10","v":"13:40:00"},{"$f":"$Q11-H$10","v":"14:00:00"},{"$f":"IF(AND(H11<>\"\",Q11>0),($Q11-I$10),)","v":"14:01:00"},{"$f":"IF(AND(H11<>\"\",Q11>0),($Q11-J$10),)","v":"14:02:00"},{"$f":"IF(AND(J11<>\"\",Q11>0),($Q11-K$10),)","v":"14:03:00"},{"$f":"IF(AND(J11<>\"\",Q11>0),($Q11-L$10),)","v":"14:10:00"},{"$f":"IF(AND(K11<>\"\",Q11>0),($Q11-M$10),)","v":"14:15:00"},{"$f":"IF(AND(M11<>\"\",Q11>0),($Q11-N$10),)","v":"14:25:00"},{"$f":"IF(AND(N11<>\"\",Q11>0),($Q11-O$10),)","v":"14:30:00"},{"$f":"Rallye!F54","v":"00:00:00"},{"$f":"Rallye!G50","v":"14:40:00"},{"$f":"Q11+T_inf_Mod+T_Etp1_VHC","v":"14:44:00"},{"$f":"R11+T_0_Mod","v":"14:49:00"},{"$f":"S11+T_1_Mod","v":"14:59:00"},{"$f":"IF(D11<>\"\",T11+$U$10,)","v":"16:23:00"},{"$f":"IF(D11>0,U11+$V$10,)","v":"16:25:00"}]
[null,{"$f":"Rallye!B56","v":"C.H. :"},{"$f":"Rallye!C56","v":"0A"},{"$f":"Rallye!D56","v":"Entrée Assist (Stade St Yriex)"},{"$f":"IF(AND(Rallye!D56<>\"\",Rallye!D56<>\"Section\"),($Q12-E$10),)","v":"13:15:00"},{"$f":"IF(AND(Rallye!D56<>\"\",Rallye!D56<>\"Section\"),($Q12-F$10),)","v":"13:30:00"},{"$f":"IF(AND(Rallye!D56<>\"\",Rallye!D56<>\"Section\"),($Q12-G$10),)","v":"13:45:00"},{"$f":"IF(AND(Rallye!D56<>\"\",Rallye!D56<>\"Section\"),($Q12-H$10),)","v":"14:05:00"},{"$f":"IF(AND(H12<>\"\",Q12>0),($Q12-I$10),)","v":"14:06:00"},{"$f":"IF(AND(H12<>\"\",Q12>0),($Q12-J$10),)","v":"14:07:00"},{"$f":"IF(AND(Rallye!D56<>\"\",Rallye!D56<>\"Section\"),($Q12-K$10),)","v":"14:08:00"},{"$f":"IF(AND(Rallye!D56<>\"\",Rallye!D56<>\"Section\"),($Q12-L$10),)","v":"14:15:00"},{"$f":"IF(AND(Rallye!D56<>\"\",Rallye!D56<>\"Section\"),($Q12-M$10),)","v":"14:20:00"},{"$f":"IF(AND(Rallye!D56<>\"\",Rallye!D56<>\"Section\"),($Q12-N$10),)","v":"14:30:00"},{"$f":"IF(AND(Rallye!D56<>\"\",Rallye!D56<>\"Section\"),($Q12-O$10),)","v":"14:35:00"},{"$f":"Rallye!F55","v":"00:05:00"},{"$f":"IF(P12>0,IF(OR(Rallye!D56<>\"\",Rallye!D56<>\"Section\"),Q11+P12,),Q11)","v":"14:45:00"},{"$f":"IF(Q12>0,IF(AND(Rallye!D56<>\"\",Rallye!D56<>\"Section\"),Q12+T_Etp1_VHC+T_inf_Mod,),0)","v":"14:49:00"},{"$f":"IF(Q12>0,IF(AND(Rallye!D56<>\"\",Rallye!D56<>\"Section\"),R12+T_0_Mod,),0)","v":"14:54:00"},{"$f":"IF(P12>0,IF(AND(Rallye!D56<>\"\",Rallye!D56<>\"Section\"),T11+P12,),T11)","v":"15:04:00"},{"$f":"IF(AND(Rallye!D56<>\"\",Rallye!D56<>\"Section\"),T12+$U$10,)","v":"16:28:00"},{"$f":"IF(AND(Rallye!D56<>\"\",Rallye!D56<>\"Section\"),U12+$V$10,)","v":"16:30:00"}]
[null,{"$f":"Rallye!B57","v":"C.H. :"},{"$f":"Rallye!C57","v":"0B"},{"$f":"Rallye!D57","v":"Sortie Assistance"},{"$f":"IF(AND(Rallye!D57<>\"\",Rallye!D57<>\"Section\"),($Q13-E$10),)","v":"13:30:00"},{"$f":"IF(AND(Rallye!D57<>\"\",Rallye!D57<>\"Section\"),($Q13-F$10),)","v":"13:45:00"},{"$f":"IF(AND(Rallye!D57<>\"\",Rallye!D57<>\"Section\"),($Q13-G$10),)","v":"14:00:00"},{"$f":"IF(AND(Rallye!D57<>\"\",Rallye!D57<>\"Section\"),($Q13-H$10),)","v":"14:20:00"},{"$f":"IF(AND(H13<>\"\",Q13>0),($Q13-I$10),)","v":"14:21:00"},{"$f":"IF(AND(H13<>\"\",Q13>0),($Q13-J$10),)","v":"14:22:00"},{"$f":"IF(AND(Rallye!D57<>\"\",Rallye!D57<>\"Section\"),($Q13-K$10),)","v":"14:23:00"},{"$f":"IF(AND(Rallye!D57<>\"\",Rallye!D57<>\"Section\"),($Q13-L$10),)","v":"14:30:00"},{"$f":"IF(AND(Rallye!D57<>\"\",Rallye!D57<>\"Section\"),($Q13-M$10),)","v":"14:35:00"},{"$f":"IF(AND(Rallye!D57<>\"\",Rallye!D57<>\"Section\"),($Q13-N$10),)","v":"14:45:00"},{"$f":"IF(AND(Rallye!D57<>\"\",Rallye!D57<>\"Section\"),($Q13-O$10),)","v":"14:50:00"},{"$f":"Rallye!F56","v":"00:15:00"},{"$f":"IF(P13>0,IF(OR(Rallye!D57<>\"\",Rallye!D57<>\"Section\"),Q12+P13,),Q12)","v":"15:00:00"},{"$f":"IF(Q13>0,IF(AND(Rallye!D57<>\"\",Rallye!D57<>\"Section\"),Q13+T_Etp1_VHC+T_inf_Mod,),0)","v":"15:04:00"},{"$f":"IF(Q13>0,IF(AND(Rallye!D57<>\"\",Rallye!D57<>\"Section\"),R13+T_0_Mod,),0)","v":"15:09:00"},{"$f":"IF(P13>0,IF(AND(Rallye!D57<>\"\",Rallye!D57<>\"Section\"),T12+P13,),T12)","v":"15:19:00"},{"$f":"IF(AND(Rallye!D57<>\"\",Rallye!D57<>\"Section\"),T13+$U$10,)","v":"16:43:00"},{"$f":"IF(AND(Rallye!D57<>\"\",Rallye!D57<>\"Section\"),U13+$V$10,)","v":"16:45:00"}]
[null,{"$f":"Rallye!B58","v":"C.H. :"},{"$f":"Rallye!C58","v":"1"},{"$f":"Rallye!D58","v":"Avant Départ ES 1"},{"$f":"IF(AND(Rallye!D58<>\"\",Rallye!D58<>\"Section\"),($Q14-E$10),)","v":"13:42:00"},{"$f":"IF(AND(Rallye!D58<>\"\",Rallye!D58<>\"Section\"),($Q14-F$10),)","v":"13:57:00"},{"$f":"IF(AND(Rallye!D58<>\"\",Rallye!D58<>\"Section\"),($Q14-G$10),)","v":"14:12:00"},{"$f":"IF(AND(Rallye!D58<>\"\",Rallye!D58<>\"Section\"),($Q14-H$10),)","v":"14:32:00"},{"$f":"IF(AND(Rallye!D58<>\"\",Rallye!D58<>\"Section\"),($Q14-I$10),)","v":"14:33:00"},{"$f":"IF(AND(Rallye!D58<>\"\",Rallye!D58<>\"Section\"),($Q14-J$10),)","v":"14:34:00"},{"$f":"IF(AND(Rallye!D58<>\"\",Rallye!D58<>\"Section\"),($Q14-K$10),)","v":"14:35:00"},{"$f":"IF(AND(Rallye!D58<>\"\",Rallye!D58<>\"Section\"),($Q14-L$10),)","v":"14:42:00"},{"$f":"IF(AND(Rallye!D58<>\"\",Rallye!D58<>\"Section\"),($Q14-M$10),)","v":"14:47:00"},{"$f":"IF(AND(Rallye!D58<>\"\",Rallye!D58<>\"Section\"),($Q14-N$10),)","v":"14:57:00"},{"$f":"IF(AND(Rallye!D58<>\"\",Rallye!D58<>\"Section\"),($Q14-O$10),)","v":"15:02:00"},{"$f":"Rallye!F57","v":"00:12:00"},{"$f":"IF(P14>0,IF(OR(Rallye!D58<>\"\",Rallye!D58<>\"Section\"),Q13+P14,),Q13)","v":"15:12:00"},{"$f":"IF(Q14>0,IF(AND(Rallye!D58<>\"\",Rallye!D58<>\"Section\"),Q14+T_Etp1_VHC+T_inf_Mod,),0)","v":"15:16:00"},{"$f":"IF(Q14>0,IF(AND(Rallye!D58<>\"\",Rallye!D58<>\"Section\"),R14+T_0_Mod,),0)","v":"15:21:00"},{"$f":"IF(P14>0,IF(AND(Rallye!D58<>\"\",Rallye!D58<>\"Section\"),T13+P14,),T13)","v":"15:31:00"},{"$f":"IF(AND(Rallye!D58<>\"\",Rallye!D58<>\"Section\"),T14+$U$10,)","v":"16:55:00"},{"$f":"IF(AND(Rallye!D58<>\"\",Rallye!D58<>\"Section\"),U14+$V$10,)","v":"16:57:00"}]
[null,{"$f":"Rallye!B59","v":"Départ E.S. :"},{"$f":"Rallye!C59","v":"1"},{"$f":"Rallye!D59","v":"Le BOCAGE 1 (11,5 Kms)"},{"$f":"IF(AND(Rallye!D59<>\"\",Rallye!D59<>\"Section\"),($Q15-E$10),)","v":"13:45:00"},{"$f":"IF(AND(Rallye!D59<>\"\",Rallye!D59<>\"Section\"),($Q15-F$10),)","v":"14:00:00"},{"$f":"IF(AND(Rallye!D59<>\"\",Rallye!D59<>\"Section\"),($Q15-G$10),)","v":"14:15:00"},{"$f":"IF(AND(Rallye!D59<>\"\",Rallye!D59<>\"Section\"),($Q15-H$10),)","v":"14:35:00"},{"$f":"IF(AND(Rallye!D59<>\"\",Rallye!D59<>\"Section\"),($Q15-I$10),)","v":"14:36:00"},{"$f":"IF(AND(Rallye!D59<>\"\",Rallye!D59<>\"Section\"),($Q15-J$10),)","v":"14:37:00"},{"$f":"IF(AND(Rallye!D59<>\"\",Rallye!D59<>\"Section\"),($Q15-K$10),)","v":"14:38:00"},{"$f":"IF(AND(Rallye!D59<>\"\",Rallye!D59<>\"Section\"),($Q15-L$10),)","v":"14:45:00"},{"$f":"IF(AND(Rallye!D59<>\"\",Rallye!D59<>\"Section\"),($Q15-M$10),)","v":"14:50:00"},{"$f":"IF(AND(Rallye!D59<>\"\",Rallye!D59<>\"Section\"),($Q15-N$10),)","v":"15:00:00"},{"$f":"IF(AND(Rallye!D59<>\"\",Rallye!D59<>\"Section\"),($Q15-O$10),)","v":"15:05:00"},{"$f":"Rallye!F58","v":"00:03:00"},{"$f":"IF(P15>0,IF(OR(Rallye!D59<>\"\",Rallye!D59<>\"Section\"),Q14+P15,),Q14)","v":"15:15:00"},{"$f":"IF(Q15>0,IF(AND(Rallye!D59<>\"\",Rallye!D59<>\"Section\"),Q15+T_Etp1_VHC+T_inf_Mod,),0)","v":"15:19:00"},{"$f":"IF(Q15>0,IF(AND(Rallye!D59<>\"\",Rallye!D59<>\"Section\"),R15+T_0_Mod,),0)","v":"15:24:00"},{"$f":"IF(P15>0,IF(AND(Rallye!D59<>\"\",Rallye!D59<>\"Section\"),T14+P15,),T14)","v":"15:34:00"},{"$f":"IF(AND(Rallye!D59<>\"\",Rallye!D59<>\"Section\"),T15+$U$10,)","v":"16:58:00"},{"$f":"IF(AND(Rallye!D59<>\"\",Rallye!D59<>\"Section\"),U15+$V$10,)","v":"17:00:00"}]
[null,{"$f":"Rallye!B60","v":"Arriv. E.S. :"},{"$f":"Rallye!C60","v":"1"},{"$f":"Rallye!D60","v":0},{"$f":"IF(AND(Rallye!D60<>\"\",Rallye!D60<>\"Section\"),($Q16-E$10),)","v":"00:00:00"},{"$f":"IF(AND(Rallye!D60<>\"\",Rallye!D60<>\"Section\"),($Q16-F$10),)","v":"00:00:00"},{"$f":"IF(AND(Rallye!D60<>\"\",Rallye!D60<>\"Section\"),($Q16-G$10),)","v":"00:00:00"},{"$f":"IF(AND(Rallye!D60<>\"\",Rallye!D60<>\"Section\"),($Q16-H$10),)","v":"00:00:00"},{"$f":"IF(AND(Rallye!D60<>\"\",Rallye!D60<>\"Section\"),($Q16-I$10),)","v":"00:00:00"},{"$f":"IF(AND(Rallye!D60<>\"\",Rallye!D60<>\"Section\"),($Q16-J$10),)","v":"00:00:00"},{"$f":"IF(AND(Rallye!D60<>\"\",Rallye!D60<>\"Section\"),($Q16-K$10),)","v":"00:00:00"},{"$f":"IF(AND(Rallye!D60<>\"\",Rallye!D60<>\"Section\"),($Q16-L$10),)","v":"00:00:00"},{"$f":"IF(AND(Rallye!D60<>\"\",Rallye!D60<>\"Section\"),($Q16-M$10),)","v":"00:00:00"},{"$f":"IF(AND(Rallye!D60<>\"\",Rallye!D60<>\"Section\"),($Q16-N$10),)","v":"00:00:00"},{"$f":"IF(AND(Rallye!D60<>\"\",Rallye!D60<>\"Section\"),($Q16-O$10),)","v":"00:00:00"},{"$f":"Rallye!F59","v":"00:00:00"},{"$f":"IF(P16>0,IF(OR(Rallye!D60<>\"\",Rallye!D60<>\"Section\"),Q15+P16,),Q15)","v":"15:15:00"},{"$f":"IF(Q16>0,IF(AND(Rallye!D60<>\"\",Rallye!D60<>\"Section\"),Q16+T_Etp1_VHC+T_inf_Mod,),0)","v":"00:00:00"},{"$f":"IF(Q16>0,IF(AND(Rallye!D60<>\"\",Rallye!D60<>\"Section\"),R16+T_0_Mod,),0)","v":"00:00:00"},{"$f":"IF(P16>0,IF(AND(Rallye!D60<>\"\",Rallye!D60<>\"Section\"),T15+P16,),T15)","v":"15:34:00"},{"$f":"IF(AND(Rallye!D60<>\"\",Rallye!D60<>\"Section\"),T16+$U$10,)","v":"00:00:00"},{"$f":"IF(AND(Rallye!D60<>\"\",Rallye!D60<>\"Section\"),U16+$V$10,)","v":"00:00:00"}]
[null,{"$f":"Rallye!B61","v":"C.H. :"},{"$f":"Rallye!C61","v":"2"},{"$f":"Rallye!D61","v":"Avant Départ ES 2"},{"$f":"IF(AND(Rallye!D61<>\"\",Rallye!D61<>\"Section\"),($Q17-E$10),)","v":"14:25:00"},{"$f":"IF(AND(Rallye!D61<>\"\",Rallye!D61<>\"Section\"),($Q17-F$10),)","v":"14:40:00"},{"$f":"IF(AND(Rallye!D61<>\"\",Rallye!D61<>\"Section\"),($Q17-G$10),)","v":"14:55:00"},{"$f":"IF(AND(Rallye!D61<>\"\",Rallye!D61<>\"Section\"),($Q17-H$10),)","v":"15:15:00"},{"$f":"IF(AND(Rallye!D61<>\"\",Rallye!D61<>\"Section\"),($Q17-I$10),)","v":"15:16:00"},{"$f":"IF(AND(Rallye!D61<>\"\",Rallye!D61<>\"Section\"),($Q17-J$10),)","v":"15:17:00"},{"$f":"IF(AND(Rallye!D61<>\"\",Rallye!D61<>\"Section\"),($Q17-K$10),)","v":"15:18:00"},{"$f":"IF(AND(Rallye!D61<>\"\",Rallye!D61<>\"Section\"),($Q17-L$10),)","v":"15:25:00"},{"$f":"IF(AND(Rallye!D61<>\"\",Rallye!D61<>\"Section\"),($Q17-M$10),)","v":"15:30:00"},{"$f":"IF(AND(Rallye!D61<>\"\",Rallye!D61<>\"Section\"),($Q17-N$10),)","v":"15:40:00"},{"$f":"IF(AND(Rallye!D61<>\"\",Rallye!D61<>\"Section\"),($Q17-O$10),)","v":"15:45:00"},{"$f":"Rallye!F60","v":"00:40:00"},{"$f":"IF(P17>0,IF(OR(Rallye!D61<>\"\",Rallye!D61<>\"Section\"),Q16+P17,),Q16)","v":"15:55:00"},{"$f":"IF(Q17>0,IF(AND(Rallye!D61<>\"\",Rallye!D61<>\"Section\"),Q17+T_Etp1_VHC+T_inf_Mod,),0)","v":"15:59:00"},{"$f":"IF(Q17>0,IF(AND(Rallye!D61<>\"\",Rallye!D61<>\"Section\"),R17+T_0_Mod,),0)","v":"16:04:00"},{"$f":"IF(P17>0,IF(AND(Rallye!D61<>\"\",Rallye!D61<>\"Section\"),T16+P17,),T16)","v":"16:14:00"},{"$f":"IF(AND(Rallye!D61<>\"\",Rallye!D61<>\"Section\"),T17+$U$10,)","v":"17:38:00"},{"$f":"IF(AND(Rallye!D61<>\"\",Rallye!D61<>\"Section\"),U17+$V$10,)","v":"17:40:00"}]
[null,{"$f":"Rallye!B62","v":"Départ E.S. :"},{"$f":"Rallye!C62","v":"2"},{"$f":"Rallye!D62","v":"Le TINDEIX 1 (8,75 Kms)"},{"$f":"IF(AND(Rallye!D62<>\"\",Rallye!D62<>\"Section\"),($Q18-E$10),)","v":"14:28:00"},{"$f":"IF(AND(Rallye!D62<>\"\",Rallye!D62<>\"Section\"),($Q18-F$10),)","v":"14:43:00"},{"$f":"IF(AND(Rallye!D62<>\"\",Rallye!D62<>\"Section\"),($Q18-G$10),)","v":"14:58:00"},{"$f":"IF(AND(Rallye!D62<>\"\",Rallye!D62<>\"Section\"),($Q18-H$10),)","v":"15:18:00"},{"$f":"IF(AND(Rallye!D62<>\"\",Rallye!D62<>\"Section\"),($Q18-I$10),)","v":"15:19:00"},{"$f":"IF(AND(Rallye!D62<>\"\",Rallye!D62<>\"Section\"),($Q18-J$10),)","v":"15:20:00"},{"$f":"IF(AND(Rallye!D62<>\"\",Rallye!D62<>\"Section\"),($Q18-K$10),)","v":"15:21:00"},{"$f":"IF(AND(Rallye!D62<>\"\",Rallye!D62<>\"Section\"),($Q18-L$10),)","v":"15:28:00"},{"$f":"IF(AND(Rallye!D62<>\"\",Rallye!D62<>\"Section\"),($Q18-M$10),)","v":"15:33:00"},{"$f":"IF(AND(Rallye!D62<>\"\",Rallye!D62<>\"Section\"),($Q18-N$10),)","v":"15:43:00"},{"$f":"IF(AND(Rallye!D62<>\"\",Rallye!D62<>\"Section\"),($Q18-O$10),)","v":"15:48:00"},{"$f":"Rallye!F61","v":"00:03:00"},{"$f":"IF(P18>0,IF(OR(Rallye!D62<>\"\",Rallye!D62<>\"Section\"),Q17+P18,),Q17)","v":"15:58:00"},{"$f":"IF(Q18>0,IF(AND(Rallye!D62<>\"\",Rallye!D62<>\"Section\"),Q18+T_Etp1_VHC+T_inf_Mod,),0)","v":"16:02:00"},{"$f":"IF(Q18>0,IF(AND(Rallye!D62<>\"\",Rallye!D62<>\"Section\"),R18+T_0_Mod,),0)","v":"16:07:00"},{"$f":"IF(P18>0,IF(AND(Rallye!D62<>\"\",Rallye!D62<>\"Section\"),T17+P18,),T17)","v":"16:17:00"},{"$f":"IF(AND(Rallye!D62<>\"\",Rallye!D62<>\"Section\"),T18+$U$10,)","v":"17:41:00"},{"$f":"IF(AND(Rallye!D62<>\"\",Rallye!D62<>\"Section\"),U18+$V$10,)","v":"17:43:00"}]
[null,{"$f":"Rallye!B63","v":"Arriv. E.S. :"},{"$f":"Rallye!C63","v":"2"},{"$f":"Rallye!D63","v":0},{"$f":"IF(AND(Rallye!D63<>\"\",Rallye!D63<>\"Section\"),($Q19-E$10),)","v":"00:00:00"},{"$f":"IF(AND(Rallye!D63<>\"\",Rallye!D63<>\"Section\"),($Q19-F$10),)","v":"00:00:00"},{"$f":"IF(AND(Rallye!D63<>\"\",Rallye!D63<>\"Section\"),($Q19-G$10),)","v":"00:00:00"},{"$f":"IF(AND(Rallye!D63<>\"\",Rallye!D63<>\"Section\"),($Q19-H$10),)","v":"00:00:00"},{"$f":"IF(AND(Rallye!D63<>\"\",Rallye!D63<>\"Section\"),($Q19-I$10),)","v":"00:00:00"},{"$f":"IF(AND(Rallye!D63<>\"\",Rallye!D63<>\"Section\"),($Q19-J$10),)","v":"00:00:00"},{"$f":"IF(AND(Rallye!D63<>\"\",Rallye!D63<>\"Section\"),($Q19-K$10),)","v":"00:00:00"},{"$f":"IF(AND(Rallye!D63<>\"\",Rallye!D63<>\"Section\"),($Q19-L$10),)","v":"00:00:00"},{"$f":"IF(AND(Rallye!D63<>\"\",Rallye!D63<>\"Section\"),($Q19-M$10),)","v":"00:00:00"},{"$f":"IF(AND(Rallye!D63<>\"\",Rallye!D63<>\"Section\"),($Q19-N$10),)","v":"00:00:00"},{"$f":"IF(AND(Rallye!D63<>\"\",Rallye!D63<>\"Section\"),($Q19-O$10),)","v":"00:00:00"},{"$f":"Rallye!F62","v":"00:00:00"},{"$f":"IF(P19>0,IF(AND(Rallye!D63<>\"\",Rallye!D63<>\"Section\"),Q18+P19,),Q18)","v":"15:58:00"},{"$f":"IF(Q19>0,IF(AND(Rallye!D63<>\"\",Rallye!D63<>\"Section\"),Q19+T_Etp1_VHC+T_inf_Mod,),0)","v":"00:00:00"},{"$f":"IF(Q19>0,IF(AND(Rallye!D63<>\"\",Rallye!D63<>\"Section\"),R19+T_0_Mod,),0)","v":"00:00:00"},{"$f":"IF(P19>0,IF(AND(Rallye!D63<>\"\",Rallye!D63<>\"Section\"),T18+P19,),T18)","v":"16:17:00"},{"$f":"IF(AND(Rallye!D63<>\"\",Rallye!D63<>\"Section\"),T19+$U$10,)","v":"00:00:00"},{"$f":"IF(AND(Rallye!D63<>\"\",Rallye!D63<>\"Section\"),U19+$V$10,)","v":"00:00:00"}]
[null,{"$f":"Rallye!B64","v":"C.H. :"},{"$f":"Rallye!C64","v":"3"},{"$f":"Rallye!D64","v":"Avant Départ ES 3"},{"$f":"IF(AND(Rallye!D64<>\"\",Rallye!D64<>\"Section\"),($Q20-E$10),)","v":"15:08:00"},{"$f":"IF(AND(Rallye!D64<>\"\",Rallye!D64<>\"Section\"),($Q20-F$10),)","v":"15:23:00"},{"$f":"IF(AND(Rallye!D64<>\"\",Rallye!D64<>\"Section\"),($Q20-G$10),)","v":"15:38:00"},{"$f":"IF(AND(Rallye!D64<>\"\",Rallye!D64<>\"Section\"),($Q20-H$10),)","v":"15:58:00"},{"$f":"IF(AND(Rallye!D64<>\"\",Rallye!D64<>\"Section\"),($Q20-I$10),)","v":"15:59:00"},{"$f":"IF(AND(Rallye!D64<>\"\",Rallye!D64<>\"Section\"),($Q20-J$10),)","v":"16:00:00"},{"$f":"IF(AND(Rallye!D64<>\"\",Rallye!D64<>\"Section\"),($Q20-K$10),)","v":"16:01:00"},{"$f":"IF(AND(Rallye!D64<>\"\",Rallye!D64<>\"Section\"),($Q20-L$10),)","v":"16:08:00"},{"$f":"IF(AND(Rallye!D64<>\"\",Rallye!D64<>\"Section\"),($Q20-M$10),)","v":"16:13:00"},{"$f":"IF(AND(Rallye!D64<>\"\",Rallye!D64<>\"Section\"),($Q20-N$10),)","v":"16:23:00"},{"$f":"IF(AND(Rallye!D64<>\"\",Rallye!D64<>\"Section\"),($Q20-O$10),)","v":"16:28:00"},{"$f":"Rallye!F63","v":"00:40:00"},{"$f":"IF(P20>0,IF(OR(Rallye!D64<>\"\",Rallye!D64<>\"Section\"),Q19+P20,),Q19)","v":"16:38:00"},{"$f":"IF(Q20>0,IF(AND(Rallye!D64<>\"\",Rallye!D64<>\"Section\"),Q20+T_Etp1_VHC+T_inf_Mod,),0)","v":"16:42:00"},{"$f":"IF(Q20>0,IF(AND(Rallye!D64<>\"\",Rallye!D64<>\"Section\"),R20+T_0_Mod,),0)","v":"16:47:00"},{"$f":"IF(P20>0,IF(AND(Rallye!D64<>\"\",Rallye!D64<>\"Section\"),T19+P20,),T19)","v":"16:57:00"},{"$f":"IF(AND(Rallye!D64<>\"\",Rallye!D64<>\"Section\"),T20+$U$10,)","v":"18:21:00"},{"$f":"IF(AND(Rallye!D64<>\"\",Rallye!D64<>\"Section\"),U20+$V$10,)","v":"18:23:00"}]
[null,{"$f":"Rallye!B65","v":"Départ E.S. :"},{"$f":"Rallye!C65","v":"3"},{"$f":"Rallye!D65","v":"Les PALLOUX 1 (10,80 Kms)"},{"$f":"IF(AND(Rallye!D65<>\"\",Rallye!D65<>\"Section\"),($Q21-E$10),)","v":"15:11:00"},{"$f":"IF(AND(Rallye!D65<>\"\",Rallye!D65<>\"Section\"),($Q21-F$10),)","v":"15:26:00"},{"$f":"IF(AND(Rallye!D65<>\"\",Rallye!D65<>\"Section\"),($Q21-G$10),)","v":"15:41:00"},{"$f":"IF(AND(Rallye!D65<>\"\",Rallye!D65<>\"Section\"),($Q21-H$10),)","v":"16:01:00"},{"$f":"IF(AND(Rallye!D65<>\"\",Rallye!D65<>\"Section\"),($Q21-I$10),)","v":"16:02:00"},{"$f":"IF(AND(Rallye!D65<>\"\",Rallye!D65<>\"Section\"),($Q21-J$10),)","v":"16:03:00"},{"$f":"IF(AND(Rallye!D65<>\"\",Rallye!D65<>\"Section\"),($Q21-K$10),)","v":"16:04:00"},{"$f":"IF(AND(Rallye!D65<>\"\",Rallye!D65<>\"Section\"),($Q21-L$10),)","v":"16:11:00"},{"$f":"IF(AND(Rallye!D65<>\"\",Rallye!D65<>\"Section\"),($Q21-M$10),)","v":"16:16:00"},{"$f":"IF(AND(Rallye!D65<>\"\",Rallye!D65<>\"Section\"),($Q21-N$10),)","v":"16:26:00"},{"$f":"IF(AND(Rallye!D65<>\"\",Rallye!D65<>\"Section\"),($Q21-O$10),)","v":"16:31:00"},{"$f":"Rallye!F64","v":"00:03:00"},{"$f":"IF(P21>0,IF(OR(Rallye!D65<>\"\",Rallye!D65<>\"Section\"),Q20+P21,),Q20)","v":"16:41:00"},{"$f":"IF(Q21>0,IF(AND(Rallye!D65<>\"\",Rallye!D65<>\"Section\"),Q21+T_Etp1_VHC+T_inf_Mod,),0)","v":"16:45:00"},{"$f":"IF(Q21>0,IF(AND(Rallye!D65<>\"\",Rallye!D65<>\"Section\"),R21+T_0_Mod,),0)","v":"16:50:00"},{"$f":"IF(P21>0,IF(AND(Rallye!D65<>\"\",Rallye!D65<>\"Section\"),T20+P21,),T20)","v":"17:00:00"},{"$f":"IF(AND(Rallye!D65<>\"\",Rallye!D65<>\"Section\"),T21+$U$10,)","v":"18:24:00"},{"$f":"IF(AND(Rallye!D65<>\"\",Rallye!D65<>\"Section\"),U21+$V$10,)","v":"18:26:00"}]
[null,{"$f":"Rallye!B66","v":"Arriv. E.S. :"},{"$f":"Rallye!C66","v":"3"},{"$f":"Rallye!D66","v":0},{"$f":"IF(AND(Rallye!D66<>\"\",Rallye!D66<>\"Section\"),($Q22-E$10),)","v":"00:00:00"},{"$f":"IF(AND(Rallye!D66<>\"\",Rallye!D66<>\"Section\"),($Q22-F$10),)","v":"00:00:00"},{"$f":"IF(AND(Rallye!D66<>\"\",Rallye!D66<>\"Section\"),($Q22-G$10),)","v":"00:00:00"},{"$f":"IF(AND(Rallye!D66<>\"\",Rallye!D66<>\"Section\"),($Q22-H$10),)","v":"00:00:00"},{"$f":"IF(AND(Rallye!D66<>\"\",Rallye!D66<>\"Section\"),($Q22-I$10),)","v":"00:00:00"},{"$f":"IF(AND(Rallye!D66<>\"\",Rallye!D66<>\"Section\"),($Q22-J$10),)","v":"00:00:00"},{"$f":"IF(AND(Rallye!D66<>\"\",Rallye!D66<>\"Section\"),($Q22-K$10),)","v":"00:00:00"},{"$f":"IF(AND(Rallye!D66<>\"\",Rallye!D66<>\"Section\"),($Q22-L$10),)","v":"00:00:00"},{"$f":"IF(AND(Rallye!D66<>\"\",Rallye!D66<>\"Section\"),($Q22-M$10),)","v":"00:00:00"},{"$f":"IF(AND(Rallye!D66<>\"\",Rallye!D66<>\"Section\"),($Q22-N$10),)","v":"00:00:00"},{"$f":"IF(AND(Rallye!D66<>\"\",Rallye!D66<>\"Section\"),($Q22-O$10),)","v":"00:00:00"},{"$f":"Rallye!F65","v":"00:00:00"},{"$f":"IF(P22>0,IF(OR(Rallye!D66<>\"\",Rallye!D66<>\"Section\"),Q21+P22,),Q21)","v":"16:41:00"},{"$f":"IF(Q22>0,IF(AND(Rallye!D66<>\"\",Rallye!D66<>\"Section\"),Q22+T_Etp1_VHC+T_inf_Mod,),0)","v":"00:00:00"},{"$f":"IF(Q22>0,IF(AND(Rallye!D66<>\"\",Rallye!D66<>\"Section\"),R22+T_0_Mod,),0)","v":"00:00:00"},{"$f":"IF(P22>0,IF(AND(Rallye!D66<>\"\",Rallye!D66<>\"Section\"),T21+P22,),T21)","v":"17:00:00"},{"$f":"IF(AND(Rallye!D66<>\"\",Rallye!D66<>\"Section\"),T22+$U$10,)","v":"00:00:00"},{"$f":"IF(AND(Rallye!D66<>\"\",Rallye!D66<>\"Section\"),U22+$V$10,)","v":"00:00:00"}]
[null,{"$f":"Rallye!B67","v":"C.H. :"},{"$f":"Rallye!C67","v":"3A"},{"$f":"Rallye!D67","v":"Entrée Parc Regroup"},{"$f":"IF(AND(Rallye!D67<>\"\",Rallye!D67<>\"Section\"),($Q23-E$10),)","v":"15:41:00"},{"$f":"IF(AND(Rallye!D67<>\"\",Rallye!D67<>\"Section\"),($Q23-F$10),)","v":"15:56:00"},{"$f":"IF(AND(Rallye!D67<>\"\",Rallye!D67<>\"Section\"),($Q23-G$10),)","v":"16:11:00"},{"$f":"IF(AND(Rallye!D67<>\"\",Rallye!D67<>\"Section\"),($Q23-H$10),)","v":"16:31:00"},{"$f":"IF(AND(Rallye!D67<>\"\",Rallye!D67<>\"Section\"),($Q23-I$10),)","v":"16:32:00"},{"$f":"IF(AND(Rallye!D67<>\"\",Rallye!D67<>\"Section\"),($Q23-J$10),)","v":"16:33:00"},{"$f":"IF(AND(Rallye!D67<>\"\",Rallye!D67<>\"Section\"),($Q23-K$10),)","v":"16:34:00"},{"$f":"IF(AND(Rallye!D67<>\"\",Rallye!D67<>\"Section\"),($Q23-L$10),)","v":"16:41:00"},{"$f":"IF(AND(Rallye!D67<>\"\",Rallye!D67<>\"Section\"),($Q23-M$10),)","v":"16:46:00"},{"$f":"IF(AND(Rallye!D67<>\"\",Rallye!D67<>\"Section\"),($Q23-N$10),)","v":"16:56:00"},{"$f":"IF(AND(Rallye!D67<>\"\",Rallye!D67<>\"Section\"),($Q23-O$10),)","v":"17:01:00"},{"$f":"Rallye!F66","v":"00:30:00"},{"$f":"IF(P23>0,IF(OR(Rallye!D67<>\"\",Rallye!D67<>\"Section\"),Q22+P23,),Q22)","v":"17:11:00"},{"$f":"IF(Q23>0,IF(AND(Rallye!D67<>\"\",Rallye!D67<>\"Section\"),Q23+T_Etp1_VHC+T_inf_Mod,),0)","v":"17:15:00"},{"$f":"IF(Q23>0,IF(AND(Rallye!D67<>\"\",Rallye!D67<>\"Section\"),R23+T_0_Mod,),0)","v":"17:20:00"},{"$f":"IF(P23>0,IF(AND(Rallye!D67<>\"\",Rallye!D67<>\"Section\"),T22+P23,),T22)","v":"17:30:00"},{"$f":"IF(AND(Rallye!D67<>\"\",Rallye!D67<>\"Section\"),T23+$U$10,)","v":"18:54:00"},{"$f":"IF(AND(Rallye!D67<>\"\",Rallye!D67<>\"Section\"),U23+$V$10,)","v":"18:56:00"}]
[null,{"$f":"Rallye!B68","v":0},{"$f":"Rallye!C68","v":"2ème"},{"$f":"Rallye!D68","v":"Section"},{"$f":"IF(AND(Rallye!D68<>\"\",Rallye!D68<>\"Section\"),($Q24-E$10),)","v":"00:00:00"},{"$f":"IF(AND(Rallye!D68<>\"\",Rallye!D68<>\"Section\"),($Q24-F$10),)","v":"00:00:00"},{"$f":"IF(AND(Rallye!D68<>\"\",Rallye!D68<>\"Section\"),($Q24-G$10),)","v":"00:00:00"},{"$f":"IF(AND(Rallye!D68<>\"\",Rallye!D68<>\"Section\"),($Q24-H$10),)","v":"00:00:00"},{"$f":"IF(AND(Rallye!D68<>\"\",Rallye!D68<>\"Section\"),($Q24-I$10),)","v":"00:00:00"},{"$f":"IF(AND(Rallye!D68<>\"\",Rallye!D68<>\"Section\"),($Q24-J$10),)","v":"00:00:00"},{"$f":"IF(AND(Rallye!D68<>\"\",Rallye!D68<>\"Section\"),($Q24-K$10),)","v":"00:00:00"},{"$f":"IF(AND(Rallye!D68<>\"\",Rallye!D68<>\"Section\"),($Q24-L$10),)","v":"00:00:00"},{"$f":"IF(AND(Rallye!D68<>\"\",Rallye!D68<>\"Section\"),($Q24-M$10),)","v":"00:00:00"},{"$f":"IF(AND(Rallye!D68<>\"\",Rallye!D68<>\"Section\"),($Q24-N$10),)","v":"00:00:00"},{"$f":"IF(AND(Rallye!D68<>\"\",Rallye!D68<>\"Section\"),($Q24-O$10),)","v":"00:00:00"},{"$f":"Rallye!F67","v":"00:00:00"},{"$f":"IF(P24>0,IF(OR(Rallye!D68<>\"\",Rallye!D68<>\"Section\"),Q23+P24,),Q23)","v":"17:11:00"},{"$f":"IF(Q24>0,IF(AND(Rallye!D68<>\"\",Rallye!D68<>\"Section\"),Q24+T_Etp1_VHC+T_inf_Mod,),0)","v":"00:00:00"},{"$f":"IF(Q24>0,IF(AND(Rallye!D68<>\"\",Rallye!D68<>\"Section\"),R24+T_0_Mod,),0)","v":"00:00:00"},{"$f":"IF(P24>0,IF(AND(Rallye!D68<>\"\",Rallye!D68<>\"Section\"),T23+P24,),T23)","v":"17:30:00"},{"$f":"IF(AND(Rallye!D68<>\"\",Rallye!D68<>\"Section\"),T24+$U$10,)","v":"00:00:00"},{"$f":"IF(AND(Rallye!D68<>\"\",Rallye!D68<>\"Section\"),U24+$V$10,)","v":"00:00:00"}]
[null,{"$f":"Rallye!B69","v":"C.H. :"},{"$f":"Rallye!C69","v":"3B"},{"$f":"Rallye!D69","v":"Sortie Parc Regroup"},{"$f":"IF(AND(Rallye!D69<>\"\",Rallye!D69<>\"Section\"),($Q25-E$10),)","v":"16:51:00"},{"$f":"IF(AND(Rallye!D69<>\"\",Rallye!D69<>\"Section\"),($Q25-F$10),)","v":"17:06:00"},{"$f":"IF(AND(Rallye!D69<>\"\",Rallye!D69<>\"Section\"),($Q25-G$10),)","v":"17:21:00"},{"$f":"IF(AND(Rallye!D69<>\"\",Rallye!D69<>\"Section\"),($Q25-H$10),)","v":"17:41:00"},{"$f":"IF(AND(Rallye!D69<>\"\",Rallye!D69<>\"Section\"),($Q25-I$10),)","v":"17:42:00"},{"$f":"IF(AND(Rallye!D69<>\"\",Rallye!D69<>\"Section\"),($Q25-J$10),)","v":"17:43:00"},{"$f":"IF(AND(Rallye!D69<>\"\",Rallye!D69<>\"Section\"),($Q25-K$10),)","v":"17:44:00"},{"$f":"IF(AND(Rallye!D69<>\"\",Rallye!D69<>\"Section\"),($Q25-L$10),)","v":"17:51:00"},{"$f":"IF(AND(Rallye!D69<>\"\",Rallye!D69<>\"Section\"),($Q25-M$10),)","v":"17:56:00"},{"$f":"IF(AND(Rallye!D69<>\"\",Rallye!D69<>\"Section\"),($Q25-N$10),)","v":"18:06:00"},{"$f":"IF(AND(Rallye!D69<>\"\",Rallye!D69<>\"Section\"),($Q25-O$10),)","v":"18:11:00"},{"$f":"Rallye!F68","v":"01:10:00"},{"$f":"IF(P25>0,IF(OR(Rallye!D69<>\"\",Rallye!D69<>\"Section\"),Q24+P25,),Q24)","v":"18:21:00"},{"$f":"IF(Q25>0,IF(AND(Rallye!D69<>\"\",Rallye!D69<>\"Section\"),Q25+T_Etp1_VHC+T_inf_Mod,),0)","v":"18:25:00"},{"$f":"IF(Q25>0,IF(AND(Rallye!D69<>\"\",Rallye!D69<>\"Section\"),R25+T_0_Mod,),0)","v":"18:30:00"},{"$f":"IF(P25>0,IF(AND(Rallye!D69<>\"\",Rallye!D69<>\"Section\"),T24+P25,),T24)","v":"18:40:00"},{"$f":"IF(AND(Rallye!D69<>\"\",Rallye!D69<>\"Section\"),T25+$U$10,)","v":"20:04:00"},{"$f":"IF(AND(Rallye!D69<>\"\",Rallye!D69<>\"Section\"),U25+$V$10,)","v":"20:06:00"}]
[null,{"$f":"Rallye!B70","v":"C.H. :"},{"$f":"Rallye!C70","v":"3C"},{"$f":"Rallye!D70","v":"Entrée Assist (Stade St Yriex)"},{"$f":"IF(AND(Rallye!D70<>\"\",Rallye!D70<>\"Section\"),($Q26-E$10),)","v":"16:56:00"},{"$f":"IF(AND(Rallye!D70<>\"\",Rallye!D70<>\"Section\"),($Q26-F$10),)","v":"17:11:00"},{"$f":"IF(AND(Rallye!D70<>\"\",Rallye!D70<>\"Section\"),($Q26-G$10),)","v":"17:26:00"},{"$f":"IF(AND(Rallye!D70<>\"\",Rallye!D70<>\"Section\"),($Q26-H$10),)","v":"17:46:00"},{"$f":"IF(AND(Rallye!D70<>\"\",Rallye!D70<>\"Section\"),($Q26-I$10),)","v":"17:47:00"},{"$f":"IF(AND(Rallye!D70<>\"\",Rallye!D70<>\"Section\"),($Q26-J$10),)","v":"17:48:00"},{"$f":"IF(AND(Rallye!D70<>\"\",Rallye!D70<>\"Section\"),($Q26-K$10),)","v":"17:49:00"},{"$f":"IF(AND(Rallye!D70<>\"\",Rallye!D70<>\"Section\"),($Q26-L$10),)","v":"17:56:00"},{"$f":"IF(AND(Rallye!D70<>\"\",Rallye!D70<>\"Section\"),($Q26-M$10),)","v":"18:01:00"},{"$f":"IF(AND(Rallye!D70<>\"\",Rallye!D70<>\"Section\"),($Q26-N$10),)","v":"18:11:00"},{"$f":"IF(AND(Rallye!D70<>\"\",Rallye!D70<>\"Section\"),($Q26-O$10),)","v":"18:16:00"},{"$f":"Rallye!F69","v":"00:05:00"},{"$f":"IF(P26>0,IF(OR(Rallye!D70<>\"\",Rallye!D70<>\"Section\"),Q25+P26,),Q25)","v":"18:26:00"},{"$f":"IF(Q26>0,IF(AND(Rallye!D70<>\"\",Rallye!D70<>\"Section\"),Q26+T_Etp1_VHC+T_inf_Mod,),0)","v":"18:30:00"},{"$f":"IF(Q26>0,IF(AND(Rallye!D70<>\"\",Rallye!D70<>\"Section\"),R26+T_0_Mod,),0)","v":"18:35:00"},{"$f":"IF(P26>0,IF(AND(Rallye!D70<>\"\",Rallye!D70<>\"Section\"),T25+P26,),T25)","v":"18:45:00"},{"$f":"IF(AND(Rallye!D70<>\"\",Rallye!D70<>\"Section\"),T26+$U$10,)","v":"20:09:00"},{"$f":"IF(AND(Rallye!D70<>\"\",Rallye!D70<>\"Section\"),U26+$V$10,)","v":"20:11:00"}]
[null,{"$f":"Rallye!B71","v":"C.H. :"},{"$f":"Rallye!C71","v":"3D"},{"$f":"Rallye!D71","v":"Sortie Assistance"},{"$f":"IF(AND(Rallye!D71<>\"\",Rallye!D71<>\"Section\"),($Q27-E$10),)","v":"17:26:00"},{"$f":"IF(AND(Rallye!D71<>\"\",Rallye!D71<>\"Section\"),($Q27-F$10),)","v":"17:41:00"},{"$f":"IF(AND(Rallye!D71<>\"\",Rallye!D71<>\"Section\"),($Q27-G$10),)","v":"17:56:00"},{"$f":"IF(AND(Rallye!D71<>\"\",Rallye!D71<>\"Section\"),($Q27-H$10),)","v":"18:16:00"},{"$f":"IF(AND(Rallye!D71<>\"\",Rallye!D71<>\"Section\"),($Q27-I$10),)","v":"18:17:00"},{"$f":"IF(AND(Rallye!D71<>\"\",Rallye!D71<>\"Section\"),($Q27-J$10),)","v":"18:18:00"},{"$f":"IF(AND(Rallye!D71<>\"\",Rallye!D71<>\"Section\"),($Q27-K$10),)","v":"18:19:00"},{"$f":"IF(AND(Rallye!D71<>\"\",Rallye!D71<>\"Section\"),($Q27-L$10),)","v":"18:26:00"},{"$f":"IF(AND(Rallye!D71<>\"\",Rallye!D71<>\"Section\"),($Q27-M$10),)","v":"18:31:00"},{"$f":"IF(AND(Rallye!D71<>\"\",Rallye!D71<>\"Section\"),($Q27-N$10),)","v":"18:41:00"},{"$f":"IF(AND(Rallye!D71<>\"\",Rallye!D71<>\"Section\"),($Q27-O$10),)","v":"18:46:00"},{"$f":"Rallye!F70","v":"00:30:00"},{"$f":"IF(P27>0,IF(OR(Rallye!D71<>\"\",Rallye!D71<>\"Section\"),Q26+P27,),Q26)","v":"18:56:00"},{"$f":"IF(Q27>0,IF(AND(Rallye!D71<>\"\",Rallye!D71<>\"Section\"),Q27+T_Etp1_VHC+T_inf_Mod,),0)","v":"19:00:00"},{"$f":"IF(Q27>0,IF(AND(Rallye!D71<>\"\",Rallye!D71<>\"Section\"),R27+T_0_Mod,),0)","v":"19:05:00"},{"$f":"IF(P27>0,IF(AND(Rallye!D71<>\"\",Rallye!D71<>\"Section\"),T26+P27,),T26)","v":"19:15:00"},{"$f":"IF(AND(Rallye!D71<>\"\",Rallye!D71<>\"Section\"),T27+$U$10,)","v":"20:39:00"},{"$f":"IF(AND(Rallye!D71<>\"\",Rallye!D71<>\"Section\"),U27+$V$10,)","v":"20:41:00"}]
[null,{"$f":"Rallye!B72","v":"C.H. :"},{"$f":"Rallye!C72","v":"4"},{"$f":"Rallye!D72","v":"Avant Départ ES 4"},{"$f":"IF(AND(Rallye!D72<>\"\",Rallye!D72<>\"Section\"),($Q28-E$10),)","v":"17:38:00"},{"$f":"IF(AND(Rallye!D72<>\"\",Rallye!D72<>\"Section\"),($Q28-F$10),)","v":"17:53:00"},{"$f":"IF(AND(Rallye!D72<>\"\",Rallye!D72<>\"Section\"),($Q28-G$10),)","v":"18:08:00"},{"$f":"IF(AND(Rallye!D72<>\"\",Rallye!D72<>\"Section\"),($Q28-H$10),)","v":"18:28:00"},{"$f":"IF(AND(Rallye!D72<>\"\",Rallye!D72<>\"Section\"),($Q28-I$10),)","v":"18:29:00"},{"$f":"IF(AND(Rallye!D72<>\"\",Rallye!D72<>\"Section\"),($Q28-J$10),)","v":"18:30:00"},{"$f":"IF(AND(Rallye!D72<>\"\",Rallye!D72<>\"Section\"),($Q28-K$10),)","v":"18:31:00"},{"$f":"IF(AND(Rallye!D72<>\"\",Rallye!D72<>\"Section\"),($Q28-L$10),)","v":"18:38:00"},{"$f":"IF(AND(Rallye!D72<>\"\",Rallye!D72<>\"Section\"),($Q28-M$10),)","v":"18:43:00"},{"$f":"IF(AND(Rallye!D72<>\"\",Rallye!D72<>\"Section\"),($Q28-N$10),)","v":"18:53:00"},{"$f":"IF(AND(Rallye!D72<>\"\",Rallye!D72<>\"Section\"),($Q28-O$10),)","v":"18:58:00"},{"$f":"Rallye!F71","v":"00:12:00"},{"$f":"IF(P28>0,IF(OR(Rallye!D72<>\"\",Rallye!D72<>\"Section\"),Q27+P28,),Q27)","v":"19:08:00"},{"$f":"IF(Q28>0,IF(AND(Rallye!D72<>\"\",Rallye!D72<>\"Section\"),Q28+T_Etp1_VHC+T_inf_Mod,),0)","v":"19:12:00"},{"$f":"IF(Q28>0,IF(AND(Rallye!D72<>\"\",Rallye!D72<>\"Section\"),R28+T_0_Mod,),0)","v":"19:17:00"},{"$f":"IF(P28>0,IF(AND(Rallye!D72<>\"\",Rallye!D72<>\"Section\"),T27+P28,),T27)","v":"19:27:00"},{"$f":"IF(AND(Rallye!D72<>\"\",Rallye!D72<>\"Section\"),T28+$U$10,)","v":"20:51:00"},{"$f":"IF(AND(Rallye!D72<>\"\",Rallye!D72<>\"Section\"),U28+$V$10,)","v":"20:53:00"}]
[null,{"$f":"Rallye!B73","v":"Départ E.S. :"},{"$f":"Rallye!C73","v":"4"},{"$f":"Rallye!D73","v":"Le BOCAGE 2 (11,5 Kms)"},{"$f":"IF(AND(Rallye!D73<>\"\",Rallye!D73<>\"Section\"),($Q29-E$10),)","v":"17:41:00"},{"$f":"IF(AND(Rallye!D73<>\"\",Rallye!D73<>\"Section\"),($Q29-F$10),)","v":"17:56:00"},{"$f":"IF(AND(Rallye!D73<>\"\",Rallye!D73<>\"Section\"),($Q29-G$10),)","v":"18:11:00"},{"$f":"IF(AND(Rallye!D73<>\"\",Rallye!D73<>\"Section\"),($Q29-H$10),)","v":"18:31:00"},{"$f":"IF(AND(Rallye!D73<>\"\",Rallye!D73<>\"Section\"),($Q29-I$10),)","v":"18:32:00"},{"$f":"IF(AND(Rallye!D73<>\"\",Rallye!D73<>\"Section\"),($Q29-J$10),)","v":"18:33:00"},{"$f":"IF(AND(Rallye!D73<>\"\",Rallye!D73<>\"Section\"),($Q29-K$10),)","v":"18:34:00"},{"$f":"IF(AND(Rallye!D73<>\"\",Rallye!D73<>\"Section\"),($Q29-L$10),)","v":"18:41:00"},{"$f":"IF(AND(Rallye!D73<>\"\",Rallye!D73<>\"Section\"),($Q29-M$10),)","v":"18:46:00"},{"$f":"IF(AND(Rallye!D73<>\"\",Rallye!D73<>\"Section\"),($Q29-N$10),)","v":"18:56:00"},{"$f":"IF(AND(Rallye!D73<>\"\",Rallye!D73<>\"Section\"),($Q29-O$10),)","v":"19:01:00"},{"$f":"Rallye!F72","v":"00:03:00"},{"$f":"IF(P29>0,IF(OR(Rallye!D73<>\"\",Rallye!D73<>\"Section\"),Q28+P29,),Q28)","v":"19:11:00"},{"$f":"IF(Q29>0,IF(AND(Rallye!D73<>\"\",Rallye!D73<>\"Section\"),Q29+T_Etp1_VHC+T_inf_Mod,),0)","v":"19:15:00"},{"$f":"IF(Q29>0,IF(AND(Rallye!D73<>\"\",Rallye!D73<>\"Section\"),R29+T_0_Mod,),0)","v":"19:20:00"},{"$f":"IF(P29>0,IF(AND(Rallye!D73<>\"\",Rallye!D73<>\"Section\"),T28+P29,),T28)","v":"19:30:00"},{"$f":"IF(AND(Rallye!D73<>\"\",Rallye!D73<>\"Section\"),T29+$U$10,)","v":"20:54:00"},{"$f":"IF(AND(Rallye!D73<>\"\",Rallye!D73<>\"Section\"),U29+$V$10,)","v":"20:56:00"}]
[null,{"$f":"Rallye!B74","v":"Arriv. E.S. :"},{"$f":"Rallye!C74","v":"4"},{"$f":"Rallye!D74","v":0},{"$f":"IF(AND(Rallye!D74<>\"\",Rallye!D74<>\"Section\"),($Q30-E$10),)","v":"00:00:00"},{"$f":"IF(AND(Rallye!D74<>\"\",Rallye!D74<>\"Section\"),($Q30-F$10),)","v":"00:00:00"},{"$f":"IF(AND(Rallye!D74<>\"\",Rallye!D74<>\"Section\"),($Q30-G$10),)","v":"00:00:00"},{"$f":"IF(AND(Rallye!D74<>\"\",Rallye!D74<>\"Section\"),($Q30-H$10),)","v":"00:00:00"},{"$f":"IF(AND(Rallye!D74<>\"\",Rallye!D74<>\"Section\"),($Q30-I$10),)","v":"00:00:00"},{"$f":"IF(AND(Rallye!D74<>\"\",Rallye!D74<>\"Section\"),($Q30-J$10),)","v":"00:00:00"},{"$f":"IF(AND(Rallye!D74<>\"\",Rallye!D74<>\"Section\"),($Q30-K$10),)","v":"00:00:00"},{"$f":"IF(AND(Rallye!D74<>\"\",Rallye!D74<>\"Section\"),($Q30-L$10),)","v":"00:00:00"},{"$f":"IF(AND(Rallye!D74<>\"\",Rallye!D74<>\"Section\"),($Q30-M$10),)","v":"00:00:00"},{"$f":"IF(AND(Rallye!D74<>\"\",Rallye!D74<>\"Section\"),($Q30-N$10),)","v":"00:00:00"},{"$f":"IF(AND(Rallye!D74<>\"\",Rallye!D74<>\"Section\"),($Q30-O$10),)","v":"00:00:00"},{"$f":"Rallye!F73","v":"00:00:00"},{"$f":"IF(P30>0,IF(OR(Rallye!D74<>\"\",Rallye!D74<>\"Section\"),Q29+P30,),Q29)","v":"19:11:00"},{"$f":"IF(Q30>0,IF(AND(Rallye!D74<>\"\",Rallye!D74<>\"Section\"),Q30+T_Etp1_VHC+T_inf_Mod,),0)","v":"00:00:00"},{"$f":"IF(Q30>0,IF(AND(Rallye!D74<>\"\",Rallye!D74<>\"Section\"),R30+T_0_Mod,),0)","v":"00:00:00"},{"$f":"IF(P30>0,IF(AND(Rallye!D74<>\"\",Rallye!D74<>\"Section\"),T29+P30,),T29)","v":"19:30:00"},{"$f":"IF(AND(Rallye!D74<>\"\",Rallye!D74<>\"Section\"),T30+$U$10,)","v":"00:00:00"},{"$f":"IF(AND(Rallye!D74<>\"\",Rallye!D74<>\"Section\"),U30+$V$10,)","v":"00:00:00"}]
[null,{"$f":"Rallye!B75","v":"C.H. :"},{"$f":"Rallye!C75","v":"5"},{"$f":"Rallye!D75","v":"Avant Départ ES 5"},{"$f":"IF(AND(Rallye!D75<>\"\",Rallye!D75<>\"Section\"),($Q31-E$10),)","v":"18:21:00"},{"$f":"IF(AND(Rallye!D75<>\"\",Rallye!D75<>\"Section\"),($Q31-F$10),)","v":"18:36:00"},{"$f":"IF(AND(Rallye!D75<>\"\",Rallye!D75<>\"Section\"),($Q31-G$10),)","v":"18:51:00"},{"$f":"IF(AND(Rallye!D75<>\"\",Rallye!D75<>\"Section\"),($Q31-H$10),)","v":"19:11:00"},{"$f":"IF(AND(Rallye!D75<>\"\",Rallye!D75<>\"Section\"),($Q31-I$10),)","v":"19:12:00"},{"$f":"IF(AND(Rallye!D75<>\"\",Rallye!D75<>\"Section\"),($Q31-J$10),)","v":"19:13:00"},{"$f":"IF(AND(Rallye!D75<>\"\",Rallye!D75<>\"Section\"),($Q31-K$10),)","v":"19:14:00"},{"$f":"IF(AND(Rallye!D75<>\"\",Rallye!D75<>\"Section\"),($Q31-L$10),)","v":"19:21:00"},{"$f":"IF(AND(Rallye!D75<>\"\",Rallye!D75<>\"Section\"),($Q31-M$10),)","v":"19:26:00"},{"$f":"IF(AND(Rallye!D75<>\"\",Rallye!D75<>\"Section\"),($Q31-N$10),)","v":"19:36:00"},{"$f":"IF(AND(Rallye!D75<>\"\",Rallye!D75<>\"Section\"),($Q31-O$10),)","v":"19:41:00"},{"$f":"Rallye!F74","v":"00:40:00"},{"$f":"IF(P31>0,IF(OR(Rallye!D75<>\"\",Rallye!D75<>\"Section\"),Q30+P31,),Q30)","v":"19:51:00"},{"$f":"IF(Q31>0,IF(AND(Rallye!D75<>\"\",Rallye!D75<>\"Section\"),Q31+T_Etp1_VHC+T_inf_Mod,),0)","v":"19:55:00"},{"$f":"IF(Q31>0,IF(AND(Rallye!D75<>\"\",Rallye!D75<>\"Section\"),R31+T_0_Mod,),0)","v":"20:00:00"},{"$f":"IF(P31>0,IF(AND(Rallye!D75<>\"\",Rallye!D75<>\"Section\"),T30+P31,),T30)","v":"20:10:00"},{"$f":"IF(AND(Rallye!D75<>\"\",Rallye!D75<>\"Section\"),T31+$U$10,)","v":"21:34:00"},{"$f":"IF(AND(Rallye!D75<>\"\",Rallye!D75<>\"Section\"),U31+$V$10,)","v":"21:36:00"}]
[null,{"$f":"Rallye!B76","v":"Départ E.S. :"},{"$f":"Rallye!C76","v":"5"},{"$f":"Rallye!D76","v":"Le TINDEIX 2 (8,75 Kms)"},{"$f":"IF(AND(Rallye!D76<>\"\",Rallye!D76<>\"Section\"),($Q32-E$10),)","v":"18:24:00"},{"$f":"IF(AND(Rallye!D76<>\"\",Rallye!D76<>\"Section\"),($Q32-F$10),)","v":"18:39:00"},{"$f":"IF(AND(Rallye!D76<>\"\",Rallye!D76<>\"Section\"),($Q32-G$10),)","v":"18:54:00"},{"$f":"IF(AND(Rallye!D76<>\"\",Rallye!D76<>\"Section\"),($Q32-H$10),)","v":"19:14:00"},{"$f":"IF(AND(Rallye!D76<>\"\",Rallye!D76<>\"Section\"),($Q32-I$10),)","v":"19:15:00"},{"$f":"IF(AND(Rallye!D76<>\"\",Rallye!D76<>\"Section\"),($Q32-J$10),)","v":"19:16:00"},{"$f":"IF(AND(Rallye!D76<>\"\",Rallye!D76<>\"Section\"),($Q32-K$10),)","v":"19:17:00"},{"$f":"IF(AND(Rallye!D76<>\"\",Rallye!D76<>\"Section\"),($Q32-L$10),)","v":"19:24:00"},{"$f":"IF(AND(Rallye!D76<>\"\",Rallye!D76<>\"Section\"),($Q32-M$10),)","v":"19:29:00"},{"$f":"IF(AND(Rallye!D76<>\"\",Rallye!D76<>\"Section\"),($Q32-N$10),)","v":"19:39:00"},{"$f":"IF(AND(Rallye!D76<>\"\",Rallye!D76<>\"Section\"),($Q32-O$10),)","v":"19:44:00"},{"$f":"Rallye!F75","v":"00:03:00"},{"$f":"IF(P32>0,IF(OR(Rallye!D76<>\"\",Rallye!D76<>\"Section\"),Q31+P32,),Q31)","v":"19:54:00"},{"$f":"IF(Q32>0,IF(AND(Rallye!D76<>\"\",Rallye!D76<>\"Section\"),Q32+T_Etp1_VHC+T_inf_Mod,),0)","v":"19:58:00"},{"$f":"IF(Q32>0,IF(AND(Rallye!D76<>\"\",Rallye!D76<>\"Section\"),R32+T_0_Mod,),0)","v":"20:03:00"},{"$f":"IF(P32>0,IF(AND(Rallye!D76<>\"\",Rallye!D76<>\"Section\"),T31+P32,),T31)","v":"20:13:00"},{"$f":"IF(AND(Rallye!D76<>\"\",Rallye!D76<>\"Section\"),T32+$U$10,)","v":"21:37:00"},{"$f":"IF(AND(Rallye!D76<>\"\",Rallye!D76<>\"Section\"),U32+$V$10,)","v":"21:39:00"}]
[null,{"$f":"Rallye!B77","v":"Arriv. E.S. :"},{"$f":"Rallye!C77","v":"5"},{"$f":"Rallye!D77","v":0},{"$f":"IF(AND(Rallye!D77<>\"\",Rallye!D77<>\"Section\"),($Q33-E$10),)","v":"00:00:00"},{"$f":"IF(AND(Rallye!D77<>\"\",Rallye!D77<>\"Section\"),($Q33-F$10),)","v":"00:00:00"},{"$f":"IF(AND(Rallye!D77<>\"\",Rallye!D77<>\"Section\"),($Q33-G$10),)","v":"00:00:00"},{"$f":"IF(AND(Rallye!D77<>\"\",Rallye!D77<>\"Section\"),($Q33-H$10),)","v":"00:00:00"},{"$f":"IF(AND(Rallye!D77<>\"\",Rallye!D77<>\"Section\"),($Q33-I$10),)","v":"00:00:00"},{"$f":"IF(AND(Rallye!D77<>\"\",Rallye!D77<>\"Section\"),($Q33-J$10),)","v":"00:00:00"},{"$f":"IF(AND(Rallye!D77<>\"\",Rallye!D77<>\"Section\"),($Q33-K$10),)","v":"00:00:00"},{"$f":"IF(AND(Rallye!D77<>\"\",Rallye!D77<>\"Section\"),($Q33-L$10),)","v":"00:00:00"},{"$f":"IF(AND(Rallye!D77<>\"\",Rallye!D77<>\"Section\"),($Q33-M$10),)","v":"00:00:00"},{"$f":"IF(AND(Rallye!D77<>\"\",Rallye!D77<>\"Section\"),($Q33-N$10),)","v":"00:00:00"},{"$f":"IF(AND(Rallye!D77<>\"\",Rallye!D77<>\"Section\"),($Q33-O$10),)","v":"00:00:00"},{"$f":"Rallye!F76","v":"00:00:00"},{"$f":"IF(P33>0,IF(OR(Rallye!D77<>\"\",Rallye!D77<>\"Section\"),Q32+P33,),Q32)","v":"19:54:00"},{"$f":"IF(Q33>0,IF(AND(Rallye!D77<>\"\",Rallye!D77<>\"Section\"),Q33+T_Etp1_VHC+T_inf_Mod,),0)","v":"00:00:00"},{"$f":"IF(Q33>0,IF(AND(Rallye!D77<>\"\",Rallye!D77<>\"Section\"),R33+T_0_Mod,),0)","v":"00:00:00"},{"$f":"IF(P33>0,IF(AND(Rallye!D77<>\"\",Rallye!D77<>\"Section\"),T32+P33,),T32)","v":"20:13:00"},{"$f":"IF(AND(Rallye!D77<>\"\",Rallye!D77<>\"Section\"),T33+$U$10,)","v":"00:00:00"},{"$f":"IF(AND(Rallye!D77<>\"\",Rallye!D77<>\"Section\"),U33+$V$10,)","v":"00:00:00"}]
[null,{"$f":"Rallye!B78","v":"C.H. :"},{"$f":"Rallye!C78","v":"6"},{"$f":"Rallye!D78","v":"Avant Départ ES 6"},{"$f":"IF(AND(Rallye!D78<>\"\",Rallye!D78<>\"Section\"),($Q34-E$10),)","v":"19:04:00"},{"$f":"IF(AND(Rallye!D78<>\"\",Rallye!D78<>\"Section\"),($Q34-F$10),)","v":"19:19:00"},{"$f":"IF(AND(Rallye!D78<>\"\",Rallye!D78<>\"Section\"),($Q34-G$10),)","v":"19:34:00"},{"$f":"IF(AND(Rallye!D78<>\"\",Rallye!D78<>\"Section\"),($Q34-H$10),)","v":"19:54:00"},{"$f":"IF(AND(Rallye!D78<>\"\",Rallye!D78<>\"Section\"),($Q34-I$10),)","v":"19:55:00"},{"$f":"IF(AND(Rallye!D78<>\"\",Rallye!D78<>\"Section\"),($Q34-J$10),)","v":"19:56:00"},{"$f":"IF(AND(Rallye!D78<>\"\",Rallye!D78<>\"Section\"),($Q34-K$10),)","v":"19:57:00"},{"$f":"IF(AND(Rallye!D78<>\"\",Rallye!D78<>\"Section\"),($Q34-L$10),)","v":"20:04:00"},{"$f":"IF(AND(Rallye!D78<>\"\",Rallye!D78<>\"Section\"),($Q34-M$10),)","v":"20:09:00"},{"$f":"IF(AND(Rallye!D78<>\"\",Rallye!D78<>\"Section\"),($Q34-N$10),)","v":"20:19:00"},{"$f":"IF(AND(Rallye!D78<>\"\",Rallye!D78<>\"Section\"),($Q34-O$10),)","v":"20:24:00"},{"$f":"Rallye!F77","v":"00:40:00"},{"$f":"IF(P34>0,IF(OR(Rallye!D78<>\"\",Rallye!D78<>\"Section\"),Q33+P34,),Q33)","v":"20:34:00"},{"$f":"IF(Q34>0,IF(AND(Rallye!D78<>\"\",Rallye!D78<>\"Section\"),Q34+T_Etp1_VHC+T_inf_Mod,),0)","v":"20:38:00"},{"$f":"IF(Q34>0,IF(AND(Rallye!D78<>\"\",Rallye!D78<>\"Section\"),R34+T_0_Mod,),0)","v":"20:43:00"},{"$f":"IF(P34>0,IF(AND(Rallye!D78<>\"\",Rallye!D78<>\"Section\"),T33+P34,),T33)","v":"20:53:00"},{"$f":"IF(AND(Rallye!D78<>\"\",Rallye!D78<>\"Section\"),T34+$U$10,)","v":"22:17:00"},{"$f":"IF(AND(Rallye!D78<>\"\",Rallye!D78<>\"Section\"),U34+$V$10,)","v":"22:19:00"}]
[null,{"$f":"Rallye!B79","v":"Départ E.S. :"},{"$f":"Rallye!C79","v":"6"},{"$f":"Rallye!D79","v":"Les PALLOUX 2 (10,80 Kms)"},{"$f":"IF(AND(Rallye!D79<>\"\",Rallye!D79<>\"Section\"),($Q35-E$10),)","v":"19:07:00"},{"$f":"IF(AND(Rallye!D79<>\"\",Rallye!D79<>\"Section\"),($Q35-F$10),)","v":"19:22:00"},{"$f":"IF(AND(Rallye!D79<>\"\",Rallye!D79<>\"Section\"),($Q35-G$10),)","v":"19:37:00"},{"$f":"IF(AND(Rallye!D79<>\"\",Rallye!D79<>\"Section\"),($Q35-H$10),)","v":"19:57:00"},{"$f":"IF(AND(Rallye!D79<>\"\",Rallye!D79<>\"Section\"),($Q35-I$10),)","v":"19:58:00"},{"$f":"IF(AND(Rallye!D79<>\"\",Rallye!D79<>\"Section\"),($Q35-J$10),)","v":"19:59:00"},{"$f":"IF(AND(Rallye!D79<>\"\",Rallye!D79<>\"Section\"),($Q35-K$10),)","v":"20:00:00"},{"$f":"IF(AND(Rallye!D79<>\"\",Rallye!D79<>\"Section\"),($Q35-L$10),)","v":"20:07:00"},{"$f":"IF(AND(Rallye!D79<>\"\",Rallye!D79<>\"Section\"),($Q35-M$10),)","v":"20:12:00"},{"$f":"IF(AND(Rallye!D79<>\"\",Rallye!D79<>\"Section\"),($Q35-N$10),)","v":"20:22:00"},{"$f":"IF(AND(Rallye!D79<>\"\",Rallye!D79<>\"Section\"),($Q35-O$10),)","v":"20:27:00"},{"$f":"Rallye!F78","v":"00:03:00"},{"$f":"IF(P35>0,IF(OR(Rallye!D79<>\"\",Rallye!D79<>\"Section\"),Q34+P35,),Q34)","v":"20:37:00"},{"$f":"IF(Q35>0,IF(AND(Rallye!D79<>\"\",Rallye!D79<>\"Section\"),Q35+T_Etp1_VHC+T_inf_Mod,),0)","v":"20:41:00"},{"$f":"IF(Q35>0,IF(AND(Rallye!D79<>\"\",Rallye!D79<>\"Section\"),R35+T_0_Mod,),0)","v":"20:46:00"},{"$f":"IF(P35>0,IF(AND(Rallye!D79<>\"\",Rallye!D79<>\"Section\"),T34+P35,),T34)","v":"20:56:00"},{"$f":"IF(AND(Rallye!D79<>\"\",Rallye!D79<>\"Section\"),T35+$U$10,)","v":"22:20:00"},{"$f":"IF(AND(Rallye!D79<>\"\",Rallye!D79<>\"Section\"),U35+$V$10,)","v":"22:22:00"}]
[null,{"$f":"Rallye!B80","v":"Arriv. E.S. :"},{"$f":"Rallye!C80","v":"6"},{"$f":"Rallye!D80","v":0},{"$f":"IF(AND(Rallye!D80<>\"\",Rallye!D80<>\"Section\"),($Q36-E$10),)","v":"00:00:00"},{"$f":"IF(AND(Rallye!D80<>\"\",Rallye!D80<>\"Section\"),($Q36-F$10),)","v":"00:00:00"},{"$f":"IF(AND(Rallye!D80<>\"\",Rallye!D80<>\"Section\"),($Q36-G$10),)","v":"00:00:00"},{"$f":"IF(AND(Rallye!D80<>\"\",Rallye!D80<>\"Section\"),($Q36-H$10),)","v":"00:00:00"},{"$f":"IF(AND(Rallye!D80<>\"\",Rallye!D80<>\"Section\"),($Q36-I$10),)","v":"00:00:00"},{"$f":"IF(AND(Rallye!D80<>\"\",Rallye!D80<>\"Section\"),($Q36-J$10),)","v":"00:00:00"},{"$f":"IF(AND(Rallye!D80<>\"\",Rallye!D80<>\"Section\"),($Q36-K$10),)","v":"00:00:00"},{"$f":"IF(AND(Rallye!D80<>\"\",Rallye!D80<>\"Section\"),($Q36-L$10),)","v":"00:00:00"},{"$f":"IF(AND(Rallye!D80<>\"\",Rallye!D80<>\"Section\"),($Q36-M$10),)","v":"00:00:00"},{"$f":"IF(AND(Rallye!D80<>\"\",Rallye!D80<>\"Section\"),($Q36-N$10),)","v":"00:00:00"},{"$f":"IF(AND(Rallye!D80<>\"\",Rallye!D80<>\"Section\"),($Q36-O$10),)","v":"00:00:00"},{"$f":"Rallye!F79","v":"00:00:00"},{"$f":"IF(P36>0,IF(OR(Rallye!D80<>\"\",Rallye!D80<>\"Section\"),Q35+P36,),Q35)","v":"20:37:00"},{"$f":"IF(Q36>0,IF(AND(Rallye!D80<>\"\",Rallye!D80<>\"Section\"),Q36+T_Etp1_VHC+T_inf_Mod,),0)","v":"00:00:00"},{"$f":"IF(Q36>0,IF(AND(Rallye!D80<>\"\",Rallye!D80<>\"Section\"),R36+T_0_Mod,),0)","v":"00:00:00"},{"$f":"IF(P36>0,IF(AND(Rallye!D80<>\"\",Rallye!D80<>\"Section\"),T35+P36,),T35)","v":"20:56:00"},{"$f":"IF(AND(Rallye!D80<>\"\",Rallye!D80<>\"Section\"),T36+$U$10,)","v":"00:00:00"},{"$f":"IF(AND(Rallye!D80<>\"\",Rallye!D80<>\"Section\"),U36+$V$10,)","v":"00:00:00"}]
[null,{"$f":"Rallye!B81","v":"C.H. :"},{"$f":"Rallye!C81","v":"6A"},{"$f":"Rallye!D81","v":"Entrée Parc Fermé Fin Etape"},{"$f":"IF(AND(Rallye!D81<>\"\",Rallye!D81<>\"Section\"),($Q37-E$10),)","v":"19:37:00"},{"$f":"IF(AND(Rallye!D81<>\"\",Rallye!D81<>\"Section\"),($Q37-F$10),)","v":"19:52:00"},{"$f":"IF(AND(Rallye!D81<>\"\",Rallye!D81<>\"Section\"),($Q37-G$10),)","v":"20:07:00"},{"$f":"IF(AND(Rallye!D81<>\"\",Rallye!D81<>\"Section\"),($Q37-H$10),)","v":"20:27:00"},{"$f":"IF(AND(Rallye!D81<>\"\",Rallye!D81<>\"Section\"),($Q37-I$10),)","v":"20:28:00"},{"$f":"IF(AND(Rallye!D81<>\"\",Rallye!D81<>\"Section\"),($Q37-J$10),)","v":"20:29:00"},{"$f":"IF(AND(Rallye!D81<>\"\",Rallye!D81<>\"Section\"),($Q37-K$10),)","v":"20:30:00"},{"$f":"IF(AND(Rallye!D81<>\"\",Rallye!D81<>\"Section\"),($Q37-L$10),)","v":"20:37:00"},{"$f":"IF(AND(Rallye!D81<>\"\",Rallye!D81<>\"Section\"),($Q37-M$10),)","v":"20:42:00"},{"$f":"IF(AND(Rallye!D81<>\"\",Rallye!D81<>\"Section\"),($Q37-N$10),)","v":"20:52:00"},{"$f":"IF(AND(Rallye!D81<>\"\",Rallye!D81<>\"Section\"),($Q37-O$10),)","v":"20:57:00"},{"$f":"Rallye!F80","v":"00:30:00"},{"$f":"IF(P37>0,IF(OR(Rallye!D81<>\"\",Rallye!D81<>\"Section\"),Q36+P37,),Q36)","v":"21:07:00"},{"$f":"IF(Q37>0,IF(AND(Rallye!D81<>\"\",Rallye!D81<>\"Section\"),Q37+T_Etp1_VHC+T_inf_Mod,),0)","v":"21:11:00"},{"$f":"IF(Q37>0,IF(AND(Rallye!D81<>\"\",Rallye!D81<>\"Section\"),R37+T_0_Mod,),0)","v":"21:16:00"},{"$f":"IF(P37>0,IF(AND(Rallye!D81<>\"\",Rallye!D81<>\"Section\"),T36+P37,),T36)","v":"21:26:00"},{"$f":"IF(AND(Rallye!D81<>\"\",Rallye!D81<>\"Section\"),T37+$U$10,)","v":"22:50:00"},{"$f":"IF(AND(Rallye!D81<>\"\",Rallye!D81<>\"Section\"),U37+$V$10,)","v":"22:52:00"}]
[null,{"$f":"Rallye!B82","v":0},{"$f":"Rallye!C82","v":0},{"$f":"Rallye!D82","v":0},{"$f":"IF(AND(Rallye!D82<>\"\",Rallye!D82<>\"Section\"),($Q38-E$10),)","v":"00:00:00"},{"$f":"IF(AND(Rallye!D82<>\"\",Rallye!D82<>\"Section\"),($Q38-F$10),)","v":"00:00:00"},{"$f":"IF(AND(Rallye!D82<>\"\",Rallye!D82<>\"Section\"),($Q38-G$10),)","v":"00:00:00"},{"$f":"IF(AND(Rallye!D82<>\"\",Rallye!D82<>\"Section\"),($Q38-H$10),)","v":"00:00:00"},{"$f":"IF(AND(Rallye!D82<>\"\",Rallye!D82<>\"Section\"),($Q38-I$10),)","v":"00:00:00"},{"$f":"IF(AND(Rallye!D82<>\"\",Rallye!D82<>\"Section\"),($Q38-J$10),)","v":"00:00:00"},{"$f":"IF(AND(Rallye!D82<>\"\",Rallye!D82<>\"Section\"),($Q38-K$10),)","v":"00:00:00"},{"$f":"IF(AND(Rallye!D82<>\"\",Rallye!D82<>\"Section\"),($Q38-L$10),)","v":"00:00:00"},{"$f":"IF(AND(Rallye!D82<>\"\",Rallye!D82<>\"Section\"),($Q38-M$10),)","v":"00:00:00"},{"$f":"IF(AND(Rallye!D82<>\"\",Rallye!D82<>\"Section\"),($Q38-N$10),)","v":"00:00:00"},{"$f":"IF(AND(Rallye!D82<>\"\",Rallye!D82<>\"Section\"),($Q38-O$10),)","v":"00:00:00"},{"$f":"Rallye!F81","v":"00:00:00"},{"$f":"IF(P38>0,IF(OR(Rallye!D82<>\"\",Rallye!D82<>\"Section\"),Q37+P38,),Q37)","v":"21:07:00"},{"$f":"IF(Q38>0,IF(AND(Rallye!D82<>\"\",Rallye!D82<>\"Section\"),Q38+T_Etp1_VHC+T_inf_Mod,),0)","v":"00:00:00"},{"$f":"IF(Q38>0,IF(AND(Rallye!D82<>\"\",Rallye!D82<>\"Section\"),R38+T_0_Mod,),0)","v":"00:00:00"},{"$f":"IF(P38>0,IF(AND(Rallye!D82<>\"\",Rallye!D82<>\"Section\"),T37+P38,),T37)","v":"21:26:00"},{"$f":"IF(AND(Rallye!D82<>\"\",Rallye!D82<>\"Section\"),T38+$U$10,)","v":"00:00:00"},{"$f":"IF(AND(Rallye!D82<>\"\",Rallye!D82<>\"Section\"),U38+$V$10,)","v":"00:00:00"}]
[null,{"$f":"Rallye!B83","v":0},{"$f":"Rallye!C83","v":0},{"$f":"Rallye!D83","v":0},{"$f":"IF(AND(Rallye!D83<>\"\",Rallye!D83<>\"Section\"),($Q39-E$10),)","v":"00:00:00"},{"$f":"IF(AND(Rallye!D83<>\"\",Rallye!D83<>\"Section\"),($Q39-F$10),)","v":"00:00:00"},{"$f":"IF(AND(Rallye!D83<>\"\",Rallye!D83<>\"Section\"),($Q39-G$10),)","v":"00:00:00"},{"$f":"IF(AND(Rallye!D83<>\"\",Rallye!D83<>\"Section\"),($Q39-H$10),)","v":"00:00:00"},{"$f":"IF(AND(Rallye!D83<>\"\",Rallye!D83<>\"Section\"),($Q39-I$10),)","v":"00:00:00"},{"$f":"IF(AND(Rallye!D83<>\"\",Rallye!D83<>\"Section\"),($Q39-J$10),)","v":"00:00:00"},{"$f":"IF(AND(Rallye!D83<>\"\",Rallye!D83<>\"Section\"),($Q39-K$10),)","v":"00:00:00"},{"$f":"IF(AND(Rallye!D83<>\"\",Rallye!D83<>\"Section\"),($Q39-L$10),)","v":"00:00:00"},{"$f":"IF(AND(Rallye!D83<>\"\",Rallye!D83<>\"Section\"),($Q39-M$10),)","v":"00:00:00"},{"$f":"IF(AND(Rallye!D83<>\"\",Rallye!D83<>\"Section\"),($Q39-N$10),)","v":"00:00:00"},{"$f":"IF(AND(Rallye!D83<>\"\",Rallye!D83<>\"Section\"),($Q39-O$10),)","v":"00:00:00"},{"$f":"Rallye!F82","v":"00:00:00"},{"$f":"IF(P39>0,IF(OR(Rallye!D83<>\"\",Rallye!D83<>\"Section\"),Q38+P39,),Q38)","v":"21:07:00"},{"$f":"IF(Q39>0,IF(AND(Rallye!D83<>\"\",Rallye!D83<>\"Section\"),Q39+T_Etp1_VHC+T_inf_Mod,),0)","v":"00:00:00"},{"$f":"IF(Q39>0,IF(AND(Rallye!D83<>\"\",Rallye!D83<>\"Section\"),R39+T_0_Mod,),0)","v":"00:00:00"},{"$f":"IF(P39>0,IF(AND(Rallye!D83<>\"\",Rallye!D83<>\"Section\"),T38+P39,),T38)","v":"21:26:00"},{"$f":"IF(AND(Rallye!D83<>\"\",Rallye!D83<>\"Section\"),T39+$U$10,)","v":"00:00:00"},{"$f":"IF(AND(Rallye!D83<>\"\",Rallye!D83<>\"Section\"),U39+$V$10,)","v":"00:00:00"}]
[null,{"$f":"Rallye!B84","v":0},{"$f":"Rallye!C84","v":0},{"$f":"Rallye!D84","v":0},{"$f":"IF(AND(Rallye!D84<>\"\",Rallye!D84<>\"Section\"),($Q40-E$10),)","v":"00:00:00"},{"$f":"IF(AND(Rallye!D84<>\"\",Rallye!D84<>\"Section\"),($Q40-F$10),)","v":"00:00:00"},{"$f":"IF(AND(Rallye!D84<>\"\",Rallye!D84<>\"Section\"),($Q40-G$10),)","v":"00:00:00"},{"$f":"IF(AND(Rallye!D84<>\"\",Rallye!D84<>\"Section\"),($Q40-H$10),)","v":"00:00:00"},{"$f":"IF(AND(Rallye!D84<>\"\",Rallye!D84<>\"Section\"),($Q40-I$10),)","v":"00:00:00"},{"$f":"IF(AND(Rallye!D84<>\"\",Rallye!D84<>\"Section\"),($Q40-J$10),)","v":"00:00:00"},{"$f":"IF(AND(Rallye!D84<>\"\",Rallye!D84<>\"Section\"),($Q40-K$10),)","v":"00:00:00"},{"$f":"IF(AND(Rallye!D84<>\"\",Rallye!D84<>\"Section\"),($Q40-L$10),)","v":"00:00:00"},{"$f":"IF(AND(Rallye!D84<>\"\",Rallye!D84<>\"Section\"),($Q40-M$10),)","v":"00:00:00"},{"$f":"IF(AND(Rallye!D84<>\"\",Rallye!D84<>\"Section\"),($Q40-N$10),)","v":"00:00:00"},{"$f":"IF(AND(Rallye!D84<>\"\",Rallye!D84<>\"Section\"),($Q40-O$10),)","v":"00:00:00"},{"$f":"Rallye!F83","v":"00:00:00"},{"$f":"IF(P40>0,IF(OR(Rallye!D84<>\"\",Rallye!D84<>\"Section\"),Q39+P40,),Q39)","v":"21:07:00"},{"$f":"IF(Q40>0,IF(AND(Rallye!D84<>\"\",Rallye!D84<>\"Section\"),Q40+T_Etp1_VHC+T_inf_Mod,),0)","v":"00:00:00"},{"$f":"IF(Q40>0,IF(AND(Rallye!D84<>\"\",Rallye!D84<>\"Section\"),R40+T_0_Mod,),0)","v":"00:00:00"},{"$f":"IF(P40>0,IF(AND(Rallye!D84<>\"\",Rallye!D84<>\"Section\"),T39+P40,),T39)","v":"21:26:00"},{"$f":"IF(AND(Rallye!D84<>\"\",Rallye!D84<>\"Section\"),T40+$U$10,)","v":"00:00:00"},{"$f":"IF(AND(Rallye!D84<>\"\",Rallye!D84<>\"Section\"),U40+$V$10,)","v":"00:00:00"}]
[null,{"$f":"Rallye!B85","v":0},{"$f":"Rallye!C85","v":0},{"$f":"Rallye!D85","v":0},{"$f":"IF(AND(Rallye!D85<>\"\",Rallye!D85<>\"Section\"),($Q41-E$10),)","v":"00:00:00"},{"$f":"IF(AND(Rallye!D85<>\"\",Rallye!D85<>\"Section\"),($Q41-F$10),)","v":"00:00:00"},{"$f":"IF(AND(Rallye!D85<>\"\",Rallye!D85<>\"Section\"),($Q41-G$10),)","v":"00:00:00"},{"$f":"IF(AND(Rallye!D85<>\"\",Rallye!D85<>\"Section\"),($Q41-H$10),)","v":"00:00:00"},{"$f":"IF(AND(Rallye!D85<>\"\",Rallye!D85<>\"Section\"),($Q41-I$10),)","v":"00:00:00"},{"$f":"IF(AND(Rallye!D85<>\"\",Rallye!D85<>\"Section\"),($Q41-J$10),)","v":"00:00:00"},{"$f":"IF(AND(Rallye!D85<>\"\",Rallye!D85<>\"Section\"),($Q41-K$10),)","v":"00:00:00"},{"$f":"IF(AND(Rallye!D85<>\"\",Rallye!D85<>\"Section\"),($Q41-L$10),)","v":"00:00:00"},{"$f":"IF(AND(Rallye!D85<>\"\",Rallye!D85<>\"Section\"),($Q41-M$10),)","v":"00:00:00"},{"$f":"IF(AND(Rallye!D85<>\"\",Rallye!D85<>\"Section\"),($Q41-N$10),)","v":"00:00:00"},{"$f":"IF(AND(Rallye!D85<>\"\",Rallye!D85<>\"Section\"),($Q41-O$10),)","v":"00:00:00"},{"$f":"Rallye!F84","v":"00:00:00"},{"$f":"IF(P41>0,IF(OR(Rallye!D85<>\"\",Rallye!D85<>\"Section\"),Q40+P41,),Q40)","v":"21:07:00"},{"$f":"IF(Q41>0,IF(AND(Rallye!D85<>\"\",Rallye!D85<>\"Section\"),Q41+T_Etp1_VHC+T_inf_Mod,),0)","v":"00:00:00"},{"$f":"IF(Q41>0,IF(AND(Rallye!D85<>\"\",Rallye!D85<>\"Section\"),R41+T_0_Mod,),0)","v":"00:00:00"},{"$f":"IF(P41>0,IF(AND(Rallye!D85<>\"\",Rallye!D85<>\"Section\"),T40+P41,),T40)","v":"21:26:00"},{"$f":"IF(AND(Rallye!D85<>\"\",Rallye!D85<>\"Section\"),T41+$U$10,)","v":"00:00:00"},{"$f":"IF(AND(Rallye!D85<>\"\",Rallye!D85<>\"Section\"),U41+$V$10,)","v":"00:00:00"}]
[null,{"$f":"Rallye!B86","v":0},{"$f":"Rallye!C86","v":0},{"$f":"Rallye!D86","v":0},{"$f":"IF(AND(Rallye!D86<>\"\",Rallye!D86<>\"Section\"),($Q42-E$10),)","v":"00:00:00"},{"$f":"IF(AND(Rallye!D86<>\"\",Rallye!D86<>\"Section\"),($Q42-F$10),)","v":"00:00:00"},{"$f":"IF(AND(Rallye!D86<>\"\",Rallye!D86<>\"Section\"),($Q42-G$10),)","v":"00:00:00"},{"$f":"IF(AND(Rallye!D86<>\"\",Rallye!D86<>\"Section\"),($Q42-H$10),)","v":"00:00:00"},{"$f":"IF(AND(Rallye!D86<>\"\",Rallye!D86<>\"Section\"),($Q42-I$10),)","v":"00:00:00"},{"$f":"IF(AND(Rallye!D86<>\"\",Rallye!D86<>\"Section\"),($Q42-J$10),)","v":"00:00:00"},{"$f":"IF(AND(Rallye!D86<>\"\",Rallye!D86<>\"Section\"),($Q42-K$10),)","v":"00:00:00"},{"$f":"IF(AND(Rallye!D86<>\"\",Rallye!D86<>\"Section\"),($Q42-L$10),)","v":"00:00:00"},{"$f":"IF(AND(Rallye!D86<>\"\",Rallye!D86<>\"Section\"),($Q42-M$10),)","v":"00:00:00"},{"$f":"IF(AND(Rallye!D86<>\"\",Rallye!D86<>\"Section\"),($Q42-N$10),)","v":"00:00:00"},{"$f":"IF(AND(Rallye!D86<>\"\",Rallye!D86<>\"Section\"),($Q42-O$10),)","v":"00:00:00"},{"$f":"Rallye!F85","v":"00:00:00"},{"$f":"IF(P42>0,IF(OR(Rallye!D86<>\"\",Rallye!D86<>\"Section\"),Q41+P42,),Q41)","v":"21:07:00"},{"$f":"IF(Q42>0,IF(AND(Rallye!D86<>\"\",Rallye!D86<>\"Section\"),Q42+T_Etp1_VHC+T_inf_Mod,),0)","v":"00:00:00"},{"$f":"IF(Q42>0,IF(AND(Rallye!D86<>\"\",Rallye!D86<>\"Section\"),R42+T_0_Mod,),0)","v":"00:00:00"},{"$f":"IF(P42>0,IF(AND(Rallye!D86<>\"\",Rallye!D86<>\"Section\"),T41+P42,),T41)","v":"21:26:00"},{"$f":"IF(AND(Rallye!D86<>\"\",Rallye!D86<>\"Section\"),T42+$U$10,)","v":"00:00:00"},{"$f":"IF(AND(Rallye!D86<>\"\",Rallye!D86<>\"Section\"),U42+$V$10,)","v":"00:00:00"}]
[null,{"$f":"Rallye!B87","v":0},{"$f":"Rallye!C87","v":0},{"$f":"Rallye!D87","v":0},{"$f":"IF(AND(Rallye!D87<>\"\",Rallye!D87<>\"Section\"),($Q43-E$10),)","v":"00:00:00"},{"$f":"IF(AND(Rallye!D87<>\"\",Rallye!D87<>\"Section\"),($Q43-F$10),)","v":"00:00:00"},{"$f":"IF(AND(Rallye!D87<>\"\",Rallye!D87<>\"Section\"),($Q43-G$10),)","v":"00:00:00"},{"$f":"IF(AND(Rallye!D87<>\"\",Rallye!D87<>\"Section\"),($Q43-H$10),)","v":"00:00:00"},{"$f":"IF(AND(Rallye!D87<>\"\",Rallye!D87<>\"Section\"),($Q43-I$10),)","v":"00:00:00"},{"$f":"IF(AND(Rallye!D87<>\"\",Rallye!D87<>\"Section\"),($Q43-J$10),)","v":"00:00:00"},{"$f":"IF(AND(Rallye!D87<>\"\",Rallye!D87<>\"Section\"),($Q43-K$10),)","v":"00:00:00"},{"$f":"IF(AND(Rallye!D87<>\"\",Rallye!D87<>\"Section\"),($Q43-L$10),)","v":"00:00:00"},{"$f":"IF(AND(Rallye!D87<>\"\",Rallye!D87<>\"Section\"),($Q43-M$10),)","v":"00:00:00"},{"$f":"IF(AND(Rallye!D87<>\"\",Rallye!D87<>\"Section\"),($Q43-N$10),)","v":"00:00:00"},{"$f":"IF(AND(Rallye!D87<>\"\",Rallye!D87<>\"Section\"),($Q43-O$10),)","v":"00:00:00"},{"$f":"Rallye!F86","v":"00:00:00"},{"$f":"IF(P43>0,IF(OR(Rallye!D87<>\"\",Rallye!D87<>\"Section\"),Q42+P43,),Q42)","v":"21:07:00"},{"$f":"IF(Q43>0,IF(AND(Rallye!D87<>\"\",Rallye!D87<>\"Section\"),Q43+T_Etp1_VHC+T_inf_Mod,),0)","v":"00:00:00"},{"$f":"IF(Q43>0,IF(AND(Rallye!D87<>\"\",Rallye!D87<>\"Section\"),R43+T_0_Mod,),0)","v":"00:00:00"},{"$f":"IF(P43>0,IF(AND(Rallye!D87<>\"\",Rallye!D87<>\"Section\"),T42+P43,),T42)","v":"21:26:00"},{"$f":"IF(AND(Rallye!D87<>\"\",Rallye!D87<>\"Section\"),T43+$U$10,)","v":"00:00:00"},{"$f":"IF(AND(Rallye!D87<>\"\",Rallye!D87<>\"Section\"),U43+$V$10,)","v":"00:00:00"}]
[null,{"$f":"Rallye!B88","v":0},{"$f":"Rallye!C88","v":0},{"$f":"Rallye!D88","v":0},{"$f":"IF(AND(Rallye!D88<>\"\",Rallye!D88<>\"Section\"),($Q44-E$10),)","v":"00:00:00"},{"$f":"IF(AND(Rallye!D88<>\"\",Rallye!D88<>\"Section\"),($Q44-F$10),)","v":"00:00:00"},{"$f":"IF(AND(Rallye!D88<>\"\",Rallye!D88<>\"Section\"),($Q44-G$10),)","v":"00:00:00"},{"$f":"IF(AND(Rallye!D88<>\"\",Rallye!D88<>\"Section\"),($Q44-H$10),)","v":"00:00:00"},{"$f":"IF(AND(Rallye!D88<>\"\",Rallye!D88<>\"Section\"),($Q44-I$10),)","v":"00:00:00"},{"$f":"IF(AND(Rallye!D88<>\"\",Rallye!D88<>\"Section\"),($Q44-J$10),)","v":"00:00:00"},{"$f":"IF(AND(Rallye!D88<>\"\",Rallye!D88<>\"Section\"),($Q44-K$10),)","v":"00:00:00"},{"$f":"IF(AND(Rallye!D88<>\"\",Rallye!D88<>\"Section\"),($Q44-L$10),)","v":"00:00:00"},{"$f":"IF(AND(Rallye!D88<>\"\",Rallye!D88<>\"Section\"),($Q44-M$10),)","v":"00:00:00"},{"$f":"IF(AND(Rallye!D88<>\"\",Rallye!D88<>\"Section\"),($Q44-N$10),)","v":"00:00:00"},{"$f":"IF(AND(Rallye!D88<>\"\",Rallye!D88<>\"Section\"),($Q44-O$10),)","v":"00:00:00"},{"$f":"Rallye!F87","v":"00:00:00"},{"$f":"IF(P44>0,IF(OR(Rallye!D88<>\"\",Rallye!D88<>\"Section\"),Q43+P44,),Q43)","v":"21:07:00"},{"$f":"IF(Q44>0,IF(AND(Rallye!D88<>\"\",Rallye!D88<>\"Section\"),Q44+T_Etp1_VHC+T_inf_Mod,),0)","v":"00:00:00"},{"$f":"IF(Q44>0,IF(AND(Rallye!D88<>\"\",Rallye!D88<>\"Section\"),R44+T_0_Mod,),0)","v":"00:00:00"},{"$f":"IF(P44>0,IF(AND(Rallye!D88<>\"\",Rallye!D88<>\"Section\"),T43+P44,),T43)","v":"21:26:00"},{"$f":"IF(AND(Rallye!D88<>\"\",Rallye!D88<>\"Section\"),T44+$U$10,)","v":"00:00:00"},{"$f":"IF(AND(Rallye!D88<>\"\",Rallye!D88<>\"Section\"),U44+$V$10,)","v":"00:00:00"}]
[null,{"$f":"Rallye!B89","v":0},{"$f":"Rallye!C89","v":0},{"$f":"Rallye!D89","v":0},{"$f":"IF(AND(Rallye!D89<>\"\",Rallye!D89<>\"Section\"),($Q45-E$10),)","v":"00:00:00"},{"$f":"IF(AND(Rallye!D89<>\"\",Rallye!D89<>\"Section\"),($Q45-F$10),)","v":"00:00:00"},{"$f":"IF(AND(Rallye!D89<>\"\",Rallye!D89<>\"Section\"),($Q45-G$10),)","v":"00:00:00"},{"$f":"IF(AND(Rallye!D89<>\"\",Rallye!D89<>\"Section\"),($Q45-H$10),)","v":"00:00:00"},{"$f":"IF(AND(Rallye!D89<>\"\",Rallye!D89<>\"Section\"),($Q45-I$10),)","v":"00:00:00"},{"$f":"IF(AND(Rallye!D89<>\"\",Rallye!D89<>\"Section\"),($Q45-J$10),)","v":"00:00:00"},{"$f":"IF(AND(Rallye!D89<>\"\",Rallye!D89<>\"Section\"),($Q45-K$10),)","v":"00:00:00"},{"$f":"IF(AND(Rallye!D89<>\"\",Rallye!D89<>\"Section\"),($Q45-L$10),)","v":"00:00:00"},{"$f":"IF(AND(Rallye!D89<>\"\",Rallye!D89<>\"Section\"),($Q45-M$10),)","v":"00:00:00"},{"$f":"IF(AND(Rallye!D89<>\"\",Rallye!D89<>\"Section\"),($Q45-N$10),)","v":"00:00:00"},{"$f":"IF(AND(Rallye!D89<>\"\",Rallye!D89<>\"Section\"),($Q45-O$10),)","v":"00:00:00"},{"$f":"Rallye!F88","v":"00:00:00"},{"$f":"IF(P45>0,IF(OR(Rallye!D89<>\"\",Rallye!D89<>\"Section\"),Q44+P45,),Q44)","v":"21:07:00"},{"$f":"IF(Q45>0,IF(AND(Rallye!D89<>\"\",Rallye!D89<>\"Section\"),Q45+T_Etp1_VHC+T_inf_Mod,),0)","v":"00:00:00"},{"$f":"IF(Q45>0,IF(AND(Rallye!D89<>\"\",Rallye!D89<>\"Section\"),R45+T_0_Mod,),0)","v":"00:00:00"},{"$f":"IF(P45>0,IF(AND(Rallye!D89<>\"\",Rallye!D89<>\"Section\"),T44+P45,),T44)","v":"21:26:00"},{"$f":"IF(AND(Rallye!D89<>\"\",Rallye!D89<>\"Section\"),T45+$U$10,)","v":"00:00:00"},{"$f":"IF(AND(Rallye!D89<>\"\",Rallye!D89<>\"Section\"),U45+$V$10,)","v":"00:00:00"}]
[null,{"$f":"Rallye!B90","v":0},{"$f":"Rallye!C90","v":0},{"$f":"Rallye!D90","v":0},{"$f":"IF(AND(Rallye!D90<>\"\",Rallye!D90<>\"Section\"),($Q46-E$10),)","v":"00:00:00"},{"$f":"IF(AND(Rallye!D90<>\"\",Rallye!D90<>\"Section\"),($Q46-F$10),)","v":"00:00:00"},{"$f":"IF(AND(Rallye!D90<>\"\",Rallye!D90<>\"Section\"),($Q46-G$10),)","v":"00:00:00"},{"$f":"IF(AND(Rallye!D90<>\"\",Rallye!D90<>\"Section\"),($Q46-H$10),)","v":"00:00:00"},{"$f":"IF(AND(Rallye!D90<>\"\",Rallye!D90<>\"Section\"),($Q46-I$10),)","v":"00:00:00"},{"$f":"IF(AND(Rallye!D90<>\"\",Rallye!D90<>\"Section\"),($Q46-J$10),)","v":"00:00:00"},{"$f":"IF(AND(Rallye!D90<>\"\",Rallye!D90<>\"Section\"),($Q46-K$10),)","v":"00:00:00"},{"$f":"IF(AND(Rallye!D90<>\"\",Rallye!D90<>\"Section\"),($Q46-L$10),)","v":"00:00:00"},{"$f":"IF(AND(Rallye!D90<>\"\",Rallye!D90<>\"Section\"),($Q46-M$10),)","v":"00:00:00"},{"$f":"IF(AND(Rallye!D90<>\"\",Rallye!D90<>\"Section\"),($Q46-N$10),)","v":"00:00:00"},{"$f":"IF(AND(Rallye!D90<>\"\",Rallye!D90<>\"Section\"),($Q46-O$10),)","v":"00:00:00"},{"$f":"Rallye!F89","v":"00:00:00"},{"$f":"IF(P46>0,IF(OR(Rallye!D90<>\"\",Rallye!D90<>\"Section\"),Q45+P46,),Q45)","v":"21:07:00"},{"$f":"IF(Q46>0,IF(AND(Rallye!D90<>\"\",Rallye!D90<>\"Section\"),Q46+T_Etp1_VHC+T_inf_Mod,),0)","v":"00:00:00"},{"$f":"IF(Q46>0,IF(AND(Rallye!D90<>\"\",Rallye!D90<>\"Section\"),R46+T_0_Mod,),0)","v":"00:00:00"},{"$f":"IF(P46>0,IF(AND(Rallye!D90<>\"\",Rallye!D90<>\"Section\"),T45+P46,),T45)","v":"21:26:00"},{"$f":"IF(AND(Rallye!D90<>\"\",Rallye!D90<>\"Section\"),T46+$U$10,)","v":"00:00:00"},{"$f":"IF(AND(Rallye!D90<>\"\",Rallye!D90<>\"Section\"),U46+$V$10,)","v":"00:00:00"}]
[null,{"$f":"Rallye!B91","v":0},{"$f":"Rallye!C91","v":0},{"$f":"Rallye!D91","v":0},{"$f":"IF(AND(Rallye!D91<>\"\",Rallye!D91<>\"Section\"),($Q47-E$10),)","v":"00:00:00"},{"$f":"IF(AND(Rallye!D91<>\"\",Rallye!D91<>\"Section\"),($Q47-F$10),)","v":"00:00:00"},{"$f":"IF(AND(Rallye!D91<>\"\",Rallye!D91<>\"Section\"),($Q47-G$10),)","v":"00:00:00"},{"$f":"IF(AND(Rallye!D91<>\"\",Rallye!D91<>\"Section\"),($Q47-H$10),)","v":"00:00:00"},{"$f":"IF(AND(Rallye!D91<>\"\",Rallye!D91<>\"Section\"),($Q47-I$10),)","v":"00:00:00"},{"$f":"IF(AND(Rallye!D91<>\"\",Rallye!D91<>\"Section\"),($Q47-J$10),)","v":"00:00:00"},{"$f":"IF(AND(Rallye!D91<>\"\",Rallye!D91<>\"Section\"),($Q47-K$10),)","v":"00:00:00"},{"$f":"IF(AND(Rallye!D91<>\"\",Rallye!D91<>\"Section\"),($Q47-L$10),)","v":"00:00:00"},{"$f":"IF(AND(Rallye!D91<>\"\",Rallye!D91<>\"Section\"),($Q47-M$10),)","v":"00:00:00"},{"$f":"IF(AND(Rallye!D91<>\"\",Rallye!D91<>\"Section\"),($Q47-N$10),)","v":"00:00:00"},{"$f":"IF(AND(Rallye!D91<>\"\",Rallye!D91<>\"Section\"),($Q47-O$10),)","v":"00:00:00"},{"$f":"Rallye!F90","v":"00:00:00"},{"$f":"IF(P47>0,IF(OR(Rallye!D91<>\"\",Rallye!D91<>\"Section\"),Q46+P47,),Q46)","v":"21:07:00"},{"$f":"IF(Q47>0,IF(AND(Rallye!D91<>\"\",Rallye!D91<>\"Section\"),Q47+T_Etp1_VHC+T_inf_Mod,),0)","v":"00:00:00"},{"$f":"IF(Q47>0,IF(AND(Rallye!D91<>\"\",Rallye!D91<>\"Section\"),R47+T_0_Mod,),0)","v":"00:00:00"},{"$f":"IF(P47>0,IF(AND(Rallye!D91<>\"\",Rallye!D91<>\"Section\"),T46+P47,),T46)","v":"21:26:00"},{"$f":"IF(AND(Rallye!D91<>\"\",Rallye!D91<>\"Section\"),T47+$U$10,)","v":"00:00:00"},{"$f":"IF(AND(Rallye!D91<>\"\",Rallye!D91<>\"Section\"),U47+$V$10,)","v":"00:00:00"}]
[null,{"$f":"Rallye!B92","v":0},{"$f":"Rallye!C92","v":0},{"$f":"Rallye!D92","v":0},{"$f":"IF(AND(Rallye!D92<>\"\",Rallye!D92<>\"Section\"),($Q48-E$10),)","v":"00:00:00"},{"$f":"IF(AND(Rallye!D92<>\"\",Rallye!D92<>\"Section\"),($Q48-F$10),)","v":"00:00:00"},{"$f":"IF(AND(Rallye!D92<>\"\",Rallye!D92<>\"Section\"),($Q48-G$10),)","v":"00:00:00"},{"$f":"IF(AND(Rallye!D92<>\"\",Rallye!D92<>\"Section\"),($Q48-H$10),)","v":"00:00:00"},{"$f":"IF(AND(Rallye!D92<>\"\",Rallye!D92<>\"Section\"),($Q48-I$10),)","v":"00:00:00"},{"$f":"IF(AND(Rallye!D92<>\"\",Rallye!D92<>\"Section\"),($Q48-J$10),)","v":"00:00:00"},{"$f":"IF(AND(Rallye!D92<>\"\",Rallye!D92<>\"Section\"),($Q48-K$10),)","v":"00:00:00"},{"$f":"IF(AND(Rallye!D92<>\"\",Rallye!D92<>\"Section\"),($Q48-L$10),)","v":"00:00:00"},{"$f":"IF(AND(Rallye!D92<>\"\",Rallye!D92<>\"Section\"),($Q48-M$10),)","v":"00:00:00"},{"$f":"IF(AND(Rallye!D92<>\"\",Rallye!D92<>\"Section\"),($Q48-N$10),)","v":"00:00:00"},{"$f":"IF(AND(Rallye!D92<>\"\",Rallye!D92<>\"Section\"),($Q48-O$10),)","v":"00:00:00"},{"$f":"Rallye!F91","v":"00:00:00"},{"$f":"IF(P48>0,IF(OR(Rallye!D92<>\"\",Rallye!D92<>\"Section\"),Q47+P48,),Q47)","v":"21:07:00"},{"$f":"IF(Q48>0,IF(AND(Rallye!D92<>\"\",Rallye!D92<>\"Section\"),Q48+T_Etp1_VHC+T_inf_Mod,),0)","v":"00:00:00"},{"$f":"IF(Q48>0,IF(AND(Rallye!D92<>\"\",Rallye!D92<>\"Section\"),R48+T_0_Mod,),0)","v":"00:00:00"},{"$f":"IF(P48>0,IF(AND(Rallye!D92<>\"\",Rallye!D92<>\"Section\"),T47+P48,),T47)","v":"21:26:00"},{"$f":"IF(AND(Rallye!D92<>\"\",Rallye!D92<>\"Section\"),T48+$U$10,)","v":"00:00:00"},{"$f":"IF(AND(Rallye!D92<>\"\",Rallye!D92<>\"Section\"),U48+$V$10,)","v":"00:00:00"}]
[null,{"$f":"Rallye!B93","v":0},{"$f":"Rallye!C93","v":0},{"$f":"Rallye!D93","v":0},{"$f":"IF(AND(Rallye!D93<>\"\",Rallye!D93<>\"Section\"),($Q49-E$10),)","v":"00:00:00"},{"$f":"IF(AND(Rallye!D93<>\"\",Rallye!D93<>\"Section\"),($Q49-F$10),)","v":"00:00:00"},{"$f":"IF(AND(Rallye!D93<>\"\",Rallye!D93<>\"Section\"),($Q49-G$10),)","v":"00:00:00"},{"$f":"IF(AND(Rallye!D93<>\"\",Rallye!D93<>\"Section\"),($Q49-H$10),)","v":"00:00:00"},{"$f":"IF(AND(Rallye!D93<>\"\",Rallye!D93<>\"Section\"),($Q49-I$10),)","v":"00:00:00"},{"$f":"IF(AND(Rallye!D93<>\"\",Rallye!D93<>\"Section\"),($Q49-J$10),)","v":"00:00:00"},{"$f":"IF(AND(Rallye!D93<>\"\",Rallye!D93<>\"Section\"),($Q49-K$10),)","v":"00:00:00"},{"$f":"IF(AND(Rallye!D93<>\"\",Rallye!D93<>\"Section\"),($Q49-L$10),)","v":"00:00:00"},{"$f":"IF(AND(Rallye!D93<>\"\",Rallye!D93<>\"Section\"),($Q49-M$10),)","v":"00:00:00"},{"$f":"IF(AND(Rallye!D93<>\"\",Rallye!D93<>\"Section\"),($Q49-N$10),)","v":"00:00:00"},{"$f":"IF(AND(Rallye!D93<>\"\",Rallye!D93<>\"Section\"),($Q49-O$10),)","v":"00:00:00"},{"$f":"Rallye!F92","v":"00:00:00"},{"$f":"IF(P49>0,IF(OR(Rallye!D93<>\"\",Rallye!D93<>\"Section\"),Q48+P49,),Q48)","v":"21:07:00"},{"$f":"IF(Q49>0,IF(AND(Rallye!D93<>\"\",Rallye!D93<>\"Section\"),Q49+T_Etp1_VHC+T_inf_Mod,),0)","v":"00:00:00"},{"$f":"IF(Q49>0,IF(AND(Rallye!D93<>\"\",Rallye!D93<>\"Section\"),R49+T_0_Mod,),0)","v":"00:00:00"},{"$f":"IF(P49>0,IF(AND(Rallye!D93<>\"\",Rallye!D93<>\"Section\"),T48+P49,),T48)","v":"21:26:00"},{"$f":"IF(AND(Rallye!D93<>\"\",Rallye!D93<>\"Section\"),T49+$U$10,)","v":"00:00:00"},{"$f":"IF(AND(Rallye!D93<>\"\",Rallye!D93<>\"Section\"),U49+$V$10,)","v":"00:00:00"}]
[null,{"$f":"Rallye!B94","v":0},{"$f":"Rallye!C94","v":0},{"$f":"Rallye!D94","v":0},{"$f":"IF(AND(Rallye!D94<>\"\",Rallye!D94<>\"Section\"),($Q50-E$10),)","v":"00:00:00"},{"$f":"IF(AND(Rallye!D94<>\"\",Rallye!D94<>\"Section\"),($Q50-F$10),)","v":"00:00:00"},{"$f":"IF(AND(Rallye!D94<>\"\",Rallye!D94<>\"Section\"),($Q50-G$10),)","v":"00:00:00"},{"$f":"IF(AND(Rallye!D94<>\"\",Rallye!D94<>\"Section\"),($Q50-H$10),)","v":"00:00:00"},{"$f":"IF(AND(Rallye!D94<>\"\",Rallye!D94<>\"Section\"),($Q50-I$10),)","v":"00:00:00"},{"$f":"IF(AND(Rallye!D94<>\"\",Rallye!D94<>\"Section\"),($Q50-J$10),)","v":"00:00:00"},{"$f":"IF(AND(Rallye!D94<>\"\",Rallye!D94<>\"Section\"),($Q50-K$10),)","v":"00:00:00"},{"$f":"IF(AND(Rallye!D94<>\"\",Rallye!D94<>\"Section\"),($Q50-L$10),)","v":"00:00:00"},{"$f":"IF(AND(Rallye!D94<>\"\",Rallye!D94<>\"Section\"),($Q50-M$10),)","v":"00:00:00"},{"$f":"IF(AND(Rallye!D94<>\"\",Rallye!D94<>\"Section\"),($Q50-N$10),)","v":"00:00:00"},{"$f":"IF(AND(Rallye!D94<>\"\",Rallye!D94<>\"Section\"),($Q50-O$10),)","v":"00:00:00"},{"$f":"Rallye!F93","v":"00:00:00"},{"$f":"IF(P50>0,IF(OR(Rallye!D94<>\"\",Rallye!D94<>\"Section\"),Q49+P50,),Q49)","v":"21:07:00"},{"$f":"IF(Q50>0,IF(AND(Rallye!D94<>\"\",Rallye!D94<>\"Section\"),Q50+T_Etp1_VHC+T_inf_Mod,),0)","v":"00:00:00"},{"$f":"IF(Q50>0,IF(AND(Rallye!D94<>\"\",Rallye!D94<>\"Section\"),R50+T_0_Mod,),0)","v":"00:00:00"},{"$f":"IF(P50>0,IF(AND(Rallye!D94<>\"\",Rallye!D94<>\"Section\"),T49+P50,),T49)","v":"21:26:00"},{"$f":"IF(AND(Rallye!D94<>\"\",Rallye!D94<>\"Section\"),T50+$U$10,)","v":"00:00:00"},{"$f":"IF(AND(Rallye!D94<>\"\",Rallye!D94<>\"Section\"),U50+$V$10,)","v":"00:00:00"}]
[null,{"$f":"Rallye!B95","v":0},{"$f":"Rallye!C95","v":0},{"$f":"Rallye!D95","v":0},{"$f":"IF(AND(Rallye!D95<>\"\",Rallye!D95<>\"Section\"),($Q51-E$10),)","v":"00:00:00"},{"$f":"IF(AND(Rallye!D95<>\"\",Rallye!D95<>\"Section\"),($Q51-F$10),)","v":"00:00:00"},{"$f":"IF(AND(Rallye!D95<>\"\",Rallye!D95<>\"Section\"),($Q51-G$10),)","v":"00:00:00"},{"$f":"IF(AND(Rallye!D95<>\"\",Rallye!D95<>\"Section\"),($Q51-H$10),)","v":"00:00:00"},{"$f":"IF(AND(Rallye!D95<>\"\",Rallye!D95<>\"Section\"),($Q51-I$10),)","v":"00:00:00"},{"$f":"IF(AND(Rallye!D95<>\"\",Rallye!D95<>\"Section\"),($Q51-J$10),)","v":"00:00:00"},{"$f":"IF(AND(Rallye!D95<>\"\",Rallye!D95<>\"Section\"),($Q51-K$10),)","v":"00:00:00"},{"$f":"IF(AND(Rallye!D95<>\"\",Rallye!D95<>\"Section\"),($Q51-L$10),)","v":"00:00:00"},{"$f":"IF(AND(Rallye!D95<>\"\",Rallye!D95<>\"Section\"),($Q51-M$10),)","v":"00:00:00"},{"$f":"IF(AND(Rallye!D95<>\"\",Rallye!D95<>\"Section\"),($Q51-N$10),)","v":"00:00:00"},{"$f":"IF(AND(Rallye!D95<>\"\",Rallye!D95<>\"Section\"),($Q51-O$10),)","v":"00:00:00"},{"$f":"Rallye!F94","v":"00:00:00"},{"$f":"IF(P51>0,IF(OR(Rallye!D95<>\"\",Rallye!D95<>\"Section\"),Q50+P51,),Q50)","v":"21:07:00"},{"$f":"IF(Q51>0,IF(AND(Rallye!D95<>\"\",Rallye!D95<>\"Section\"),Q51+T_Etp1_VHC+T_inf_Mod,),0)","v":"00:00:00"},{"$f":"IF(Q51>0,IF(AND(Rallye!D95<>\"\",Rallye!D95<>\"Section\"),R51+T_0_Mod,),0)","v":"00:00:00"},{"$f":"IF(P51>0,IF(AND(Rallye!D95<>\"\",Rallye!D95<>\"Section\"),T50+P51,),T50)","v":"21:26:00"},{"$f":"IF(AND(Rallye!D95<>\"\",Rallye!D95<>\"Section\"),T51+$U$10,)","v":"00:00:00"},{"$f":"IF(AND(Rallye!D95<>\"\",Rallye!D95<>\"Section\"),U51+$V$10,)","v":"00:00:00"}]
[null,{"$f":"Rallye!B96","v":0},{"$f":"Rallye!C96","v":0},{"$f":"Rallye!D96","v":0},{"$f":"IF(AND(Rallye!D96<>\"\",Rallye!D96<>\"Section\"),($Q52-E$10),)","v":"00:00:00"},{"$f":"IF(AND(Rallye!D96<>\"\",Rallye!D96<>\"Section\"),($Q52-F$10),)","v":"00:00:00"},{"$f":"IF(AND(Rallye!D96<>\"\",Rallye!D96<>\"Section\"),($Q52-G$10),)","v":"00:00:00"},{"$f":"IF(AND(Rallye!D96<>\"\",Rallye!D96<>\"Section\"),($Q52-H$10),)","v":"00:00:00"},{"$f":"IF(AND(Rallye!D96<>\"\",Rallye!D96<>\"Section\"),($Q52-I$10),)","v":"00:00:00"},{"$f":"IF(AND(Rallye!D96<>\"\",Rallye!D96<>\"Section\"),($Q52-J$10),)","v":"00:00:00"},{"$f":"IF(AND(Rallye!D96<>\"\",Rallye!D96<>\"Section\"),($Q52-K$10),)","v":"00:00:00"},{"$f":"IF(AND(Rallye!D96<>\"\",Rallye!D96<>\"Section\"),($Q52-L$10),)","v":"00:00:00"},{"$f":"IF(AND(Rallye!D96<>\"\",Rallye!D96<>\"Section\"),($Q52-M$10),)","v":"00:00:00"},{"$f":"IF(AND(Rallye!D96<>\"\",Rallye!D96<>\"Section\"),($Q52-N$10),)","v":"00:00:00"},{"$f":"IF(AND(Rallye!D96<>\"\",Rallye!D96<>\"Section\"),($Q52-O$10),)","v":"00:00:00"},{"$f":"Rallye!F95","v":"00:00:00"},{"$f":"IF(P52>0,IF(OR(Rallye!D96<>\"\",Rallye!D96<>\"Section\"),Q51+P52,),Q51)","v":"21:07:00"},{"$f":"IF(Q52>0,IF(AND(Rallye!D96<>\"\",Rallye!D96<>\"Section\"),Q52+T_Etp1_VHC+T_inf_Mod,),0)","v":"00:00:00"},{"$f":"IF(Q52>0,IF(AND(Rallye!D96<>\"\",Rallye!D96<>\"Section\"),R52+T_0_Mod,),0)","v":"00:00:00"},{"$f":"IF(P52>0,IF(AND(Rallye!D96<>\"\",Rallye!D96<>\"Section\"),T51+P52,),T51)","v":"21:26:00"},{"$f":"IF(AND(Rallye!D96<>\"\",Rallye!D96<>\"Section\"),T52+$U$10,)","v":"00:00:00"},{"$f":"IF(AND(Rallye!D96<>\"\",Rallye!D96<>\"Section\"),U52+$V$10,)","v":"00:00:00"}]
[null,{"$f":"Rallye!B97","v":0},{"$f":"Rallye!C97","v":0},{"$f":"Rallye!D97","v":0},{"$f":"IF(AND(Rallye!D97<>\"\",Rallye!D97<>\"Section\"),($Q53-E$10),)","v":"00:00:00"},{"$f":"IF(AND(Rallye!D97<>\"\",Rallye!D97<>\"Section\"),($Q53-F$10),)","v":"00:00:00"},{"$f":"IF(AND(Rallye!D97<>\"\",Rallye!D97<>\"Section\"),($Q53-G$10),)","v":"00:00:00"},{"$f":"IF(AND(Rallye!D97<>\"\",Rallye!D97<>\"Section\"),($Q53-H$10),)","v":"00:00:00"},{"$f":"IF(AND(Rallye!D97<>\"\",Rallye!D97<>\"Section\"),($Q53-I$10),)","v":"00:00:00"},{"$f":"IF(AND(Rallye!D97<>\"\",Rallye!D97<>\"Section\"),($Q53-J$10),)","v":"00:00:00"},{"$f":"IF(AND(Rallye!D97<>\"\",Rallye!D97<>\"Section\"),($Q53-K$10),)","v":"00:00:00"},{"$f":"IF(AND(Rallye!D97<>\"\",Rallye!D97<>\"Section\"),($Q53-L$10),)","v":"00:00:00"},{"$f":"IF(AND(Rallye!D97<>\"\",Rallye!D97<>\"Section\"),($Q53-M$10),)","v":"00:00:00"},{"$f":"IF(AND(Rallye!D97<>\"\",Rallye!D97<>\"Section\"),($Q53-N$10),)","v":"00:00:00"},{"$f":"IF(AND(Rallye!D97<>\"\",Rallye!D97<>\"Section\"),($Q53-O$10),)","v":"00:00:00"},{"$f":"Rallye!F96","v":"00:00:00"},{"$f":"IF(P53>0,IF(OR(Rallye!D97<>\"\",Rallye!D97<>\"Section\"),Q52+P53,),Q52)","v":"21:07:00"},{"$f":"IF(Q53>0,IF(AND(Rallye!D97<>\"\",Rallye!D97<>\"Section\"),Q53+T_Etp1_VHC+T_inf_Mod,),0)","v":"00:00:00"},{"$f":"IF(Q53>0,IF(AND(Rallye!D97<>\"\",Rallye!D97<>\"Section\"),R53+T_0_Mod,),0)","v":"00:00:00"},{"$f":"IF(P53>0,IF(AND(Rallye!D97<>\"\",Rallye!D97<>\"Section\"),T52+P53,),T52)","v":"21:26:00"},{"$f":"IF(AND(Rallye!D97<>\"\",Rallye!D97<>\"Section\"),T53+$U$10,)","v":"00:00:00"},{"$f":"IF(AND(Rallye!D97<>\"\",Rallye!D97<>\"Section\"),U53+$V$10,)","v":"00:00:00"}]

{"sheet":"Horaires Etap2","index":7,"n_rows":58,"n_cols":22,"rows_kept":58,"cut":false,"hidden":false,"merged":[[6,7,6,14],[58,12,58,15],[6,1,6,6],[4,7,5,9],[3,1,3,6],[4,1,4,6],[5,1,5,6],[4,15,4,20],[3,15,3,20],[4,10,5,14]]}
[]
[]
[]
[null,{"$f":"Rallye!E10","v":"16ème Rallye du PAYS de St-YRIEX"},null,null,null,null,null,null,null,null,null,null,null,null,null,"Durée Prévue Etape = ",null,null,null,null,null,{"$f":"(SUM(P10:P58)+(TIME(0,ABS(V9+V6+T6+(Q7*2)-1),0)))","v":"08:14:00"}]
[null,{"$f":"Rallye!E11","v":"3ème Rallye VHC du PAYS de St-YRIEX"},null,null,null,null,null,"HORAIRES",null,null,{"$f":"Rallye!E99","v":"2ème Etape Sections 3 - 4 - 5"},null,null,null,null,"Réintégration  = ",null,null,null,null,null,{"$f":"Etap1!H59","v":6}]
[null,{"$f":"Rallye!E19","v":"ASA Saint Martial"},null,null,null,null,null,null,null,null,null,null,null,null,null,"En Course =",{"$f":"Etap2!G62","v":45},null,"nb VHC=",5,"Tps ajouté =",10]
[null,{"$f":"Rallye!E14","v":"LRSA Nouvelle Aquitaine Sud"},null,null,null,null,null,{"$f":"Rallye!E101","v":"2018-09-16"},null,null,null,null,null,null,null,"nb 2' =",null,null,null,{"$f":"IF(T6>0,(TIME(0,ABS(T6)-1,0)))","v":"00:04:00"},"Durée E.S. =",{"$f":"V11-Q11+V6","v":10.052083333333334}]
[null,null,null,null,"Orga","Sécurité","TRICO","Autorité","Promo 1","Promo 2","Observ","Info-Sono","000","00","0 VH","TEMPS","1ère Voiture","Dern VHC","0 Mod","1ère Voiture","Dern Voiture","BALAI"]
[null,null,null,null,-90,-75,-60,-40,-39,-38,-37,-30,-25,-15,-10,"Imparti","VHC",null,5,"Modernes","Théorique",2]
[null,{"$f":"Rallye!B105","v":0},{"$f":"Rallye!C105","v":"3ème"},{"$f":"Rallye!D105","v":"Section"},{"$f":"TIME(0,ABS(E9),0)","v":"01:30:00"},"01:15:00","01:00:00","00:40:00","00:39:00","00:38:00","00:37:00","00:30:00","00:25:00","00:15:00","00:10:00",null,null,{"$f":"TIME(0,ABS(R9),0)","v":"00:00:00"},{"$f":"TIME(0,ABS(S9),0)","v":"00:05:00"},"00:10:00",{"$f":"TIME(0,ABS((Q6-1)+(Q7*2)+(V6)),0)","v":"00:54:00"},{"$f":"TIME(0,ABS(V9),0)","v":"00:02:00"}]
[null,{"$f":"Rallye!B106","v":"C.H. :"},{"$f":"Rallye!C106","v":"6B"},{"$f":"Rallye!D106","v":"Sortie Parc Départ"},{"$f":"$Q11-E$10","v":"06:00:00"},{"$f":"$Q11-F$10","v":"06:15:00"},{"$f":"$Q11-G$10","v":"06:30:00"},{"$f":"$Q11-H$10","v":"06:50:00"},{"$f":"$Q11-I$10","v":"06:51:00"},{"$f":"IF(AND(H11<>\"\",Q11>0),($Q11-J$10),)","v":"06:52:00"},{"$f":"IF(AND(J11<>\"\",Q11>0),($Q11-K$10),)","v":"06:53:00"},{"$f":"IF(AND(J11<>\"\",Q11>0),($Q11-L$10),)","v":"07:00:00"},{"$f":"IF(AND(K11<>\"\",Q11>0),($Q11-M$10),)","v":"07:05:00"},{"$f":"IF(AND(M11<>\"\",Q11>0),($Q11-N$10),)","v":"07:15:00"},{"$f":"IF(AND(N11<>\"\",Q11>0),($Q11-O$10),)","v":"07:20:00"},{"$f":"Rallye!F105","v":"00:00:00"},{"$f":"Rallye!G101","v":"07:30:00"},{"$f":"Q11+T_Etp2_VHC+R10","v":"07:34:00"},{"$f":"R11+VHCT1","v":"07:39:00"},{"$f":"S11+T10","v":"07:49:00"},{"$f":"IF(D11<>\"\",T11+$U$10,)","v":"08:43:00"},{"$f":"IF(D11>0,U11+$V$10,)","v":"08:45:00"}]
[null,{"$f":"Rallye!B107","v":"C.H. :"},{"$f":"Rallye!C107","v":"6C"},{"$f":"Rallye!D107","v":"Entrée Assist (Stade St Yriex)"},{"$f":"IF(AND(Rallye!D107<>\"\",Rallye!D107<>\"Section\"),($Q12-E$10),)","v":"06:05:00"},{"$f":"IF(AND(Rallye!D107<>\"\",Rallye!D107<>\"Section\"),($Q12-F$10),)","v":"06:20:00"},{"$f":"IF(AND(Rallye!D107<>\"\",Rallye!D107<>\"Section\"),($Q12-G$10),)","v":"06:35:00"},{"$f":"IF(AND(Rallye!D107<>\"\",Rallye!D107<>\"Section\"),($Q12-H$10),)","v":"06:55:00"},{"$f":"IF(AND(Rallye!D107<>\"\",Rallye!D107<>\"Section\"),($Q12-I$10),)","v":"06:56:00"},{"$f":"IF(AND(Rallye!D107<>\"\",Rallye!D107<>\"Section\"),($Q12-J$10),)","v":"06:57:00"},{"$f":"IF(AND(Rallye!D107<>\"\",Rallye!D107<>\"Section\"),($Q12-K$10),)","v":"06:58:00"},{"$f":"IF(AND(Rallye!D107<>\"\",Rallye!D107<>\"Section\"),($Q12-L$10),)","v":"07:05:00"},{"$f":"IF(AND(Rallye!D107<>\"\",Rallye!D107<>\"Section\"),($Q12-M$10),)","v":"07:10:00"},{"$f":"IF(AND(Rallye!D107<>\"\",Rallye!D107<>\"Section\"),($Q12-N$10),)","v":"07:20:00"},{"$f":"IF(AND(Rallye!D107<>\"\",Rallye!D107<>\"Section\"),($Q12-O$10),)","v":"07:25:00"},{"$f":"Rallye!F106","v":"00:05:00"},{"$f":"IF(P12>0,IF(OR(Rallye!D107<>\"\",Rallye!D107<>\"Section\"),Q11+P12,),Q11)","v":"07:35:00"},{"$f":"IF(Q12>0,IF(AND(Rallye!D107<>\"\",Rallye!D107<>\"Section\"),Q12+T_Etp2_VHC+T_inf_Mod,),0)","v":"07:39:00"},{"$f":"IF(Q12>0,IF(AND(Rallye!D107<>\"\",Rallye!D107<>\"Section\"),R12+T_0_Mod,),0)","v":"07:44:00"},{"$f":"IF(P12>0,IF(AND(Rallye!D107<>\"\",Rallye!D107<>\"Section\"),T11+P12,),T11)","v":"07:54:00"},{"$f":"IF(AND(Rallye!D107<>\"\",Rallye!D107<>\"Section\"),T12+$U$10,)","v":"08:48:00"},{"$f":"IF(AND(Rallye!D107<>\"\",Rallye!D107<>\"Section\"),U12+$V$10,)","v":"08:50:00"}]
[null,{"$f":"Rallye!B108","v":"C.H. :"},{"$f":"Rallye!C108","v":"6D"},{"$f":"Rallye!D108","v":"Sortie Assistance"},{"$f":"IF(AND(Rallye!D108<>\"\",Rallye!D108<>\"Section\"),($Q13-E$10),)","v":"06:25:00"},{"$f":"IF(AND(Rallye!D108<>\"\",Rallye!D108<>\"Section\"),($Q13-F$10),)","v":"06:40:00"},{"$f":"IF(AND(Rallye!D108<>\"\",Rallye!D108<>\"Section\"),($Q13-G$10),)","v":"06:55:00"},{"$f":"IF(AND(Rallye!D108<>\"\",Rallye!D108<>\"Section\"),($Q13-H$10),)","v":"07:15:00"},{"$f":"IF(AND(Rallye!D108<>\"\",Rallye!D108<>\"Section\"),($Q13-I$10),)","v":"07:16:00"},{"$f":"IF(AND(Rallye!D108<>\"\",Rallye!D108<>\"Section\"),($Q13-J$10),)","v":"07:17:00"},{"$f":"IF(AND(Rallye!D108<>\"\",Rallye!D108<>\"Section\"),($Q13-K$10),)","v":"07:18:00"},{"$f":"IF(AND(Rallye!D108<>\"\",Rallye!D108<>\"Section\"),($Q13-L$10),)","v":"07:25:00"},{"$f":"IF(AND(Rallye!D108<>\"\",Rallye!D108<>\"Section\"),($Q13-M$10),)","v":"07:30:00"},{"$f":"IF(AND(Rallye!D108<>\"\",Rallye!D108<>\"Section\"),($Q13-N$10),)","v":"07:40:00"},{"$f":"IF(AND(Rallye!D108<>\"\",Rallye!D108<>\"Section\"),($Q13-O$10),)","v":"07:45:00"},{"$f":"Rallye!F107","v":"00:20:00"},{"$f":"IF(P13>0,IF(OR(Rallye!D108<>\"\",Rallye!D108<>\"Section\"),Q12+P13,),Q12)","v":"07:55:00"},{"$f":"IF(Q13>0,IF(AND(Rallye!D108<>\"\",Rallye!D108<>\"Section\"),Q13+T_Etp2_VHC+T_inf_Mod,),0)","v":"07:59:00"},{"$f":"IF(Q13>0,IF(AND(Rallye!D108<>\"\",Rallye!D108<>\"Section\"),R13+T_0_Mod,),0)","v":"08:04:00"},{"$f":"IF(P13>0,IF(AND(Rallye!D108<>\"\",Rallye!D108<>\"Section\"),T12+P13,),T12)","v":"08:14:00"},{"$f":"IF(AND(Rallye!D108<>\"\",Rallye!D108<>\"Section\"),T13+$U$10,)","v":"09:08:00"},{"$f":"IF(AND(Rallye!D108<>\"\",Rallye!D108<>\"Section\"),U13+$V$10,)","v":"09:10:00"}]
[null,{"$f":"Rallye!B109","v":"C.H. :"},{"$f":"Rallye!C109","v":"7"},{"$f":"Rallye!D109","v":"Avant Départ ES 7"},{"$f":"IF(AND(Rallye!D109<>\"\",Rallye!D109<>\"Section\"),($Q14-E$10),)","v":"06:50:00"},{"$f":"IF(AND(Rallye!D109<>\"\",Rallye!D109<>\"Section\"),($Q14-F$10),)","v":"07:05:00"},{"$f":"IF(AND(Rallye!D109<>\"\",Rallye!D109<>\"Section\"),($Q14-G$10),)","v":"07:20:00"},{"$f":"IF(AND(Rallye!D109<>\"\",Rallye!D109<>\"Section\"),($Q14-H$10),)","v":"07:40:00"},{"$f":"IF(AND(Rallye!D109<>\"\",Rallye!D109<>\"Section\"),($Q14-I$10),)","v":"07:41:00"},{"$f":"IF(AND(Rallye!D109<>\"\",Rallye!D109<>\"Section\"),($Q14-J$10),)","v":"07:42:00"},{"$f":"IF(AND(Rallye!D109<>\"\",Rallye!D109<>\"Section\"),($Q14-K$10),)","v":"07:43:00"},{"$f":"IF(AND(Rallye!D109<>\"\",Rallye!D109<>\"Section\"),($Q14-L$10),)","v":"07:50:00"},{"$f":"IF(AND(Rallye!D109<>\"\",Rallye!D109<>\"Section\"),($Q14-M$10),)","v":"07:55:00"},{"$f":"IF(AND(Rallye!D109<>\"\",Rallye!D109<>\"Section\"),($Q14-N$10),)","v":"08:05:00"},{"$f":"IF(AND(Rallye!D109<>\"\",Rallye!D109<>\"Section\"),($Q14-O$10),)","v":"08:10:00"},{"$f":"Rallye!F108","v":"00:25:00"},{"$f":"IF(P14>0,IF(OR(Rallye!D109<>\"\",Rallye!D109<>\"Section\"),Q13+P14,),Q13)","v":"08:20:00"},{"$f":"IF(Q14>0,IF(AND(Rallye!D109<>\"\",Rallye!D109<>\"Section\"),Q14+T_Etp2_VHC+T_inf_Mod,),0)","v":"08:24:00"},{"$f":"IF(Q14>0,IF(AND(Rallye!D109<>\"\",Rallye!D109<>\"Section\"),R14+T_0_Mod,),0)","v":"08:29:00"},{"$f":"IF(P14>0,IF(AND(Rallye!D109<>\"\",Rallye!D109<>\"Section\"),T13+P14,),T13)","v":"08:39:00"},{"$f":"IF(AND(Rallye!D109<>\"\",Rallye!D109<>\"Section\"),T14+$U$10,)","v":"09:33:00"},{"$f":"IF(AND(Rallye!D109<>\"\",Rallye!D109<>\"Section\"),U14+$V$10,)","v":"09:35:00"}]
[null,{"$f":"Rallye!B110","v":"Départ E.S. :"},{"$f":"Rallye!C110","v":"7"},{"$f":"Rallye!D110","v":"La GABIE de la POULE 1 (9 Kms)"},{"$f":"IF(AND(Rallye!D110<>\"\",Rallye!D110<>\"Section\"),($Q15-E$10),)","v":"06:53:00"},{"$f":"IF(AND(Rallye!D110<>\"\",Rallye!D110<>\"Section\"),($Q15-F$10),)","v":"07:08:00"},{"$f":"IF(AND(Rallye!D110<>\"\",Rallye!D110<>\"Section\"),($Q15-G$10),)","v":"07:23:00"},{"$f":"IF(AND(Rallye!D110<>\"\",Rallye!D110<>\"Section\"),($Q15-H$10),)","v":"07:43:00"},{"$f":"IF(AND(Rallye!D110<>\"\",Rallye!D110<>\"Section\"),($Q15-I$10),)","v":"07:44:00"},{"$f":"IF(AND(Rallye!D110<>\"\",Rallye!D110<>\"Section\"),($Q15-J$10),)","v":"07:45:00"},{"$f":"IF(AND(Rallye!D110<>\"\",Rallye!D110<>\"Section\"),($Q15-K$10),)","v":"07:46:00"},{"$f":"IF(AND(Rallye!D110<>\"\",Rallye!D110<>\"Section\"),($Q15-L$10),)","v":"07:53:00"},{"$f":"IF(AND(Rallye!D110<>\"\",Rallye!D110<>\"Section\"),($Q15-M$10),)","v":"07:58:00"},{"$f":"IF(AND(Rallye!D110<>\"\",Rallye!D110<>\"Section\"),($Q15-N$10),)","v":"08:08:00"},{"$f":"IF(AND(Rallye!D110<>\"\",Rallye!D110<>\"Section\"),($Q15-O$10),)","v":"08:13:00"},{"$f":"Rallye!F109","v":"00:03:00"},{"$f":"IF(P15>0,IF(OR(Rallye!D110<>\"\",Rallye!D110<>\"Section\"),Q14+P15,),Q14)","v":"08:23:00"},{"$f":"IF(Q15>0,IF(AND(Rallye!D110<>\"\",Rallye!D110<>\"Section\"),Q15+T_Etp2_VHC+T_inf_Mod,),0)","v":"08:27:00"},{"$f":"IF(Q15>0,IF(AND(Rallye!D110<>\"\",Rallye!D110<>\"Section\"),R15+T_0_Mod,),0)","v":"08:32:00"},{"$f":"IF(P15>0,IF(AND(Rallye!D110<>\"\",Rallye!D110<>\"Section\"),T14+P15,),T14)","v":"08:42:00"},{"$f":"IF(AND(Rallye!D110<>\"\",Rallye!D110<>\"Section\"),T15+$U$10,)","v":"09:36:00"},{"$f":"IF(AND(Rallye!D110<>\"\",Rallye!D110<>\"Section\"),U15+$V$10,)","v":"09:38:00"}]
[null,{"$f":"Rallye!B111","v":"Arriv. E.S. :"},{"$f":"Rallye!C111","v":"7"},{"$f":"Rallye!D111","v":0},{"$f":"IF(AND(Rallye!D111<>\"\",Rallye!D111<>\"Section\"),($Q16-E$10),)","v":"00:00:00"},{"$f":"IF(AND(Rallye!D111<>\"\",Rallye!D111<>\"Section\"),($Q16-F$10),)","v":"00:00:00"},{"$f":"IF(AND(Rallye!D111<>\"\",Rallye!D111<>\"Section\"),($Q16-G$10),)","v":"00:00:00"},{"$f":"IF(AND(Rallye!D111<>\"\",Rallye!D111<>\"Section\"),($Q16-H$10),)","v":"00:00:00"},{"$f":"IF(AND(Rallye!D111<>\"\",Rallye!D111<>\"Section\"),($Q16-I$10),)","v":"00:00:00"},{"$f":"IF(AND(Rallye!D111<>\"\",Rallye!D111<>\"Section\"),($Q16-J$10),)","v":"00:00:00"},{"$f":"IF(AND(Rallye!D111<>\"\",Rallye!D111<>\"Section\"),($Q16-K$10),)","v":"00:00:00"},{"$f":"IF(AND(Rallye!D111<>\"\",Rallye!D111<>\"Section\"),($Q16-L$10),)","v":"00:00:00"},{"$f":"IF(AND(Rallye!D111<>\"\",Rallye!D111<>\"Section\"),($Q16-M$10),)","v":"00:00:00"},{"$f":"IF(AND(Rallye!D111<>\"\",Rallye!D111<>\"Section\"),($Q16-N$10),)","v":"00:00:00"},{"$f":"IF(AND(Rallye!D111<>\"\",Rallye!D111<>\"Section\"),($Q16-O$10),)","v":"00:00:00"},{"$f":"Rallye!F110","v":"00:00:00"},{"$f":"IF(P16>0,IF(OR(Rallye!D111<>\"\",Rallye!D111<>\"Section\"),Q15+P16,),Q15)","v":"08:23:00"},{"$f":"IF(Q16>0,IF(AND(Rallye!D111<>\"\",Rallye!D111<>\"Section\"),Q16+T_Etp2_VHC+T_inf_Mod,),0)","v":"00:00:00"},{"$f":"IF(Q16>0,IF(AND(Rallye!D111<>\"\",Rallye!D111<>\"Section\"),R16+T_0_Mod,),0)","v":"00:00:00"},{"$f":"IF(P16>0,IF(AND(Rallye!D111<>\"\",Rallye!D111<>\"Section\"),T15+P16,),T15)","v":"08:42:00"},{"$f":"IF(AND(Rallye!D111<>\"\",Rallye!D111<>\"Section\"),T16+$U$10,)","v":"00:00:00"},{"$f":"IF(AND(Rallye!D111<>\"\",Rallye!D111<>\"Section\"),U16+$V$10,)","v":"00:00:00"}]
[null,{"$f":"Rallye!B112","v":"C.H. :"},{"$f":"Rallye!C112","v":"8"},{"$f":"Rallye!D112","v":"Avant Départ ES 8"},{"$f":"IF(AND(Rallye!D112<>\"\",Rallye!D112<>\"Section\"),($Q17-E$10),)","v":"07:13:00"},{"$f":"IF(AND(Rallye!D112<>\"\",Rallye!D112<>\"Section\"),($Q17-F$10),)","v":"07:28:00"},{"$f":"IF(AND(Rallye!D112<>\"\",Rallye!D112<>\"Section\"),($Q17-G$10),)","v":"07:43:00"},{"$f":"IF(AND(Rallye!D112<>\"\",Rallye!D112<>\"Section\"),($Q17-H$10),)","v":"08:03:00"},{"$f":"IF(AND(Rallye!D112<>\"\",Rallye!D112<>\"Section\"),($Q17-I$10),)","v":"08:04:00"},{"$f":"IF(AND(Rallye!D112<>\"\",Rallye!D112<>\"Section\"),($Q17-J$10),)","v":"08:05:00"},{"$f":"IF(AND(Rallye!D112<>\"\",Rallye!D112<>\"Section\"),($Q17-K$10),)","v":"08:06:00"},{"$f":"IF(AND(Rallye!D112<>\"\",Rallye!D112<>\"Section\"),($Q17-L$10),)","v":"08:13:00"},{"$f":"IF(AND(Rallye!D112<>\"\",Rallye!D112<>\"Section\"),($Q17-M$10),)","v":"08:18:00"},{"$f":"IF(AND(Rallye!D112<>\"\",Rallye!D112<>\"Section\"),($Q17-N$10),)","v":"08:28:00"},{"$f":"IF(AND(Rallye!D112<>\"\",Rallye!D112<>\"Section\"),($Q17-O$10),)","v":"08:33:00"},{"$f":"Rallye!F111","v":"00:20:00"},{"$f":"IF(P17>0,IF(OR(Rallye!D112<>\"\",Rallye!D112<>\"Section\"),Q16+P17,),Q16)","v":"08:43:00"},{"$f":"IF(Q17>0,IF(AND(Rallye!D112<>\"\",Rallye!D112<>\"Section\"),Q17+T_Etp2_VHC+T_inf_Mod,),0)","v":"08:47:00"},{"$f":"IF(Q17>0,IF(AND(Rallye!D112<>\"\",Rallye!D112<>\"Section\"),R17+T_0_Mod,),0)","v":"08:52:00"},{"$f":"IF(P17>0,IF(AND(Rallye!D112<>\"\",Rallye!D112<>\"Section\"),T16+P17,),T16)","v":"09:02:00"},{"$f":"IF(AND(Rallye!D112<>\"\",Rallye!D112<>\"Section\"),T17+$U$10,)","v":"09:56:00"},{"$f":"IF(AND(Rallye!D112<>\"\",Rallye!D112<>\"Section\"),U17+$V$10,)","v":"09:58:00"}]
[null,{"$f":"Rallye!B113","v":"Départ E.S. :"},{"$f":"Rallye!C113","v":"8"},{"$f":"Rallye!D113","v":"GLANDON 1 (17,810 Kms)"},{"$f":"IF(AND(Rallye!D113<>\"\",Rallye!D113<>\"Section\"),($Q18-E$10),)","v":"07:16:00"},{"$f":"IF(AND(Rallye!D113<>\"\",Rallye!D113<>\"Section\"),($Q18-F$10),)","v":"07:31:00"},{"$f":"IF(AND(Rallye!D113<>\"\",Rallye!D113<>\"Section\"),($Q18-G$10),)","v":"07:46:00"},{"$f":"IF(AND(Rallye!D113<>\"\",Rallye!D113<>\"Section\"),($Q18-H$10),)","v":"08:06:00"},{"$f":"IF(AND(Rallye!D113<>\"\",Rallye!D113<>\"Section\"),($Q18-I$10),)","v":"08:07:00"},{"$f":"IF(AND(Rallye!D113<>\"\",Rallye!D113<>\"Section\"),($Q18-J$10),)","v":"08:08:00"},{"$f":"IF(AND(Rallye!D113<>\"\",Rallye!D113<>\"Section\"),($Q18-K$10),)","v":"08:09:00"},{"$f":"IF(AND(Rallye!D113<>\"\",Rallye!D113<>\"Section\"),($Q18-L$10),)","v":"08:16:00"},{"$f":"IF(AND(Rallye!D113<>\"\",Rallye!D113<>\"Section\"),($Q18-M$10),)","v":"08:21:00"},{"$f":"IF(AND(Rallye!D113<>\"\",Rallye!D113<>\"Section\"),($Q18-N$10),)","v":"08:31:00"},{"$f":"IF(AND(Rallye!D113<>\"\",Rallye!D113<>\"Section\"),($Q18-O$10),)","v":"08:36:00"},{"$f":"Rallye!F112","v":"00:03:00"},{"$f":"IF(P18>0,IF(OR(Rallye!D113<>\"\",Rallye!D113<>\"Section\"),Q17+P18,),Q17)","v":"08:46:00"},{"$f":"IF(Q18>0,IF(AND(Rallye!D113<>\"\",Rallye!D113<>\"Section\"),Q18+T_Etp2_VHC+T_inf_Mod,),0)","v":"08:50:00"},{"$f":"IF(Q18>0,IF(AND(Rallye!D113<>\"\",Rallye!D113<>\"Section\"),R18+T_0_Mod,),0)","v":"08:55:00"},{"$f":"IF(P18>0,IF(AND(Rallye!D113<>\"\",Rallye!D113<>\"Section\"),T17+P18,),T17)","v":"09:05:00"},{"$f":"IF(AND(Rallye!D113<>\"\",Rallye!D113<>\"Section\"),T18+$U$10,)","v":"09:59:00"},{"$f":"IF(AND(Rallye!D113<>\"\",Rallye!D113<>\"Section\"),U18+$V$10,)","v":"10:01:00"}]
[null,{"$f":"Rallye!B114","v":"Arriv. E.S. :"},{"$f":"Rallye!C114","v":"8"},{"$f":"Rallye!D114","v":0},{"$f":"IF(AND(Rallye!D114<>\"\",Rallye!D114<>\"Section\"),($Q19-E$10),)","v":"00:00:00"},{"$f":"IF(AND(Rallye!D114<>\"\",Rallye!D114<>\"Section\"),($Q19-F$10),)","v":"00:00:00"},{"$f":"IF(AND(Rallye!D114<>\"\",Rallye!D114<>\"Section\"),($Q19-G$10),)","v":"00:00:00"},{"$f":"IF(AND(Rallye!D114<>\"\",Rallye!D114<>\"Section\"),($Q19-H$10),)","v":"00:00:00"},{"$f":"IF(AND(Rallye!D114<>\"\",Rallye!D114<>\"Section\"),($Q19-I$10),)","v":"00:00:00"},{"$f":"IF(AND(Rallye!D114<>\"\",Rallye!D114<>\"Section\"),($Q19-J$10),)","v":"00:00:00"},{"$f":"IF(AND(Rallye!D114<>\"\",Rallye!D114<>\"Section\"),($Q19-K$10),)","v":"00:00:00"},{"$f":"IF(AND(Rallye!D114<>\"\",Rallye!D114<>\"Section\"),($Q19-L$10),)","v":"00:00:00"},{"$f":"IF(AND(Rallye!D114<>\"\",Rallye!D114<>\"Section\"),($Q19-M$10),)","v":"00:00:00"},{"$f":"IF(AND(Rallye!D114<>\"\",Rallye!D114<>\"Section\"),($Q19-N$10),)","v":"00:00:00"},{"$f":"IF(AND(Rallye!D114<>\"\",Rallye!D114<>\"Section\"),($Q19-O$10),)","v":"00:00:00"},{"$f":"Rallye!F113","v":"00:00:00"},{"$f":"IF(P19>0,IF(OR(Rallye!D114<>\"\",Rallye!D114<>\"Section\"),Q18+P19,),Q18)","v":"08:46:00"},{"$f":"IF(Q19>0,IF(AND(Rallye!D114<>\"\",Rallye!D114<>\"Section\"),Q19+T_Etp2_VHC+T_inf_Mod,),0)","v":"00:00:00"},{"$f":"IF(Q19>0,IF(AND(Rallye!D114<>\"\",Rallye!D114<>\"Section\"),R19+T_0_Mod,),0)","v":"00:00:00"},{"$f":"IF(P19>0,IF(AND(Rallye!D114<>\"\",Rallye!D114<>\"Section\"),T18+P19,),T18)","v":"09:05:00"},{"$f":"IF(AND(Rallye!D114<>\"\",Rallye!D114<>\"Section\"),T19+$U$10,)","v":"00:00:00"},{"$f":"IF(AND(Rallye!D114<>\"\",Rallye!D114<>\"Section\"),U19+$V$10,)","v":"00:00:00"}]
[null,{"$f":"Rallye!B115","v":"C.H. :"},{"$f":"Rallye!C115","v":"8A"},{"$f":"Rallye!D115","v":"Entrée Parc Regroup"},{"$f":"IF(AND(Rallye!D115<>\"\",Rallye!D115<>\"Section\"),($Q20-E$10),)","v":"07:51:00"},{"$f":"IF(AND(Rallye!D115<>\"\",Rallye!D115<>\"Section\"),($Q20-F$10),)","v":"08:06:00"},{"$f":"IF(AND(Rallye!D115<>\"\",Rallye!D115<>\"Section\"),($Q20-G$10),)","v":"08:21:00"},{"$f":"IF(AND(Rallye!D115<>\"\",Rallye!D115<>\"Section\"),($Q20-H$10),)","v":"08:41:00"},{"$f":"IF(AND(Rallye!D115<>\"\",Rallye!D115<>\"Section\"),($Q20-I$10),)","v":"08:42:00"},{"$f":"IF(AND(Rallye!D115<>\"\",Rallye!D115<>\"Section\"),($Q20-J$10),)","v":"08:43:00"},{"$f":"IF(AND(Rallye!D115<>\"\",Rallye!D115<>\"Section\"),($Q20-K$10),)","v":"08:44:00"},{"$f":"IF(AND(Rallye!D115<>\"\",Rallye!D115<>\"Section\"),($Q20-L$10),)","v":"08:51:00"},{"$f":"IF(AND(Rallye!D115<>\"\",Rallye!D115<>\"Section\"),($Q20-M$10),)","v":"08:56:00"},{"$f":"IF(AND(Rallye!D115<>\"\",Rallye!D115<>\"Section\"),($Q20-N$10),)","v":"09:06:00"},{"$f":"IF(AND(Rallye!D115<>\"\",Rallye!D115<>\"Section\"),($Q20-O$10),)","v":"09:11:00"},{"$f":"Rallye!F114","v":"00:35:00"},{"$f":"IF(P20>0,IF(OR(Rallye!D115<>\"\",Rallye!D115<>\"Section\"),Q19+P20,),Q19)","v":"09:21:00"},{"$f":"IF(Q20>0,IF(AND(Rallye!D115<>\"\",Rallye!D115<>\"Section\"),Q20+T_Etp2_VHC+T_inf_Mod,),0)","v":"09:25:00"},{"$f":"IF(Q20>0,IF(AND(Rallye!D115<>\"\",Rallye!D115<>\"Section\"),R20+T_0_Mod,),0)","v":"09:30:00"},{"$f":"IF(P20>0,IF(AND(Rallye!D115<>\"\",Rallye!D115<>\"Section\"),T19+P20,),T19)","v":"09:40:00"},{"$f":"IF(AND(Rallye!D115<>\"\",Rallye!D115<>\"Section\"),T20+$U$10,)","v":"10:34:00"},{"$f":"IF(AND(Rallye!D115<>\"\",Rallye!D115<>\"Section\"),U20+$V$10,)","v":"10:36:00"}]
[null,{"$f":"Rallye!B116","v":0},{"$f":"Rallye!C116","v":"4ème"},{"$f":"Rallye!D116","v":"Section"},{"$f":"IF(AND(Rallye!D116<>\"\",Rallye!D116<>\"Section\"),($Q21-E$10),)","v":"00:00:00"},{"$f":"IF(AND(Rallye!D116<>\"\",Rallye!D116<>\"Section\"),($Q21-F$10),)","v":"00:00:00"},{"$f":"IF(AND(Rallye!D116<>\"\",Rallye!D116<>\"Section\"),($Q21-G$10),)","v":"00:00:00"},{"$f":"IF(AND(Rallye!D116<>\"\",Rallye!D116<>\"Section\"),($Q21-H$10),)","v":"00:00:00"},{"$f":"IF(AND(Rallye!D116<>\"\",Rallye!D116<>\"Section\"),($Q21-I$10),)","v":"00:00:00"},{"$f":"IF(AND(Rallye!D116<>\"\",Rallye!D116<>\"Section\"),($Q21-J$10),)","v":"00:00:00"},{"$f":"IF(AND(Rallye!D116<>\"\",Rallye!D116<>\"Section\"),($Q21-K$10),)","v":"00:00:00"},{"$f":"IF(AND(Rallye!D116<>\"\",Rallye!D116<>\"Section\"),($Q21-L$10),)","v":"00:00:00"},{"$f":"IF(AND(Rallye!D116<>\"\",Rallye!D116<>\"Section\"),($Q21-M$10),)","v":"00:00:00"},{"$f":"IF(AND(Rallye!D116<>\"\",Rallye!D116<>\"Section\"),($Q21-N$10),)","v":"00:00:00"},{"$f":"IF(AND(Rallye!D116<>\"\",Rallye!D116<>\"Section\"),($Q21-O$10),)","v":"00:00:00"},{"$f":"Rallye!F115","v":"00:00:00"},{"$f":"IF(P21>0,IF(OR(Rallye!D116<>\"\",Rallye!D116<>\"Section\"),Q20+P21,),Q20)","v":"09:21:00"},{"$f":"IF(Q21>0,IF(AND(Rallye!D116<>\"\",Rallye!D116<>\"Section\"),Q21+T_Etp2_VHC+T_inf_Mod,),0)","v":"00:00:00"},{"$f":"IF(Q21>0,IF(AND(Rallye!D116<>\"\",Rallye!D116<>\"Section\"),R21+T_0_Mod,),0)","v":"00:00:00"},{"$f":"IF(P21>0,IF(AND(Rallye!D116<>\"\",Rallye!D116<>\"Section\"),T20+P21,),T20)","v":"09:40:00"},{"$f":"IF(AND(Rallye!D116<>\"\",Rallye!D116<>\"Section\"),T21+$U$10,)","v":"00:00:00"},{"$f":"IF(AND(Rallye!D116<>\"\",Rallye!D116<>\"Section\"),U21+$V$10,)","v":"00:00:00"}]
[null,{"$f":"Rallye!B117","v":"C.H. :"},{"$f":"Rallye!C117","v":"8B"},{"$f":"Rallye!D117","v":"Sortie Parc Regroup"},{"$f":"IF(AND(Rallye!D117<>\"\",Rallye!D117<>\"Section\"),($Q22-E$10),)","v":"08:36:00"},{"$f":"IF(AND(Rallye!D117<>\"\",Rallye!D117<>\"Section\"),($Q22-F$10),)","v":"08:51:00"},{"$f":"IF(AND(Rallye!D117<>\"\",Rallye!D117<>\"Section\"),($Q22-G$10),)","v":"09:06:00"},{"$f":"IF(AND(Rallye!D117<>\"\",Rallye!D117<>\"Section\"),($Q22-H$10),)","v":"09:26:00"},{"$f":"IF(AND(Rallye!D117<>\"\",Rallye!D117<>\"Section\"),($Q22-I$10),)","v":"09:27:00"},{"$f":"IF(AND(Rallye!D117<>\"\",Rallye!D117<>\"Section\"),($Q22-J$10),)","v":"09:28:00"},{"$f":"IF(AND(Rallye!D117<>\"\",Rallye!D117<>\"Section\"),($Q22-K$10),)","v":"09:29:00"},{"$f":"IF(AND(Rallye!D117<>\"\",Rallye!D117<>\"Section\"),($Q22-L$10),)","v":"09:36:00"},{"$f":"IF(AND(Rallye!D117<>\"\",Rallye!D117<>\"Section\"),($Q22-M$10),)","v":"09:41:00"},{"$f":"IF(AND(Rallye!D117<>\"\",Rallye!D117<>\"Section\"),($Q22-N$10),)","v":"09:51:00"},{"$f":"IF(AND(Rallye!D117<>\"\",Rallye!D117<>\"Section\"),($Q22-O$10),)","v":"09:56:00"},{"$f":"Rallye!F116","v":"00:45:00"},{"$f":"IF(P22>0,IF(OR(Rallye!D117<>\"\",Rallye!D117<>\"Section\"),Q21+P22,),Q21)","v":"10:06:00"},{"$f":"IF(Q22>0,IF(AND(Rallye!D117<>\"\",Rallye!D117<>\"Section\"),Q22+T_Etp2_VHC+T_inf_Mod,),0)","v":"10:10:00"},{"$f":"IF(Q22>0,IF(AND(Rallye!D117<>\"\",Rallye!D117<>\"Section\"),R22+T_0_Mod,),0)","v":"10:15:00"},{"$f":"IF(P22>0,IF(AND(Rallye!D117<>\"\",Rallye!D117<>\"Section\"),T21+P22,),T21)","v":"10:25:00"},{"$f":"IF(AND(Rallye!D117<>\"\",Rallye!D117<>\"Section\"),T22+$U$10,)","v":"11:19:00"},{"$f":"IF(AND(Rallye!D117<>\"\",Rallye!D117<>\"Section\"),U22+$V$10,)","v":"11:21:00"}]
[null,{"$f":"Rallye!B118","v":"C.H. :"},{"$f":"Rallye!C118","v":"8C"},{"$f":"Rallye!D118","v":"Entrée Assist (Stade St Yriex)"},{"$f":"IF(AND(Rallye!D118<>\"\",Rallye!D118<>\"Section\"),($Q23-E$10),)","v":"08:41:00"},{"$f":"IF(AND(Rallye!D118<>\"\",Rallye!D118<>\"Section\"),($Q23-F$10),)","v":"08:56:00"},{"$f":"IF(AND(Rallye!D118<>\"\",Rallye!D118<>\"Section\"),($Q23-G$10),)","v":"09:11:00"},{"$f":"IF(AND(Rallye!D118<>\"\",Rallye!D118<>\"Section\"),($Q23-H$10),)","v":"09:31:00"},{"$f":"IF(AND(Rallye!D118<>\"\",Rallye!D118<>\"Section\"),($Q23-I$10),)","v":"09:32:00"},{"$f":"IF(AND(Rallye!D118<>\"\",Rallye!D118<>\"Section\"),($Q23-J$10),)","v":"09:33:00"},{"$f":"IF(AND(Rallye!D118<>\"\",Rallye!D118<>\"Section\"),($Q23-K$10),)","v":"09:34:00"},{"$f":"IF(AND(Rallye!D118<>\"\",Rallye!D118<>\"Section\"),($Q23-L$10),)","v":"09:41:00"},{"$f":"IF(AND(Rallye!D118<>\"\",Rallye!D118<>\"Section\"),($Q23-M$10),)","v":"09:46:00"},{"$f":"IF(AND(Rallye!D118<>\"\",Rallye!D118<>\"Section\"),($Q23-N$10),)","v":"09:56:00"},{"$f":"IF(AND(Rallye!D118<>\"\",Rallye!D118<>\"Section\"),($Q23-O$10),)","v":"10:01:00"},{"$f":"Rallye!F117","v":"00:05:00"},{"$f":"IF(P23>0,IF(OR(Rallye!D118<>\"\",Rallye!D118<>\"Section\"),Q22+P23,),Q22)","v":"10:11:00"},{"$f":"IF(Q23>0,IF(AND(Rallye!D118<>\"\",Rallye!D118<>\"Section\"),Q23+T_Etp2_VHC+T_inf_Mod,),0)","v":"10:15:00"},{"$f":"IF(Q23>0,IF(AND(Rallye!D118<>\"\",Rallye!D118<>\"Section\"),R23+T_0_Mod,),0)","v":"10:20:00"},{"$f":"IF(P23>0,IF(AND(Rallye!D118<>\"\",Rallye!D118<>\"Section\"),T22+P23,),T22)","v":"10:30:00"},{"$f":"IF(AND(Rallye!D118<>\"\",Rallye!D118<>\"Section\"),T23+$U$10,)","v":"11:24:00"},{"$f":"IF(AND(Rallye!D118<>\"\",Rallye!D118<>\"Section\"),U23+$V$10,)","v":"11:26:00"}]
[null,{"$f":"Rallye!B119","v":"C.H. :"},{"$f":"Rallye!C119","v":"8D"},{"$f":"Rallye!D119","v":"Sortie Assistance"},{"$f":"IF(AND(Rallye!D119<>\"\",Rallye!D119<>\"Section\"),($Q24-E$10),)","v":"09:21:00"},{"$f":"IF(AND(Rallye!D119<>\"\",Rallye!D119<>\"Section\"),($Q24-F$10),)","v":"09:36:00"},{"$f":"IF(AND(Rallye!D119<>\"\",Rallye!D119<>\"Section\"),($Q24-G$10),)","v":"09:51:00"},{"$f":"IF(AND(Rallye!D119<>\"\",Rallye!D119<>\"Section\"),($Q24-H$10),)","v":"10:11:00"},{"$f":"IF(AND(Rallye!D119<>\"\",Rallye!D119<>\"Section\"),($Q24-I$10),)","v":"10:12:00"},{"$f":"IF(AND(Rallye!D119<>\"\",Rallye!D119<>\"Section\"),($Q24-J$10),)","v":"10:13:00"},{"$f":"IF(AND(Rallye!D119<>\"\",Rallye!D119<>\"Section\"),($Q24-K$10),)","v":"10:14:00"},{"$f":"IF(AND(Rallye!D119<>\"\",Rallye!D119<>\"Section\"),($Q24-L$10),)","v":"10:21:00"},{"$f":"IF(AND(Rallye!D119<>\"\",Rallye!D119<>\"Section\"),($Q24-M$10),)","v":"10:26:00"},{"$f":"IF(AND(Rallye!D119<>\"\",Rallye!D119<>\"Section\"),($Q24-N$10),)","v":"10:36:00"},{"$f":"IF(AND(Rallye!D119<>\"\",Rallye!D119<>\"Section\"),($Q24-O$10),)","v":"10:41:00"},{"$f":"Rallye!F118","v":"00:40:00"},{"$f":"IF(P24>0,IF(OR(Rallye!D119<>\"\",Rallye!D119<>\"Section\"),Q23+P24,),Q23)","v":"10:51:00"},{"$f":"IF(Q24>0,IF(AND(Rallye!D119<>\"\",Rallye!D119<>\"Section\"),Q24+T_Etp2_VHC+T_inf_Mod,),0)","v":"10:55:00"},{"$f":"IF(Q24>0,IF(AND(Rallye!D119<>\"\",Rallye!D119<>\"Section\"),R24+T_0_Mod,),0)","v":"11:00:00"},{"$f":"IF(P24>0,IF(AND(Rallye!D119<>\"\",Rallye!D119<>\"Section\"),T23+P24,),T23)","v":"11:10:00"},{"$f":"IF(AND(Rallye!D119<>\"\",Rallye!D119<>\"Section\"),T24+$U$10,)","v":"12:04:00"},{"$f":"IF(AND(Rallye!D119<>\"\",Rallye!D119<>\"Section\"),U24+$V$10,)","v":"12:06:00"}]
[null,{"$f":"Rallye!B120","v":"C.H. :"},{"$f":"Rallye!C120","v":"9"},{"$f":"Rallye!D120","v":"Avant Départ ES 9"},{"$f":"IF(AND(Rallye!D120<>\"\",Rallye!D120<>\"Section\"),($Q25-E$10),)","v":"09:46:00"},{"$f":"IF(AND(Rallye!D120<>\"\",Rallye!D120<>\"Section\"),($Q25-F$10),)","v":"10:01:00"},{"$f":"IF(AND(Rallye!D120<>\"\",Rallye!D120<>\"Section\"),($Q25-G$10),)","v":"10:16:00"},{"$f":"IF(AND(Rallye!D120<>\"\",Rallye!D120<>\"Section\"),($Q25-H$10),)","v":"10:36:00"},{"$f":"IF(AND(Rallye!D120<>\"\",Rallye!D120<>\"Section\"),($Q25-I$10),)","v":"10:37:00"},{"$f":"IF(AND(Rallye!D120<>\"\",Rallye!D120<>\"Section\"),($Q25-J$10),)","v":"10:38:00"},{"$f":"IF(AND(Rallye!D120<>\"\",Rallye!D120<>\"Section\"),($Q25-K$10),)","v":"10:39:00"},{"$f":"IF(AND(Rallye!D120<>\"\",Rallye!D120<>\"Section\"),($Q25-L$10),)","v":"10:46:00"},{"$f":"IF(AND(Rallye!D120<>\"\",Rallye!D120<>\"Section\"),($Q25-M$10),)","v":"10:51:00"},{"$f":"IF(AND(Rallye!D120<>\"\",Rallye!D120<>\"Section\"),($Q25-N$10),)","v":"11:01:00"},{"$f":"IF(AND(Rallye!D120<>\"\",Rallye!D120<>\"Section\"),($Q25-O$10),)","v":"11:06:00"},{"$f":"Rallye!F119","v":"00:25:00"},{"$f":"IF(P25>0,IF(OR(Rallye!D120<>\"\",Rallye!D120<>\"Section\"),Q24+P25,),Q24)","v":"11:16:00"},{"$f":"IF(Q25>0,IF(AND(Rallye!D120<>\"\",Rallye!D120<>\"Section\"),Q25+T_Etp2_VHC+T_inf_Mod,),0)","v":"11:20:00"},{"$f":"IF(Q25>0,IF(AND(Rallye!D120<>\"\",Rallye!D120<>\"Section\"),R25+T_0_Mod,),0)","v":"11:25:00"},{"$f":"IF(P25>0,IF(AND(Rallye!D120<>\"\",Rallye!D120<>\"Section\"),T24+P25,),T24)","v":"11:35:00"},{"$f":"IF(AND(Rallye!D120<>\"\",Rallye!D120<>\"Section\"),T25+$U$10,)","v":"12:29:00"},{"$f":"IF(AND(Rallye!D120<>\"\",Rallye!D120<>\"Section\"),U25+$V$10,)","v":"12:31:00"}]
[null,{"$f":"Rallye!B121","v":"Départ E.S. :"},{"$f":"Rallye!C121","v":"9"},{"$f":"Rallye!D121","v":"La GABIE de la POULE 2 (9 Kms)"},{"$f":"IF(AND(Rallye!D121<>\"\",Rallye!D121<>\"Section\"),($Q26-E$10),)","v":"09:49:00"},{"$f":"IF(AND(Rallye!D121<>\"\",Rallye!D121<>\"Section\"),($Q26-F$10),)","v":"10:04:00"},{"$f":"IF(AND(Rallye!D121<>\"\",Rallye!D121<>\"Section\"),($Q26-G$10),)","v":"10:19:00"},{"$f":"IF(AND(Rallye!D121<>\"\",Rallye!D121<>\"Section\"),($Q26-H$10),)","v":"10:39:00"},{"$f":"IF(AND(Rallye!D121<>\"\",Rallye!D121<>\"Section\"),($Q26-I$10),)","v":"10:40:00"},{"$f":"IF(AND(Rallye!D121<>\"\",Rallye!D121<>\"Section\"),($Q26-J$10),)","v":"10:41:00"},{"$f":"IF(AND(Rallye!D121<>\"\",Rallye!D121<>\"Section\"),($Q26-K$10),)","v":"10:42:00"},{"$f":"IF(AND(Rallye!D121<>\"\",Rallye!D121<>\"Section\"),($Q26-L$10),)","v":"10:49:00"},{"$f":"IF(AND(Rallye!D121<>\"\",Rallye!D121<>\"Section\"),($Q26-M$10),)","v":"10:54:00"},{"$f":"IF(AND(Rallye!D121<>\"\",Rallye!D121<>\"Section\"),($Q26-N$10),)","v":"11:04:00"},{"$f":"IF(AND(Rallye!D121<>\"\",Rallye!D121<>\"Section\"),($Q26-O$10),)","v":"11:09:00"},{"$f":"Rallye!F120","v":"00:03:00"},{"$f":"IF(P26>0,IF(OR(Rallye!D121<>\"\",Rallye!D121<>\"Section\"),Q25+P26,),Q25)","v":"11:19:00"},{"$f":"IF(Q26>0,IF(AND(Rallye!D121<>\"\",Rallye!D121<>\"Section\"),Q26+T_Etp2_VHC+T_inf_Mod,),0)","v":"11:23:00"},{"$f":"IF(Q26>0,IF(AND(Rallye!D121<>\"\",Rallye!D121<>\"Section\"),R26+T_0_Mod,),0)","v":"11:28:00"},{"$f":"IF(P26>0,IF(AND(Rallye!D121<>\"\",Rallye!D121<>\"Section\"),T25+P26,),T25)","v":"11:38:00"},{"$f":"IF(AND(Rallye!D121<>\"\",Rallye!D121<>\"Section\"),T26+$U$10,)","v":"12:32:00"},{"$f":"IF(AND(Rallye!D121<>\"\",Rallye!D121<>\"Section\"),U26+$V$10,)","v":"12:34:00"}]
[null,{"$f":"Rallye!B122","v":"Arriv. E.S. :"},{"$f":"Rallye!C122","v":"9"},{"$f":"Rallye!D122","v":0},{"$f":"IF(AND(Rallye!D122<>\"\",Rallye!D122<>\"Section\"),($Q27-E$10),)","v":"00:00:00"},{"$f":"IF(AND(Rallye!D122<>\"\",Rallye!D122<>\"Section\"),($Q27-F$10),)","v":"00:00:00"},{"$f":"IF(AND(Rallye!D122<>\"\",Rallye!D122<>\"Section\"),($Q27-G$10),)","v":"00:00:00"},{"$f":"IF(AND(Rallye!D122<>\"\",Rallye!D122<>\"Section\"),($Q27-H$10),)","v":"00:00:00"},{"$f":"IF(AND(Rallye!D122<>\"\",Rallye!D122<>\"Section\"),($Q27-I$10),)","v":"00:00:00"},{"$f":"IF(AND(Rallye!D122<>\"\",Rallye!D122<>\"Section\"),($Q27-J$10),)","v":"00:00:00"},{"$f":"IF(AND(Rallye!D122<>\"\",Rallye!D122<>\"Section\"),($Q27-K$10),)","v":"00:00:00"},{"$f":"IF(AND(Rallye!D122<>\"\",Rallye!D122<>\"Section\"),($Q27-L$10),)","v":"00:00:00"},{"$f":"IF(AND(Rallye!D122<>\"\",Rallye!D122<>\"Section\"),($Q27-M$10),)","v":"00:00:00"},{"$f":"IF(AND(Rallye!D122<>\"\",Rallye!D122<>\"Section\"),($Q27-N$10),)","v":"00:00:00"},{"$f":"IF(AND(Rallye!D122<>\"\",Rallye!D122<>\"Section\"),($Q27-O$10),)","v":"00:00:00"},{"$f":"Rallye!F121","v":"00:00:00"},{"$f":"IF(P27>0,IF(OR(Rallye!D122<>\"\",Rallye!D122<>\"Section\"),Q26+P27,),Q26)","v":"11:19:00"},{"$f":"IF(Q27>0,IF(AND(Rallye!D122<>\"\",Rallye!D122<>\"Section\"),Q27+T_Etp2_VHC+T_inf_Mod,),0)","v":"00:00:00"},{"$f":"IF(Q27>0,IF(AND(Rallye!D122<>\"\",Rallye!D122<>\"Section\"),R27+T_0_Mod,),0)","v":"00:00:00"},{"$f":"IF(P27>0,IF(AND(Rallye!D122<>\"\",Rallye!D122<>\"Section\"),T26+P27,),T26)","v":"11:38:00"},{"$f":"IF(AND(Rallye!D122<>\"\",Rallye!D122<>\"Section\"),T27+$U$10,)","v":"00:00:00"},{"$f":"IF(AND(Rallye!D122<>\"\",Rallye!D122<>\"Section\"),U27+$V$10,)","v":"00:00:00"}]
[null,{"$f":"Rallye!B123","v":"C.H. :"},{"$f":"Rallye!C123","v":"10"},{"$f":"Rallye!D123","v":"Avant Départ ES 10"},{"$f":"IF(AND(Rallye!D123<>\"\",Rallye!D123<>\"Section\"),($Q28-E$10),)","v":"10:09:00"},{"$f":"IF(AND(Rallye!D123<>\"\",Rallye!D123<>\"Section\"),($Q28-F$10),)","v":"10:24:00"},{"$f":"IF(AND(Rallye!D123<>\"\",Rallye!D123<>\"Section\"),($Q28-G$10),)","v":"10:39:00"},{"$f":"IF(AND(Rallye!D123<>\"\",Rallye!D123<>\"Section\"),($Q28-H$10),)","v":"10:59:00"},{"$f":"IF(AND(Rallye!D123<>\"\",Rallye!D123<>\"Section\"),($Q28-I$10),)","v":"11:00:00"},{"$f":"IF(AND(Rallye!D123<>\"\",Rallye!D123<>\"Section\"),($Q28-J$10),)","v":"11:01:00"},{"$f":"IF(AND(Rallye!D123<>\"\",Rallye!D123<>\"Section\"),($Q28-K$10),)","v":"11:02:00"},{"$f":"IF(AND(Rallye!D123<>\"\",Rallye!D123<>\"Section\"),($Q28-L$10),)","v":"11:09:00"},{"$f":"IF(AND(Rallye!D123<>\"\",Rallye!D123<>\"Section\"),($Q28-M$10),)","v":"11:14:00"},{"$f":"IF(AND(Rallye!D123<>\"\",Rallye!D123<>\"Section\"),($Q28-N$10),)","v":"11:24:00"},{"$f":"IF(AND(Rallye!D123<>\"\",Rallye!D123<>\"Section\"),($Q28-O$10),)","v":"11:29:00"},{"$f":"Rallye!F122","v":"00:20:00"},{"$f":"IF(P28>0,IF(OR(Rallye!D123<>\"\",Rallye!D123<>\"Section\"),Q27+P28,),Q27)","v":"11:39:00"},{"$f":"IF(Q28>0,IF(AND(Rallye!D123<>\"\",Rallye!D123<>\"Section\"),Q28+T_Etp2_VHC+T_inf_Mod,),0)","v":"11:43:00"},{"$f":"IF(Q28>0,IF(AND(Rallye!D123<>\"\",Rallye!D123<>\"Section\"),R28+T_0_Mod,),0)","v":"11:48:00"},{"$f":"IF(P28>0,IF(AND(Rallye!D123<>\"\",Rallye!D123<>\"Section\"),T27+P28,),T27)","v":"11:58:00"},{"$f":"IF(AND(Rallye!D123<>\"\",Rallye!D123<>\"Section\"),T28+$U$10,)","v":"12:52:00"},{"$f":"IF(AND(Rallye!D123<>\"\",Rallye!D123<>\"Section\"),U28+$V$10,)","v":"12:54:00"}]
[null,{"$f":"Rallye!B124","v":"Départ E.S. :"},{"$f":"Rallye!C124","v":"10"},{"$f":"Rallye!D124","v":"GLANDON 2 (17,810 Kms)"},{"$f":"IF(AND(Rallye!D124<>\"\",Rallye!D124<>\"Section\"),($Q29-E$10),)","v":"10:12:00"},{"$f":"IF(AND(Rallye!D124<>\"\",Rallye!D124<>\"Section\"),($Q29-F$10),)","v":"10:27:00"},{"$f":"IF(AND(Rallye!D124<>\"\",Rallye!D124<>\"Section\"),($Q29-G$10),)","v":"10:42:00"},{"$f":"IF(AND(Rallye!D124<>\"\",Rallye!D124<>\"Section\"),($Q29-H$10),)","v":"11:02:00"},{"$f":"IF(AND(Rallye!D124<>\"\",Rallye!D124<>\"Section\"),($Q29-I$10),)","v":"11:03:00"},{"$f":"IF(AND(Rallye!D124<>\"\",Rallye!D124<>\"Section\"),($Q29-J$10),)","v":"11:04:00"},{"$f":"IF(AND(Rallye!D124<>\"\",Rallye!D124<>\"Section\"),($Q29-K$10),)","v":"11:05:00"},{"$f":"IF(AND(Rallye!D124<>\"\",Rallye!D124<>\"Section\"),($Q29-L$10),)","v":"11:12:00"},{"$f":"IF(AND(Rallye!D124<>\"\",Rallye!D124<>\"Section\"),($Q29-M$10),)","v":"11:17:00"},{"$f":"IF(AND(Rallye!D124<>\"\",Rallye!D124<>\"Section\"),($Q29-N$10),)","v":"11:27:00"},{"$f":"IF(AND(Rallye!D124<>\"\",Rallye!D124<>\"Section\"),($Q29-O$10),)","v":"11:32:00"},{"$f":"Rallye!F123","v":"00:03:00"},{"$f":"IF(P29>0,IF(OR(Rallye!D124<>\"\",Rallye!D124<>\"Section\"),Q28+P29,),Q28)","v":"11:42:00"},{"$f":"IF(Q29>0,IF(AND(Rallye!D124<>\"\",Rallye!D124<>\"Section\"),Q29+T_Etp2_VHC+T_inf_Mod,),0)","v":"11:46:00"},{"$f":"IF(Q29>0,IF(AND(Rallye!D124<>\"\",Rallye!D124<>\"Section\"),R29+T_0_Mod,),0)","v":"11:51:00"},{"$f":"IF(P29>0,IF(AND(Rallye!D124<>\"\",Rallye!D124<>\"Section\"),T28+P29,),T28)","v":"12:01:00"},{"$f":"IF(AND(Rallye!D124<>\"\",Rallye!D124<>\"Section\"),T29+$U$10,)","v":"12:55:00"},{"$f":"IF(AND(Rallye!D124<>\"\",Rallye!D124<>\"Section\"),U29+$V$10,)","v":"12:57:00"}]
[null,{"$f":"Rallye!B125","v":"Arriv. E.S. :"},{"$f":"Rallye!C125","v":"10"},{"$f":"Rallye!D125","v":0},{"$f":"IF(AND(Rallye!D125<>\"\",Rallye!D125<>\"Section\"),($Q30-E$10),)","v":"00:00:00"},{"$f":"IF(AND(Rallye!D125<>\"\",Rallye!D125<>\"Section\"),($Q30-F$10),)","v":"00:00:00"},{"$f":"IF(AND(Rallye!D125<>\"\",Rallye!D125<>\"Section\"),($Q30-G$10),)","v":"00:00:00"},{"$f":"IF(AND(Rallye!D125<>\"\",Rallye!D125<>\"Section\"),($Q30-H$10),)","v":"00:00:00"},{"$f":"IF(AND(Rallye!D125<>\"\",Rallye!D125<>\"Section\"),($Q30-I$10),)","v":"00:00:00"},{"$f":"IF(AND(Rallye!D125<>\"\",Rallye!D125<>\"Section\"),($Q30-J$10),)","v":"00:00:00"},{"$f":"IF(AND(Rallye!D125<>\"\",Rallye!D125<>\"Section\"),($Q30-K$10),)","v":"00:00:00"},{"$f":"IF(AND(Rallye!D125<>\"\",Rallye!D125<>\"Section\"),($Q30-L$10),)","v":"00:00:00"},{"$f":"IF(AND(Rallye!D125<>\"\",Rallye!D125<>\"Section\"),($Q30-M$10),)","v":"00:00:00"},{"$f":"IF(AND(Rallye!D125<>\"\",Rallye!D125<>\"Section\"),($Q30-N$10),)","v":"00:00:00"},{"$f":"IF(AND(Rallye!D125<>\"\",Rallye!D125<>\"Section\"),($Q30-O$10),)","v":"00:00:00"},{"$f":"Rallye!F124","v":"00:00:00"},{"$f":"IF(P30>0,IF(OR(Rallye!D125<>\"\",Rallye!D125<>\"Section\"),Q29+P30,),Q29)","v":"11:42:00"},{"$f":"IF(Q30>0,IF(AND(Rallye!D125<>\"\",Rallye!D125<>\"Section\"),Q30+T_Etp2_VHC+T_inf_Mod,),0)","v":"00:00:00"},{"$f":"IF(Q30>0,IF(AND(Rallye!D125<>\"\",Rallye!D125<>\"Section\"),R30+T_0_Mod,),0)","v":"00:00:00"},{"$f":"IF(P30>0,IF(AND(Rallye!D125<>\"\",Rallye!D125<>\"Section\"),T29+P30,),T29)","v":"12:01:00"},{"$f":"IF(AND(Rallye!D125<>\"\",Rallye!D125<>\"Section\"),T30+$U$10,)","v":"00:00:00"},{"$f":"IF(AND(Rallye!D125<>\"\",Rallye!D125<>\"Section\"),U30+$V$10,)","v":"00:00:00"}]
[null,{"$f":"Rallye!B126","v":"C.H. :"},{"$f":"Rallye!C126","v":"10A"},{"$f":"Rallye!D126","v":"Entrée Parc Regroup"},{"$f":"IF(AND(Rallye!D126<>\"\",Rallye!D126<>\"Section\"),($Q31-E$10),)","v":"10:47:00"},{"$f":"IF(AND(Rallye!D126<>\"\",Rallye!D126<>\"Section\"),($Q31-F$10),)","v":"11:02:00"},{"$f":"IF(AND(Rallye!D126<>\"\",Rallye!D126<>\"Section\"),($Q31-G$10),)","v":"11:17:00"},{"$f":"IF(AND(Rallye!D126<>\"\",Rallye!D126<>\"Section\"),($Q31-H$10),)","v":"11:37:00"},{"$f":"IF(AND(Rallye!D126<>\"\",Rallye!D126<>\"Section\"),($Q31-I$10),)","v":"11:38:00"},{"$f":"IF(AND(Rallye!D126<>\"\",Rallye!D126<>\"Section\"),($Q31-J$10),)","v":"11:39:00"},{"$f":"IF(AND(Rallye!D126<>\"\",Rallye!D126<>\"Section\"),($Q31-K$10),)","v":"11:40:00"},{"$f":"IF(AND(Rallye!D126<>\"\",Rallye!D126<>\"Section\"),($Q31-L$10),)","v":"11:47:00"},{"$f":"IF(AND(Rallye!D126<>\"\",Rallye!D126<>\"Section\"),($Q31-M$10),)","v":"11:52:00"},{"$f":"IF(AND(Rallye!D126<>\"\",Rallye!D126<>\"Section\"),($Q31-N$10),)","v":"12:02:00"},{"$f":"IF(AND(Rallye!D126<>\"\",Rallye!D126<>\"Section\"),($Q31-O$10),)","v":"12:07:00"},{"$f":"Rallye!F125","v":"00:35:00"},{"$f":"IF(P31>0,IF(OR(Rallye!D126<>\"\",Rallye!D126<>\"Section\"),Q30+P31,),Q30)","v":"12:17:00"},{"$f":"IF(Q31>0,IF(AND(Rallye!D126<>\"\",Rallye!D126<>\"Section\"),Q31+T_Etp2_VHC+T_inf_Mod,),0)","v":"12:21:00"},{"$f":"IF(Q31>0,IF(AND(Rallye!D126<>\"\",Rallye!D126<>\"Section\"),R31+T_0_Mod,),0)","v":"12:26:00"},{"$f":"IF(P31>0,IF(AND(Rallye!D126<>\"\",Rallye!D126<>\"Section\"),T30+P31,),T30)","v":"12:36:00"},{"$f":"IF(AND(Rallye!D126<>\"\",Rallye!D126<>\"Section\"),T31+$U$10,)","v":"13:30:00"},{"$f":"IF(AND(Rallye!D126<>\"\",Rallye!D126<>\"Section\"),U31+$V$10,)","v":"13:32:00"}]
[null,{"$f":"Rallye!B127","v":0},{"$f":"Rallye!C127","v":"5ème"},{"$f":"Rallye!D127","v":"Section"},{"$f":"IF(AND(Rallye!D127<>\"\",Rallye!D127<>\"Section\"),($Q32-E$10),)","v":"00:00:00"},{"$f":"IF(AND(Rallye!D127<>\"\",Rallye!D127<>\"Section\"),($Q32-F$10),)","v":"00:00:00"},{"$f":"IF(AND(Rallye!D127<>\"\",Rallye!D127<>\"Section\"),($Q32-G$10),)","v":"00:00:00"},{"$f":"IF(AND(Rallye!D127<>\"\",Rallye!D127<>\"Section\"),($Q32-H$10),)","v":"00:00:00"},{"$f":"IF(AND(Rallye!D127<>\"\",Rallye!D127<>\"Section\"),($Q32-I$10),)","v":"00:00:00"},{"$f":"IF(AND(Rallye!D127<>\"\",Rallye!D127<>\"Section\"),($Q32-J$10),)","v":"00:00:00"},{"$f":"IF(AND(Rallye!D127<>\"\",Rallye!D127<>\"Section\"),($Q32-K$10),)","v":"00:00:00"},{"$f":"IF(AND(Rallye!D127<>\"\",Rallye!D127<>\"Section\"),($Q32-L$10),)","v":"00:00:00"},{"$f":"IF(AND(Rallye!D127<>\"\",Rallye!D127<>\"Section\"),($Q32-M$10),)","v":"00:00:00"},{"$f":"IF(AND(Rallye!D127<>\"\",Rallye!D127<>\"Section\"),($Q32-N$10),)","v":"00:00:00"},{"$f":"IF(AND(Rallye!D127<>\"\",Rallye!D127<>\"Section\"),($Q32-O$10),)","v":"00:00:00"},{"$f":"Rallye!F126","v":"00:00:00"},{"$f":"IF(P32>0,IF(OR(Rallye!D127<>\"\",Rallye!D127<>\"Section\"),Q31+P32,),Q31)","v":"12:17:00"},{"$f":"IF(Q32>0,IF(AND(Rallye!D127<>\"\",Rallye!D127<>\"Section\"),Q32+T_Etp2_VHC+T_inf_Mod,),0)","v":"00:00:00"},{"$f":"IF(Q32>0,IF(AND(Rallye!D127<>\"\",Rallye!D127<>\"Section\"),R32+T_0_Mod,),0)","v":"00:00:00"},{"$f":"IF(P32>0,IF(AND(Rallye!D127<>\"\",Rallye!D127<>\"Section\"),T31+P32,),T31)","v":"12:36:00"},{"$f":"IF(AND(Rallye!D127<>\"\",Rallye!D127<>\"Section\"),T32+$U$10,)","v":"00:00:00"},{"$f":"IF(AND(Rallye!D127<>\"\",Rallye!D127<>\"Section\"),U32+$V$10,)","v":"00:00:00"}]
[null,{"$f":"Rallye!B128","v":"C.H. :"},{"$f":"Rallye!C128","v":"10B"},{"$f":"Rallye!D128","v":"Sortie Parc Regroup"},{"$f":"IF(AND(Rallye!D128<>\"\",Rallye!D128<>\"Section\"),($Q33-E$10),)","v":"11:32:00"},{"$f":"IF(AND(Rallye!D128<>\"\",Rallye!D128<>\"Section\"),($Q33-F$10),)","v":"11:47:00"},{"$f":"IF(AND(Rallye!D128<>\"\",Rallye!D128<>\"Section\"),($Q33-G$10),)","v":"12:02:00"},{"$f":"IF(AND(Rallye!D128<>\"\",Rallye!D128<>\"Section\"),($Q33-H$10),)","v":"12:22:00"},{"$f":"IF(AND(Rallye!D128<>\"\",Rallye!D128<>\"Section\"),($Q33-I$10),)","v":"12:23:00"},{"$f":"IF(AND(Rallye!D128<>\"\",Rallye!D128<>\"Section\"),($Q33-J$10),)","v":"12:24:00"},{"$f":"IF(AND(Rallye!D128<>\"\",Rallye!D128<>\"Section\"),($Q33-K$10),)","v":"12:25:00"},{"$f":"IF(AND(Rallye!D128<>\"\",Rallye!D128<>\"Section\"),($Q33-L$10),)","v":"12:32:00"},{"$f":"IF(AND(Rallye!D128<>\"\",Rallye!D128<>\"Section\"),($Q33-M$10),)","v":"12:37:00"},{"$f":"IF(AND(Rallye!D128<>\"\",Rallye!D128<>\"Section\"),($Q33-N$10),)","v":"12:47:00"},{"$f":"IF(AND(Rallye!D128<>\"\",Rallye!D128<>\"Section\"),($Q33-O$10),)","v":"12:52:00"},{"$f":"Rallye!F127","v":"00:45:00"},{"$f":"IF(P33>0,IF(OR(Rallye!D128<>\"\",Rallye!D128<>\"Section\"),Q32+P33,),Q32)","v":"13:02:00"},{"$f":"IF(Q33>0,IF(AND(Rallye!D128<>\"\",Rallye!D128<>\"Section\"),Q33+T_Etp2_VHC+T_inf_Mod,),0)","v":"13:06:00"},{"$f":"IF(Q33>0,IF(AND(Rallye!D128<>\"\",Rallye!D128<>\"Section\"),R33+T_0_Mod,),0)","v":"13:11:00"},{"$f":"IF(P33>0,IF(AND(Rallye!D128<>\"\",Rallye!D128<>\"Section\"),T32+P33,),T32)","v":"13:21:00"},{"$f":"IF(AND(Rallye!D128<>\"\",Rallye!D128<>\"Section\"),T33+$U$10,)","v":"14:15:00"},{"$f":"IF(AND(Rallye!D128<>\"\",Rallye!D128<>\"Section\"),U33+$V$10,)","v":"14:17:00"}]
[null,{"$f":"Rallye!B129","v":"C.H. :"},{"$f":"Rallye!C129","v":"10C"},{"$f":"Rallye!D129","v":"Entrée Assist (Stade St Yriex)"},{"$f":"IF(AND(Rallye!D129<>\"\",Rallye!D129<>\"Section\"),($Q34-E$10),)","v":"11:37:00"},{"$f":"IF(AND(Rallye!D129<>\"\",Rallye!D129<>\"Section\"),($Q34-F$10),)","v":"11:52:00"},{"$f":"IF(AND(Rallye!D129<>\"\",Rallye!D129<>\"Section\"),($Q34-G$10),)","v":"12:07:00"},{"$f":"IF(AND(Rallye!D129<>\"\",Rallye!D129<>\"Section\"),($Q34-H$10),)","v":"12:27:00"},{"$f":"IF(AND(Rallye!D129<>\"\",Rallye!D129<>\"Section\"),($Q34-I$10),)","v":"12:28:00"},{"$f":"IF(AND(Rallye!D129<>\"\",Rallye!D129<>\"Section\"),($Q34-J$10),)","v":"12:29:00"},{"$f":"IF(AND(Rallye!D129<>\"\",Rallye!D129<>\"Section\"),($Q34-K$10),)","v":"12:30:00"},{"$f":"IF(AND(Rallye!D129<>\"\",Rallye!D129<>\"Section\"),($Q34-L$10),)","v":"12:37:00"},{"$f":"IF(AND(Rallye!D129<>\"\",Rallye!D129<>\"Section\"),($Q34-M$10),)","v":"12:42:00"},{"$f":"IF(AND(Rallye!D129<>\"\",Rallye!D129<>\"Section\"),($Q34-N$10),)","v":"12:52:00"},{"$f":"IF(AND(Rallye!D129<>\"\",Rallye!D129<>\"Section\"),($Q34-O$10),)","v":"12:57:00"},{"$f":"Rallye!F128","v":"00:05:00"},{"$f":"IF(P34>0,IF(OR(Rallye!D129<>\"\",Rallye!D129<>\"Section\"),Q33+P34,),Q33)","v":"13:07:00"},{"$f":"IF(Q34>0,IF(AND(Rallye!D129<>\"\",Rallye!D129<>\"Section\"),Q34+T_Etp2_VHC+T_inf_Mod,),0)","v":"13:11:00"},{"$f":"IF(Q34>0,IF(AND(Rallye!D129<>\"\",Rallye!D129<>\"Section\"),R34+T_0_Mod,),0)","v":"13:16:00"},{"$f":"IF(P34>0,IF(AND(Rallye!D129<>\"\",Rallye!D129<>\"Section\"),T33+P34,),T33)","v":"13:26:00"},{"$f":"IF(AND(Rallye!D129<>\"\",Rallye!D129<>\"Section\"),T34+$U$10,)","v":"14:20:00"},{"$f":"IF(AND(Rallye!D129<>\"\",Rallye!D129<>\"Section\"),U34+$V$10,)","v":"14:22:00"}]
[null,{"$f":"Rallye!B130","v":"C.H. :"},{"$f":"Rallye!C130","v":"10 D"},{"$f":"Rallye!D130","v":"Sortie Assistance"},{"$f":"IF(AND(Rallye!D130<>\"\",Rallye!D130<>\"Section\"),($Q35-E$10),)","v":"12:17:00"},{"$f":"IF(AND(Rallye!D130<>\"\",Rallye!D130<>\"Section\"),($Q35-F$10),)","v":"12:32:00"},{"$f":"IF(AND(Rallye!D130<>\"\",Rallye!D130<>\"Section\"),($Q35-G$10),)","v":"12:47:00"},{"$f":"IF(AND(Rallye!D130<>\"\",Rallye!D130<>\"Section\"),($Q35-H$10),)","v":"13:07:00"},{"$f":"IF(AND(Rallye!D130<>\"\",Rallye!D130<>\"Section\"),($Q35-I$10),)","v":"13:08:00"},{"$f":"IF(AND(Rallye!D130<>\"\",Rallye!D130<>\"Section\"),($Q35-J$10),)","v":"13:09:00"},{"$f":"IF(AND(Rallye!D130<>\"\",Rallye!D130<>\"Section\"),($Q35-K$10),)","v":"13:10:00"},{"$f":"IF(AND(Rallye!D130<>\"\",Rallye!D130<>\"Section\"),($Q35-L$10),)","v":"13:17:00"},{"$f":"IF(AND(Rallye!D130<>\"\",Rallye!D130<>\"Section\"),($Q35-M$10),)","v":"13:22:00"},{"$f":"IF(AND(Rallye!D130<>\"\",Rallye!D130<>\"Section\"),($Q35-N$10),)","v":"13:32:00"},{"$f":"IF(AND(Rallye!D130<>\"\",Rallye!D130<>\"Section\"),($Q35-O$10),)","v":"13:37:00"},{"$f":"Rallye!F129","v":"00:40:00"},{"$f":"IF(P35>0,IF(OR(Rallye!D130<>\"\",Rallye!D130<>\"Section\"),Q34+P35,),Q34)","v":"13:47:00"},{"$f":"IF(Q35>0,IF(AND(Rallye!D130<>\"\",Rallye!D130<>\"Section\"),Q35+T_Etp2_VHC+T_inf_Mod,),0)","v":"13:51:00"},{"$f":"IF(Q35>0,IF(AND(Rallye!D130<>\"\",Rallye!D130<>\"Section\"),R35+T_0_Mod,),0)","v":"13:56:00"},{"$f":"IF(P35>0,IF(AND(Rallye!D130<>\"\",Rallye!D130<>\"Section\"),T34+P35,),T34)","v":"14:06:00"},{"$f":"IF(AND(Rallye!D130<>\"\",Rallye!D130<>\"Section\"),T35+$U$10,)","v":"15:00:00"},{"$f":"IF(AND(Rallye!D130<>\"\",Rallye!D130<>\"Section\"),U35+$V$10,)","v":"15:02:00"}]
[null,{"$f":"Rallye!B131","v":"C.H. :"},{"$f":"Rallye!C131","v":"11"},{"$f":"Rallye!D131","v":"Avant Départ ES 11"},{"$f":"IF(AND(Rallye!D131<>\"\",Rallye!D131<>\"Section\"),($Q36-E$10),)","v":"12:42:00"},{"$f":"IF(AND(Rallye!D131<>\"\",Rallye!D131<>\"Section\"),($Q36-F$10),)","v":"12:57:00"},{"$f":"IF(AND(Rallye!D131<>\"\",Rallye!D131<>\"Section\"),($Q36-G$10),)","v":"13:12:00"},{"$f":"IF(AND(Rallye!D131<>\"\",Rallye!D131<>\"Section\"),($Q36-H$10),)","v":"13:32:00"},{"$f":"IF(AND(Rallye!D131<>\"\",Rallye!D131<>\"Section\"),($Q36-I$10),)","v":"13:33:00"},{"$f":"IF(AND(Rallye!D131<>\"\",Rallye!D131<>\"Section\"),($Q36-J$10),)","v":"13:34:00"},{"$f":"IF(AND(Rallye!D131<>\"\",Rallye!D131<>\"Section\"),($Q36-K$10),)","v":"13:35:00"},{"$f":"IF(AND(Rallye!D131<>\"\",Rallye!D131<>\"Section\"),($Q36-L$10),)","v":"13:42:00"},{"$f":"IF(AND(Rallye!D131<>\"\",Rallye!D131<>\"Section\"),($Q36-M$10),)","v":"13:47:00"},{"$f":"IF(AND(Rallye!D131<>\"\",Rallye!D131<>\"Section\"),($Q36-N$10),)","v":"13:57:00"},{"$f":"IF(AND(Rallye!D131<>\"\",Rallye!D131<>\"Section\"),($Q36-O$10),)","v":"14:02:00"},{"$f":"Rallye!F130","v":"00:25:00"},{"$f":"IF(P36>0,IF(OR(Rallye!D131<>\"\",Rallye!D131<>\"Section\"),Q35+P36,),Q35)","v":"14:12:00"},{"$f":"IF(Q36>0,IF(AND(Rallye!D131<>\"\",Rallye!D131<>\"Section\"),Q36+T_Etp2_VHC+T_inf_Mod,),0)","v":"14:16:00"},{"$f":"IF(Q36>0,IF(AND(Rallye!D131<>\"\",Rallye!D131<>\"Section\"),R36+T_0_Mod,),0)","v":"14:21:00"},{"$f":"IF(P36>0,IF(AND(Rallye!D131<>\"\",Rallye!D131<>\"Section\"),T35+P36,),T35)","v":"14:31:00"},{"$f":"IF(AND(Rallye!D131<>\"\",Rallye!D131<>\"Section\"),T36+$U$10,)","v":"15:25:00"},{"$f":"IF(AND(Rallye!D131<>\"\",Rallye!D131<>\"Section\"),U36+$V$10,)","v":"15:27:00"}]
[null,{"$f":"Rallye!B132","v":"Départ E.S. :"},{"$f":"Rallye!C132","v":"11"},{"$f":"Rallye!D132","v":"La GABIE de la POULE 3 (9 Kms)"},{"$f":"IF(AND(Rallye!D132<>\"\",Rallye!D132<>\"Section\"),($Q37-E$10),)","v":"12:45:00"},{"$f":"IF(AND(Rallye!D132<>\"\",Rallye!D132<>\"Section\"),($Q37-F$10),)","v":"13:00:00"},{"$f":"IF(AND(Rallye!D132<>\"\",Rallye!D132<>\"Section\"),($Q37-G$10),)","v":"13:15:00"},{"$f":"IF(AND(Rallye!D132<>\"\",Rallye!D132<>\"Section\"),($Q37-H$10),)","v":"13:35:00"},{"$f":"IF(AND(Rallye!D132<>\"\",Rallye!D132<>\"Section\"),($Q37-I$10),)","v":"13:36:00"},{"$f":"IF(AND(Rallye!D132<>\"\",Rallye!D132<>\"Section\"),($Q37-J$10),)","v":"13:37:00"},{"$f":"IF(AND(Rallye!D132<>\"\",Rallye!D132<>\"Section\"),($Q37-K$10),)","v":"13:38:00"},{"$f":"IF(AND(Rallye!D132<>\"\",Rallye!D132<>\"Section\"),($Q37-L$10),)","v":"13:45:00"},{"$f":"IF(AND(Rallye!D132<>\"\",Rallye!D132<>\"Section\"),($Q37-M$10),)","v":"13:50:00"},{"$f":"IF(AND(Rallye!D132<>\"\",Rallye!D132<>\"Section\"),($Q37-N$10),)","v":"14:00:00"},{"$f":"IF(AND(Rallye!D132<>\"\",Rallye!D132<>\"Section\"),($Q37-O$10),)","v":"14:05:00"},{"$f":"Rallye!F131","v":"00:03:00"},{"$f":"IF(P37>0,IF(OR(Rallye!D132<>\"\",Rallye!D132<>\"Section\"),Q36+P37,),Q36)","v":"14:15:00"},{"$f":"IF(Q37>0,IF(AND(Rallye!D132<>\"\",Rallye!D132<>\"Section\"),Q37+T_Etp2_VHC+T_inf_Mod,),0)","v":"14:19:00"},{"$f":"IF(Q37>0,IF(AND(Rallye!D132<>\"\",Rallye!D132<>\"Section\"),R37+T_0_Mod,),0)","v":"14:24:00"},{"$f":"IF(P37>0,IF(AND(Rallye!D132<>\"\",Rallye!D132<>\"Section\"),T36+P37,),T36)","v":"14:34:00"},{"$f":"IF(AND(Rallye!D132<>\"\",Rallye!D132<>\"Section\"),T37+$U$10,)","v":"15:28:00"},{"$f":"IF(AND(Rallye!D132<>\"\",Rallye!D132<>\"Section\"),U37+$V$10,)","v":"15:30:00"}]
[null,{"$f":"Rallye!B133","v":"Arriv. E.S. :"},{"$f":"Rallye!C133","v":"11"},{"$f":"Rallye!D133","v":0},{"$f":"IF(AND(Rallye!D133<>\"\",Rallye!D133<>\"Section\"),($Q38-E$10),)","v":"00:00:00"},{"$f":"IF(AND(Rallye!D133<>\"\",Rallye!D133<>\"Section\"),($Q38-F$10),)","v":"00:00:00"},{"$f":"IF(AND(Rallye!D133<>\"\",Rallye!D133<>\"Section\"),($Q38-G$10),)","v":"00:00:00"},{"$f":"IF(AND(Rallye!D133<>\"\",Rallye!D133<>\"Section\"),($Q38-H$10),)","v":"00:00:00"},{"$f":"IF(AND(Rallye!D133<>\"\",Rallye!D133<>\"Section\"),($Q38-I$10),)","v":"00:00:00"},{"$f":"IF(AND(Rallye!D133<>\"\",Rallye!D133<>\"Section\"),($Q38-J$10),)","v":"00:00:00"},{"$f":"IF(AND(Rallye!D133<>\"\",Rallye!D133<>\"Section\"),($Q38-K$10),)","v":"00:00:00"},{"$f":"IF(AND(Rallye!D133<>\"\",Rallye!D133<>\"Section\"),($Q38-L$10),)","v":"00:00:00"},{"$f":"IF(AND(Rallye!D133<>\"\",Rallye!D133<>\"Section\"),($Q38-M$10),)","v":"00:00:00"},{"$f":"IF(AND(Rallye!D133<>\"\",Rallye!D133<>\"Section\"),($Q38-N$10),)","v":"00:00:00"},{"$f":"IF(AND(Rallye!D133<>\"\",Rallye!D133<>\"Section\"),($Q38-O$10),)","v":"00:00:00"},{"$f":"Rallye!F132","v":"00:00:00"},{"$f":"IF(P38>0,IF(OR(Rallye!D133<>\"\",Rallye!D133<>\"Section\"),Q37+P38,),Q37)","v":"14:15:00"},{"$f":"IF(Q38>0,IF(AND(Rallye!D133<>\"\",Rallye!D133<>\"Section\"),Q38+T_Etp2_VHC+T_inf_Mod,),0)","v":"00:00:00"},{"$f":"IF(Q38>0,IF(AND(Rallye!D133<>\"\",Rallye!D133<>\"Section\"),R38+T_0_Mod,),0)","v":"00:00:00"},{"$f":"IF(P38>0,IF(AND(Rallye!D133<>\"\",Rallye!D133<>\"Section\"),T37+P38,),T37)","v":"14:34:00"},{"$f":"IF(AND(Rallye!D133<>\"\",Rallye!D133<>\"Section\"),T38+$U$10,)","v":"00:00:00"},{"$f":"IF(AND(Rallye!D133<>\"\",Rallye!D133<>\"Section\"),U38+$V$10,)","v":"00:00:00"}]
[null,{"$f":"Rallye!B134","v":"C.H. :"},{"$f":"Rallye!C134","v":"12"},{"$f":"Rallye!D134","v":"Avant Départ ES 12"},{"$f":"IF(AND(Rallye!D134<>\"\",Rallye!D134<>\"Section\"),($Q39-E$10),)","v":"13:05:00"},{"$f":"IF(AND(Rallye!D134<>\"\",Rallye!D134<>\"Section\"),($Q39-F$10),)","v":"13:20:00"},{"$f":"IF(AND(Rallye!D134<>\"\",Rallye!D134<>\"Section\"),($Q39-G$10),)","v":"13:35:00"},{"$f":"IF(AND(Rallye!D134<>\"\",Rallye!D134<>\"Section\"),($Q39-H$10),)","v":"13:55:00"},{"$f":"IF(AND(Rallye!D134<>\"\",Rallye!D134<>\"Section\"),($Q39-I$10),)","v":"13:56:00"},{"$f":"IF(AND(Rallye!D134<>\"\",Rallye!D134<>\"Section\"),($Q39-J$10),)","v":"13:57:00"},{"$f":"IF(AND(Rallye!D134<>\"\",Rallye!D134<>\"Section\"),($Q39-K$10),)","v":"13:58:00"},{"$f":"IF(AND(Rallye!D134<>\"\",Rallye!D134<>\"Section\"),($Q39-L$10),)","v":"14:05:00"},{"$f":"IF(AND(Rallye!D134<>\"\",Rallye!D134<>\"Section\"),($Q39-M$10),)","v":"14:10:00"},{"$f":"IF(AND(Rallye!D134<>\"\",Rallye!D134<>\"Section\"),($Q39-N$10),)","v":"14:20:00"},{"$f":"IF(AND(Rallye!D134<>\"\",Rallye!D134<>\"Section\"),($Q39-O$10),)","v":"14:25:00"},{"$f":"Rallye!F133","v":"00:20:00"},{"$f":"IF(P39>0,IF(OR(Rallye!D134<>\"\",Rallye!D134<>\"Section\"),Q38+P39,),Q38)","v":"14:35:00"},{"$f":"IF(Q39>0,IF(AND(Rallye!D134<>\"\",Rallye!D134<>\"Section\"),Q39+T_Etp2_VHC+T_inf_Mod,),0)","v":"14:39:00"},{"$f":"IF(Q39>0,IF(AND(Rallye!D134<>\"\",Rallye!D134<>\"Section\"),R39+T_0_Mod,),0)","v":"14:44:00"},{"$f":"IF(P39>0,IF(AND(Rallye!D134<>\"\",Rallye!D134<>\"Section\"),T38+P39,),T38)","v":"14:54:00"},{"$f":"IF(AND(Rallye!D134<>\"\",Rallye!D134<>\"Section\"),T39+$U$10,)","v":"15:48:00"},{"$f":"IF(AND(Rallye!D134<>\"\",Rallye!D134<>\"Section\"),U39+$V$10,)","v":"15:50:00"}]
[null,{"$f":"Rallye!B135","v":"Départ E.S. :"},{"$f":"Rallye!C135","v":"12"},{"$f":"Rallye!D135","v":"GLANDON 3 (17,810 Kms)"},{"$f":"IF(AND(Rallye!D135<>\"\",Rallye!D135<>\"Section\"),($Q40-E$10),)","v":"13:08:00"},{"$f":"IF(AND(Rallye!D135<>\"\",Rallye!D135<>\"Section\"),($Q40-F$10),)","v":"13:23:00"},{"$f":"IF(AND(Rallye!D135<>\"\",Rallye!D135<>\"Section\"),($Q40-G$10),)","v":"13:38:00"},{"$f":"IF(AND(Rallye!D135<>\"\",Rallye!D135<>\"Section\"),($Q40-H$10),)","v":"13:58:00"},{"$f":"IF(AND(Rallye!D135<>\"\",Rallye!D135<>\"Section\"),($Q40-I$10),)","v":"13:59:00"},{"$f":"IF(AND(Rallye!D135<>\"\",Rallye!D135<>\"Section\"),($Q40-J$10),)","v":"14:00:00"},{"$f":"IF(AND(Rallye!D135<>\"\",Rallye!D135<>\"Section\"),($Q40-K$10),)","v":"14:01:00"},{"$f":"IF(AND(Rallye!D135<>\"\",Rallye!D135<>\"Section\"),($Q40-L$10),)","v":"14:08:00"},{"$f":"IF(AND(Rallye!D135<>\"\",Rallye!D135<>\"Section\"),($Q40-M$10),)","v":"14:13:00"},{"$f":"IF(AND(Rallye!D135<>\"\",Rallye!D135<>\"Section\"),($Q40-N$10),)","v":"14:23:00"},{"$f":"IF(AND(Rallye!D135<>\"\",Rallye!D135<>\"Section\"),($Q40-O$10),)","v":"14:28:00"},{"$f":"Rallye!F134","v":"00:03:00"},{"$f":"IF(P40>0,IF(OR(Rallye!D135<>\"\",Rallye!D135<>\"Section\"),Q39+P40,),Q39)","v":"14:38:00"},{"$f":"IF(Q40>0,IF(AND(Rallye!D135<>\"\",Rallye!D135<>\"Section\"),Q40+T_Etp2_VHC+T_inf_Mod,),0)","v":"14:42:00"},{"$f":"IF(Q40>0,IF(AND(Rallye!D135<>\"\",Rallye!D135<>\"Section\"),R40+T_0_Mod,),0)","v":"14:47:00"},{"$f":"IF(P40>0,IF(AND(Rallye!D135<>\"\",Rallye!D135<>\"Section\"),T39+P40,),T39)","v":"14:57:00"},{"$f":"IF(AND(Rallye!D135<>\"\",Rallye!D135<>\"Section\"),T40+$U$10,)","v":"15:51:00"},{"$f":"IF(AND(Rallye!D135<>\"\",Rallye!D135<>\"Section\"),U40+$V$10,)","v":"15:53:00"}]
[null,{"$f":"Rallye!B136","v":"Arriv. E.S. :"},{"$f":"Rallye!C136","v":"12"},{"$f":"Rallye!D136","v":0},{"$f":"IF(AND(Rallye!D136<>\"\",Rallye!D136<>\"Section\"),($Q41-E$10),)","v":"00:00:00"},{"$f":"IF(AND(Rallye!D136<>\"\",Rallye!D136<>\"Section\"),($Q41-F$10),)","v":"00:00:00"},{"$f":"IF(AND(Rallye!D136<>\"\",Rallye!D136<>\"Section\"),($Q41-G$10),)","v":"00:00:00"},{"$f":"IF(AND(Rallye!D136<>\"\",Rallye!D136<>\"Section\"),($Q41-H$10),)","v":"00:00:00"},{"$f":"IF(AND(Rallye!D136<>\"\",Rallye!D136<>\"Section\"),($Q41-I$10),)","v":"00:00:00"},{"$f":"IF(AND(Rallye!D136<>\"\",Rallye!D136<>\"Section\"),($Q41-J$10),)","v":"00:00:00"},{"$f":"IF(AND(Rallye!D136<>\"\",Rallye!D136<>\"Section\"),($Q41-K$10),)","v":"00:00:00"},{"$f":"IF(AND(Rallye!D136<>\"\",Rallye!D136<>\"Section\"),($Q41-L$10),)","v":"00:00:00"},{"$f":"IF(AND(Rallye!D136<>\"\",Rallye!D136<>\"Section\"),($Q41-M$10),)","v":"00:00:00"},{"$f":"IF(AND(Rallye!D136<>\"\",Rallye!D136<>\"Section\"),($Q41-N$10),)","v":"00:00:00"},{"$f":"IF(AND(Rallye!D136<>\"\",Rallye!D136<>\"Section\"),($Q41-O$10),)","v":"00:00:00"},{"$f":"Rallye!F135","v":"00:00:00"},{"$f":"IF(P41>0,IF(OR(Rallye!D136<>\"\",Rallye!D136<>\"Section\"),Q40+P41,),Q40)","v":"14:38:00"},{"$f":"IF(Q41>0,IF(AND(Rallye!D136<>\"\",Rallye!D136<>\"Section\"),Q41+T_Etp2_VHC+T_inf_Mod,),0)","v":"00:00:00"},{"$f":"IF(Q41>0,IF(AND(Rallye!D136<>\"\",Rallye!D136<>\"Section\"),R41+T_0_Mod,),0)","v":"00:00:00"},{"$f":"IF(P41>0,IF(AND(Rallye!D136<>\"\",Rallye!D136<>\"Section\"),T40+P41,),T40)","v":"14:57:00"},{"$f":"IF(AND(Rallye!D136<>\"\",Rallye!D136<>\"Section\"),T41+$U$10,)","v":"00:00:00"},{"$f":"IF(AND(Rallye!D136<>\"\",Rallye!D136<>\"Section\"),U41+$V$10,)","v":"00:00:00"}]
[null,{"$f":"Rallye!B137","v":"C.H. :"},{"$f":"Rallye!C137","v":"12A"},{"$f":"Rallye!D137","v":"Entrée Assist (Stade St Yriex)"},{"$f":"IF(AND(Rallye!D137<>\"\",Rallye!D137<>\"Section\"),($Q42-E$10),)","v":"13:43:00"},{"$f":"IF(AND(Rallye!D137<>\"\",Rallye!D137<>\"Section\"),($Q42-F$10),)","v":"13:58:00"},{"$f":"IF(AND(Rallye!D137<>\"\",Rallye!D137<>\"Section\"),($Q42-G$10),)","v":"14:13:00"},{"$f":"IF(AND(Rallye!D137<>\"\",Rallye!D137<>\"Section\"),($Q42-H$10),)","v":"14:33:00"},{"$f":"IF(AND(Rallye!D137<>\"\",Rallye!D137<>\"Section\"),($Q42-I$10),)","v":"14:34:00"},{"$f":"IF(AND(Rallye!D137<>\"\",Rallye!D137<>\"Section\"),($Q42-J$10),)","v":"14:35:00"},{"$f":"IF(AND(Rallye!D137<>\"\",Rallye!D137<>\"Section\"),($Q42-K$10),)","v":"14:36:00"},{"$f":"IF(AND(Rallye!D137<>\"\",Rallye!D137<>\"Section\"),($Q42-L$10),)","v":"14:43:00"},{"$f":"IF(AND(Rallye!D137<>\"\",Rallye!D137<>\"Section\"),($Q42-M$10),)","v":"14:48:00"},{"$f":"IF(AND(Rallye!D137<>\"\",Rallye!D137<>\"Section\"),($Q42-N$10),)","v":"14:58:00"},{"$f":"IF(AND(Rallye!D137<>\"\",Rallye!D137<>\"Section\"),($Q42-O$10),)","v":"15:03:00"},{"$f":"Rallye!F136","v":"00:35:00"},{"$f":"IF(P42>0,IF(OR(Rallye!D137<>\"\",Rallye!D137<>\"Section\"),Q41+P42,),Q41)","v":"15:13:00"},{"$f":"IF(Q42>0,IF(AND(Rallye!D137<>\"\",Rallye!D137<>\"Section\"),Q42+T_Etp2_VHC+T_inf_Mod,),0)","v":"15:17:00"},{"$f":"IF(Q42>0,IF(AND(Rallye!D137<>\"\",Rallye!D137<>\"Section\"),R42+T_0_Mod,),0)","v":"15:22:00"},{"$f":"IF(P42>0,IF(AND(Rallye!D137<>\"\",Rallye!D137<>\"Section\"),T41+P42,),T41)","v":"15:32:00"},{"$f":"IF(AND(Rallye!D137<>\"\",Rallye!D137<>\"Section\"),T42+$U$10,)","v":"16:26:00"},{"$f":"IF(AND(Rallye!D137<>\"\",Rallye!D137<>\"Section\"),U42+$V$10,)","v":"16:28:00"}]
[null,{"$f":"Rallye!B138","v":"C.H. :"},{"$f":"Rallye!C138","v":"12B"},{"$f":"Rallye!D138","v":"Sortie Assistance"},{"$f":"IF(AND(Rallye!D138<>\"\",Rallye!D138<>\"Section\"),($Q43-E$10),)","v":"13:53:00"},{"$f":"IF(AND(Rallye!D138<>\"\",Rallye!D138<>\"Section\"),($Q43-F$10),)","v":"14:08:00"},{"$f":"IF(AND(Rallye!D138<>\"\",Rallye!D138<>\"Section\"),($Q43-G$10),)","v":"14:23:00"},{"$f":"IF(AND(Rallye!D138<>\"\",Rallye!D138<>\"Section\"),($Q43-H$10),)","v":"14:43:00"},{"$f":"IF(AND(Rallye!D138<>\"\",Rallye!D138<>\"Section\"),($Q43-I$10),)","v":"14:44:00"},{"$f":"IF(AND(Rallye!D138<>\"\",Rallye!D138<>\"Section\"),($Q43-J$10),)","v":"14:45:00"},{"$f":"IF(AND(Rallye!D138<>\"\",Rallye!D138<>\"Section\"),($Q43-K$10),)","v":"14:46:00"},{"$f":"IF(AND(Rallye!D138<>\"\",Rallye!D138<>\"Section\"),($Q43-L$10),)","v":"14:53:00"},{"$f":"IF(AND(Rallye!D138<>\"\",Rallye!D138<>\"Section\"),($Q43-M$10),)","v":"14:58:00"},{"$f":"IF(AND(Rallye!D138<>\"\",Rallye!D138<>\"Section\"),($Q43-N$10),)","v":"15:08:00"},{"$f":"IF(AND(Rallye!D138<>\"\",Rallye!D138<>\"Section\"),($Q43-O$10),)","v":"15:13:00"},{"$f":"Rallye!F137","v":"00:10:00"},{"$f":"IF(P43>0,IF(OR(Rallye!D138<>\"\",Rallye!D138<>\"Section\"),Q42+P43,),Q42)","v":"15:23:00"},{"$f":"IF(Q43>0,IF(AND(Rallye!D138<>\"\",Rallye!D138<>\"Section\"),Q43+T_Etp2_VHC+T_inf_Mod,),0)","v":"15:27:00"},{"$f":"IF(Q43>0,IF(AND(Rallye!D138<>\"\",Rallye!D138<>\"Section\"),R43+T_0_Mod,),0)","v":"15:32:00"},{"$f":"IF(P43>0,IF(AND(Rallye!D138<>\"\",Rallye!D138<>\"Section\"),T42+P43,),T42)","v":"15:42:00"},{"$f":"IF(AND(Rallye!D138<>\"\",Rallye!D138<>\"Section\"),T43+$U$10,)","v":"16:36:00"},{"$f":"IF(AND(Rallye!D138<>\"\",Rallye!D138<>\"Section\"),U43+$V$10,)","v":"16:38:00"}]
[null,{"$f":"Rallye!B139","v":"C.H. :"},{"$f":"Rallye!C139","v":"12C"},{"$f":"Rallye!D139","v":"Entrée Parc Fermé d'Arrivée"},{"$f":"IF(AND(Rallye!D139<>\"\",Rallye!D139<>\"Section\"),($Q44-E$10),)","v":"13:58:00"},{"$f":"IF(AND(Rallye!D139<>\"\",Rallye!D139<>\"Section\"),($Q44-F$10),)","v":"14:13:00"},{"$f":"IF(AND(Rallye!D139<>\"\",Rallye!D139<>\"Section\"),($Q44-G$10),)","v":"14:28:00"},{"$f":"IF(AND(Rallye!D139<>\"\",Rallye!D139<>\"Section\"),($Q44-H$10),)","v":"14:48:00"},{"$f":"IF(AND(Rallye!D139<>\"\",Rallye!D139<>\"Section\"),($Q44-I$10),)","v":"14:49:00"},{"$f":"IF(AND(Rallye!D139<>\"\",Rallye!D139<>\"Section\"),($Q44-J$10),)","v":"14:50:00"},{"$f":"IF(AND(Rallye!D139<>\"\",Rallye!D139<>\"Section\"),($Q44-K$10),)","v":"14:51:00"},{"$f":"IF(AND(Rallye!D139<>\"\",Rallye!D139<>\"Section\"),($Q44-L$10),)","v":"14:58:00"},{"$f":"IF(AND(Rallye!D139<>\"\",Rallye!D139<>\"Section\"),($Q44-M$10),)","v":"15:03:00"},{"$f":"IF(AND(Rallye!D139<>\"\",Rallye!D139<>\"Section\"),($Q44-N$10),)","v":"15:13:00"},{"$f":"IF(AND(Rallye!D139<>\"\",Rallye!D139<>\"Section\"),($Q44-O$10),)","v":"15:18:00"},{"$f":"Rallye!F138","v":"00:05:00"},{"$f":"IF(P44>0,IF(OR(Rallye!D139<>\"\",Rallye!D139<>\"Section\"),Q43+P44,),Q43)","v":"15:28:00"},{"$f":"IF(Q44>0,IF(AND(Rallye!D139<>\"\",Rallye!D139<>\"Section\"),Q44+T_Etp2_VHC+T_inf_Mod,),0)","v":"15:32:00"},{"$f":"IF(Q44>0,IF(AND(Rallye!D139<>\"\",Rallye!D139<>\"Section\"),R44+T_0_Mod,),0)","v":"15:37:00"},{"$f":"IF(P44>0,IF(AND(Rallye!D139<>\"\",Rallye!D139<>\"Section\"),T43+P44,),T43)","v":"15:47:00"},{"$f":"IF(AND(Rallye!D139<>\"\",Rallye!D139<>\"Section\"),T44+$U$10,)","v":"16:41:00"},{"$f":"IF(AND(Rallye!D139<>\"\",Rallye!D139<>\"Section\"),U44+$V$10,)","v":"16:43:00"}]
[null,{"$f":"Rallye!B140","v":0},{"$f":"Rallye!C140","v":0},{"$f":"Rallye!D140","v":0},{"$f":"IF(AND(Rallye!D140<>\"\",Rallye!D140<>\"Section\"),($Q45-E$10),)","v":"00:00:00"},{"$f":"IF(AND(Rallye!D140<>\"\",Rallye!D140<>\"Section\"),($Q45-F$10),)","v":"00:00:00"},{"$f":"IF(AND(Rallye!D140<>\"\",Rallye!D140<>\"Section\"),($Q45-G$10),)","v":"00:00:00"},{"$f":"IF(AND(Rallye!D140<>\"\",Rallye!D140<>\"Section\"),($Q45-H$10),)","v":"00:00:00"},{"$f":"IF(AND(Rallye!D140<>\"\",Rallye!D140<>\"Section\"),($Q45-I$10),)","v":"00:00:00"},{"$f":"IF(AND(Rallye!D140<>\"\",Rallye!D140<>\"Section\"),($Q45-J$10),)","v":"00:00:00"},{"$f":"IF(AND(Rallye!D140<>\"\",Rallye!D140<>\"Section\"),($Q45-K$10),)","v":"00:00:00"},{"$f":"IF(AND(Rallye!D140<>\"\",Rallye!D140<>\"Section\"),($Q45-L$10),)","v":"00:00:00"},{"$f":"IF(AND(Rallye!D140<>\"\",Rallye!D140<>\"Section\"),($Q45-M$10),)","v":"00:00:00"},{"$f":"IF(AND(Rallye!D140<>\"\",Rallye!D140<>\"Section\"),($Q45-N$10),)","v":"00:00:00"},{"$f":"IF(AND(Rallye!D140<>\"\",Rallye!D140<>\"Section\"),($Q45-O$10),)","v":"00:00:00"},{"$f":"Rallye!F139","v":"00:00:00"},{"$f":"IF(P45>0,IF(OR(Rallye!D140<>\"\",Rallye!D140<>\"Section\"),Q44+P45,),Q44)","v":"15:28:00"},{"$f":"IF(Q45>0,IF(AND(Rallye!D140<>\"\",Rallye!D140<>\"Section\"),Q45+T_Etp2_VHC+T_inf_Mod,),0)","v":"00:00:00"},{"$f":"IF(Q45>0,IF(AND(Rallye!D140<>\"\",Rallye!D140<>\"Section\"),R45+T_0_Mod,),0)","v":"00:00:00"},{"$f":"IF(P45>0,IF(AND(Rallye!D140<>\"\",Rallye!D140<>\"Section\"),T44+P45,),T44)","v":"15:47:00"},{"$f":"IF(AND(Rallye!D140<>\"\",Rallye!D140<>\"Section\"),T45+$U$10,)","v":"00:00:00"},{"$f":"IF(AND(Rallye!D140<>\"\",Rallye!D140<>\"Section\"),U45+$V$10,)","v":"00:00:00"}]
[null,{"$f":"Rallye!B141","v":0},{"$f":"Rallye!C141","v":0},{"$f":"Rallye!D141","v":0},{"$f":"IF(AND(Rallye!D141<>\"\",Rallye!D141<>\"Section\"),($Q46-E$10),)","v":"00:00:00"},{"$f":"IF(AND(Rallye!D141<>\"\",Rallye!D141<>\"Section\"),($Q46-F$10),)","v":"00:00:00"},{"$f":"IF(AND(Rallye!D141<>\"\",Rallye!D141<>\"Section\"),($Q46-G$10),)","v":"00:00:00"},{"$f":"IF(AND(Rallye!D141<>\"\",Rallye!D141<>\"Section\"),($Q46-H$10),)","v":"00:00:00"},{"$f":"IF(AND(Rallye!D141<>\"\",Rallye!D141<>\"Section\"),($Q46-I$10),)","v":"00:00:00"},{"$f":"IF(AND(Rallye!D141<>\"\",Rallye!D141<>\"Section\"),($Q46-J$10),)","v":"00:00:00"},{"$f":"IF(AND(Rallye!D141<>\"\",Rallye!D141<>\"Section\"),($Q46-K$10),)","v":"00:00:00"},{"$f":"IF(AND(Rallye!D141<>\"\",Rallye!D141<>\"Section\"),($Q46-L$10),)","v":"00:00:00"},{"$f":"IF(AND(Rallye!D141<>\"\",Rallye!D141<>\"Section\"),($Q46-M$10),)","v":"00:00:00"},{"$f":"IF(AND(Rallye!D141<>\"\",Rallye!D141<>\"Section\"),($Q46-N$10),)","v":"00:00:00"},{"$f":"IF(AND(Rallye!D141<>\"\",Rallye!D141<>\"Section\"),($Q46-O$10),)","v":"00:00:00"},{"$f":"Rallye!F140","v":"00:00:00"},{"$f":"IF(P46>0,IF(OR(Rallye!D141<>\"\",Rallye!D141<>\"Section\"),Q45+P46,),Q45)","v":"15:28:00"},{"$f":"IF(Q46>0,IF(AND(Rallye!D141<>\"\",Rallye!D141<>\"Section\"),Q46+T_Etp2_VHC+T_inf_Mod,),0)","v":"00:00:00"},{"$f":"IF(Q46>0,IF(AND(Rallye!D141<>\"\",Rallye!D141<>\"Section\"),R46+T_0_Mod,),0)","v":"00:00:00"},{"$f":"IF(P46>0,IF(AND(Rallye!D141<>\"\",Rallye!D141<>\"Section\"),T45+P46,),T45)","v":"15:47:00"},{"$f":"IF(AND(Rallye!D141<>\"\",Rallye!D141<>\"Section\"),T46+$U$10,)","v":"00:00:00"},{"$f":"IF(AND(Rallye!D141<>\"\",Rallye!D141<>\"Section\"),U46+$V$10,)","v":"00:00:00"}]
[null,{"$f":"Rallye!B142","v":0},{"$f":"Rallye!C142","v":0},{"$f":"Rallye!D142","v":0},{"$f":"IF(AND(Rallye!D142<>\"\",Rallye!D142<>\"Section\"),($Q47-E$10),)","v":"00:00:00"},{"$f":"IF(AND(Rallye!D142<>\"\",Rallye!D142<>\"Section\"),($Q47-F$10),)","v":"00:00:00"},{"$f":"IF(AND(Rallye!D142<>\"\",Rallye!D142<>\"Section\"),($Q47-G$10),)","v":"00:00:00"},{"$f":"IF(AND(Rallye!D142<>\"\",Rallye!D142<>\"Section\"),($Q47-H$10),)","v":"00:00:00"},{"$f":"IF(AND(Rallye!D142<>\"\",Rallye!D142<>\"Section\"),($Q47-I$10),)","v":"00:00:00"},{"$f":"IF(AND(Rallye!D142<>\"\",Rallye!D142<>\"Section\"),($Q47-J$10),)","v":"00:00:00"},{"$f":"IF(AND(Rallye!D142<>\"\",Rallye!D142<>\"Section\"),($Q47-K$10),)","v":"00:00:00"},{"$f":"IF(AND(Rallye!D142<>\"\",Rallye!D142<>\"Section\"),($Q47-L$10),)","v":"00:00:00"},{"$f":"IF(AND(Rallye!D142<>\"\",Rallye!D142<>\"Section\"),($Q47-M$10),)","v":"00:00:00"},{"$f":"IF(AND(Rallye!D142<>\"\",Rallye!D142<>\"Section\"),($Q47-N$10),)","v":"00:00:00"},{"$f":"IF(AND(Rallye!D142<>\"\",Rallye!D142<>\"Section\"),($Q47-O$10),)","v":"00:00:00"},{"$f":"Rallye!F141","v":"00:00:00"},{"$f":"IF(P47>0,IF(OR(Rallye!D142<>\"\",Rallye!D142<>\"Section\"),Q46+P47,),Q46)","v":"15:28:00"},{"$f":"IF(Q47>0,IF(AND(Rallye!D142<>\"\",Rallye!D142<>\"Section\"),Q47+T_Etp2_VHC+T_inf_Mod,),0)","v":"00:00:00"},{"$f":"IF(Q47>0,IF(AND(Rallye!D142<>\"\",Rallye!D142<>\"Section\"),R47+T_0_Mod,),0)","v":"00:00:00"},{"$f":"IF(P47>0,IF(AND(Rallye!D142<>\"\",Rallye!D142<>\"Section\"),T46+P47,),T46)","v":"15:47:00"},{"$f":"IF(AND(Rallye!D142<>\"\",Rallye!D142<>\"Section\"),T47+$U$10,)","v":"00:00:00"},{"$f":"IF(AND(Rallye!D142<>\"\",Rallye!D142<>\"Section\"),U47+$V$10,)","v":"00:00:00"}]
[null,{"$f":"Rallye!B143","v":0},{"$f":"Rallye!C143","v":0},{"$f":"Rallye!D143","v":0},{"$f":"IF(AND(Rallye!D143<>\"\",Rallye!D143<>\"Section\"),($Q48-E$10),)","v":"00:00:00"},{"$f":"IF(AND(Rallye!D143<>\"\",Rallye!D143<>\"Section\"),($Q48-F$10),)","v":"00:00:00"},{"$f":"IF(AND(Rallye!D143<>\"\",Rallye!D143<>\"Section\"),($Q48-G$10),)","v":"00:00:00"},{"$f":"IF(AND(Rallye!D143<>\"\",Rallye!D143<>\"Section\"),($Q48-H$10),)","v":"00:00:00"},{"$f":"IF(AND(Rallye!D143<>\"\",Rallye!D143<>\"Section\"),($Q48-I$10),)","v":"00:00:00"},{"$f":"IF(AND(Rallye!D143<>\"\",Rallye!D143<>\"Section\"),($Q48-J$10),)","v":"00:00:00"},{"$f":"IF(AND(Rallye!D143<>\"\",Rallye!D143<>\"Section\"),($Q48-K$10),)","v":"00:00:00"},{"$f":"IF(AND(Rallye!D143<>\"\",Rallye!D143<>\"Section\"),($Q48-L$10),)","v":"00:00:00"},{"$f":"IF(AND(Rallye!D143<>\"\",Rallye!D143<>\"Section\"),($Q48-M$10),)","v":"00:00:00"},{"$f":"IF(AND(Rallye!D143<>\"\",Rallye!D143<>\"Section\"),($Q48-N$10),)","v":"00:00:00"},{"$f":"IF(AND(Rallye!D143<>\"\",Rallye!D143<>\"Section\"),($Q48-O$10),)","v":"00:00:00"},{"$f":"Rallye!F142","v":"00:00:00"},{"$f":"IF(P48>0,IF(OR(Rallye!D143<>\"\",Rallye!D143<>\"Section\"),Q47+P48,),Q47)","v":"15:28:00"},{"$f":"IF(Q48>0,IF(AND(Rallye!D143<>\"\",Rallye!D143<>\"Section\"),Q48+T_Etp2_VHC+T_inf_Mod,),0)","v":"00:00:00"},{"$f":"IF(Q48>0,IF(AND(Rallye!D143<>\"\",Rallye!D143<>\"Section\"),R48+T_0_Mod,),0)","v":"00:00:00"},{"$f":"IF(P48>0,IF(AND(Rallye!D143<>\"\",Rallye!D143<>\"Section\"),T47+P48,),T47)","v":"15:47:00"},{"$f":"IF(AND(Rallye!D143<>\"\",Rallye!D143<>\"Section\"),T48+$U$10,)","v":"00:00:00"},{"$f":"IF(AND(Rallye!D143<>\"\",Rallye!D143<>\"Section\"),U48+$V$10,)","v":"00:00:00"}]
[null,{"$f":"Rallye!B144","v":0},{"$f":"Rallye!C144","v":0},{"$f":"Rallye!D144","v":0},{"$f":"IF(AND(Rallye!D144<>\"\",Rallye!D144<>\"Section\"),($Q49-E$10),)","v":"00:00:00"},{"$f":"IF(AND(Rallye!D144<>\"\",Rallye!D144<>\"Section\"),($Q49-F$10),)","v":"00:00:00"},{"$f":"IF(AND(Rallye!D144<>\"\",Rallye!D144<>\"Section\"),($Q49-G$10),)","v":"00:00:00"},{"$f":"IF(AND(Rallye!D144<>\"\",Rallye!D144<>\"Section\"),($Q49-H$10),)","v":"00:00:00"},{"$f":"IF(AND(Rallye!D144<>\"\",Rallye!D144<>\"Section\"),($Q49-I$10),)","v":"00:00:00"},{"$f":"IF(AND(Rallye!D144<>\"\",Rallye!D144<>\"Section\"),($Q49-J$10),)","v":"00:00:00"},{"$f":"IF(AND(Rallye!D144<>\"\",Rallye!D144<>\"Section\"),($Q49-K$10),)","v":"00:00:00"},{"$f":"IF(AND(Rallye!D144<>\"\",Rallye!D144<>\"Section\"),($Q49-L$10),)","v":"00:00:00"},{"$f":"IF(AND(Rallye!D144<>\"\",Rallye!D144<>\"Section\"),($Q49-M$10),)","v":"00:00:00"},{"$f":"IF(AND(Rallye!D144<>\"\",Rallye!D144<>\"Section\"),($Q49-N$10),)","v":"00:00:00"},{"$f":"IF(AND(Rallye!D144<>\"\",Rallye!D144<>\"Section\"),($Q49-O$10),)","v":"00:00:00"},{"$f":"Rallye!F143","v":"00:00:00"},{"$f":"IF(P49>0,IF(OR(Rallye!D144<>\"\",Rallye!D144<>\"Section\"),Q48+P49,),Q48)","v":"15:28:00"},{"$f":"IF(Q49>0,IF(AND(Rallye!D144<>\"\",Rallye!D144<>\"Section\"),Q49+T_Etp2_VHC+T_inf_Mod,),0)","v":"00:00:00"},{"$f":"IF(Q49>0,IF(AND(Rallye!D144<>\"\",Rallye!D144<>\"Section\"),R49+T_0_Mod,),0)","v":"00:00:00"},{"$f":"IF(P49>0,IF(AND(Rallye!D144<>\"\",Rallye!D144<>\"Section\"),T48+P49,),T48)","v":"15:47:00"},{"$f":"IF(AND(Rallye!D144<>\"\",Rallye!D144<>\"Section\"),T49+$U$10,)","v":"00:00:00"},{"$f":"IF(AND(Rallye!D144<>\"\",Rallye!D144<>\"Section\"),U49+$V$10,)","v":"00:00:00"}]
[null,{"$f":"Rallye!B145","v":0},{"$f":"Rallye!C145","v":0},{"$f":"Rallye!D145","v":0},{"$f":"IF(AND(Rallye!D145<>\"\",Rallye!D145<>\"Section\"),($Q50-E$10),)","v":"00:00:00"},{"$f":"IF(AND(Rallye!D145<>\"\",Rallye!D145<>\"Section\"),($Q50-F$10),)","v":"00:00:00"},{"$f":"IF(AND(Rallye!D145<>\"\",Rallye!D145<>\"Section\"),($Q50-G$10),)","v":"00:00:00"},{"$f":"IF(AND(Rallye!D145<>\"\",Rallye!D145<>\"Section\"),($Q50-H$10),)","v":"00:00:00"},{"$f":"IF(AND(Rallye!D145<>\"\",Rallye!D145<>\"Section\"),($Q50-I$10),)","v":"00:00:00"},{"$f":"IF(AND(Rallye!D145<>\"\",Rallye!D145<>\"Section\"),($Q50-J$10),)","v":"00:00:00"},{"$f":"IF(AND(Rallye!D145<>\"\",Rallye!D145<>\"Section\"),($Q50-K$10),)","v":"00:00:00"},{"$f":"IF(AND(Rallye!D145<>\"\",Rallye!D145<>\"Section\"),($Q50-L$10),)","v":"00:00:00"},{"$f":"IF(AND(Rallye!D145<>\"\",Rallye!D145<>\"Section\"),($Q50-M$10),)","v":"00:00:00"},{"$f":"IF(AND(Rallye!D145<>\"\",Rallye!D145<>\"Section\"),($Q50-N$10),)","v":"00:00:00"},{"$f":"IF(AND(Rallye!D145<>\"\",Rallye!D145<>\"Section\"),($Q50-O$10),)","v":"00:00:00"},{"$f":"Rallye!F144","v":"00:00:00"},{"$f":"IF(P50>0,IF(OR(Rallye!D145<>\"\",Rallye!D145<>\"Section\"),Q49+P50,),Q49)","v":"15:28:00"},{"$f":"IF(Q50>0,IF(AND(Rallye!D145<>\"\",Rallye!D145<>\"Section\"),Q50+T_Etp2_VHC+T_inf_Mod,),0)","v":"00:00:00"},{"$f":"IF(Q50>0,IF(AND(Rallye!D145<>\"\",Rallye!D145<>\"Section\"),R50+T_0_Mod,),0)","v":"00:00:00"},{"$f":"IF(P50>0,IF(AND(Rallye!D145<>\"\",Rallye!D145<>\"Section\"),T49+P50,),T49)","v":"15:47:00"},{"$f":"IF(AND(Rallye!D145<>\"\",Rallye!D145<>\"Section\"),T50+$U$10,)","v":"00:00:00"},{"$f":"IF(AND(Rallye!D145<>\"\",Rallye!D145<>\"Section\"),U50+$V$10,)","v":"00:00:00"}]
[null,{"$f":"Rallye!B146","v":0},{"$f":"Rallye!C146","v":0},{"$f":"Rallye!D146","v":0},{"$f":"IF(AND(Rallye!D146<>\"\",Rallye!D146<>\"Section\"),($Q51-E$10),)","v":"00:00:00"},{"$f":"IF(AND(Rallye!D146<>\"\",Rallye!D146<>\"Section\"),($Q51-F$10),)","v":"00:00:00"},{"$f":"IF(AND(Rallye!D146<>\"\",Rallye!D146<>\"Section\"),($Q51-G$10),)","v":"00:00:00"},{"$f":"IF(AND(Rallye!D146<>\"\",Rallye!D146<>\"Section\"),($Q51-H$10),)","v":"00:00:00"},{"$f":"IF(AND(Rallye!D146<>\"\",Rallye!D146<>\"Section\"),($Q51-I$10),)","v":"00:00:00"},{"$f":"IF(AND(Rallye!D146<>\"\",Rallye!D146<>\"Section\"),($Q51-J$10),)","v":"00:00:00"},{"$f":"IF(AND(Rallye!D146<>\"\",Rallye!D146<>\"Section\"),($Q51-K$10),)","v":"00:00:00"},{"$f":"IF(AND(Rallye!D146<>\"\",Rallye!D146<>\"Section\"),($Q51-L$10),)","v":"00:00:00"},{"$f":"IF(AND(Rallye!D146<>\"\",Rallye!D146<>\"Section\"),($Q51-M$10),)","v":"00:00:00"},{"$f":"IF(AND(Rallye!D146<>\"\",Rallye!D146<>\"Section\"),($Q51-N$10),)","v":"00:00:00"},{"$f":"IF(AND(Rallye!D146<>\"\",Rallye!D146<>\"Section\"),($Q51-O$10),)","v":"00:00:00"},{"$f":"Rallye!F145","v":"00:00:00"},{"$f":"IF(P51>0,IF(OR(Rallye!D146<>\"\",Rallye!D146<>\"Section\"),Q50+P51,),Q50)","v":"15:28:00"},{"$f":"IF(Q51>0,IF(AND(Rallye!D146<>\"\",Rallye!D146<>\"Section\"),Q51+T_Etp2_VHC+T_inf_Mod,),0)","v":"00:00:00"},{"$f":"IF(Q51>0,IF(AND(Rallye!D146<>\"\",Rallye!D146<>\"Section\"),R51+T_0_Mod,),0)","v":"00:00:00"},{"$f":"IF(P51>0,IF(AND(Rallye!D146<>\"\",Rallye!D146<>\"Section\"),T50+P51,),T50)","v":"15:47:00"},{"$f":"IF(AND(Rallye!D146<>\"\",Rallye!D146<>\"Section\"),T51+$U$10,)","v":"00:00:00"},{"$f":"IF(AND(Rallye!D146<>\"\",Rallye!D146<>\"Section\"),U51+$V$10,)","v":"00:00:00"}]
[null,{"$f":"Rallye!B147","v":0},{"$f":"Rallye!C147","v":0},{"$f":"Rallye!D147","v":0},{"$f":"IF(AND(Rallye!D147<>\"\",Rallye!D147<>\"Section\"),($Q52-E$10),)","v":"00:00:00"},{"$f":"IF(AND(Rallye!D147<>\"\",Rallye!D147<>\"Section\"),($Q52-F$10),)","v":"00:00:00"},{"$f":"IF(AND(Rallye!D147<>\"\",Rallye!D147<>\"Section\"),($Q52-G$10),)","v":"00:00:00"},{"$f":"IF(AND(Rallye!D147<>\"\",Rallye!D147<>\"Section\"),($Q52-H$10),)","v":"00:00:00"},{"$f":"IF(AND(Rallye!D147<>\"\",Rallye!D147<>\"Section\"),($Q52-I$10),)","v":"00:00:00"},{"$f":"IF(AND(Rallye!D147<>\"\",Rallye!D147<>\"Section\"),($Q52-J$10),)","v":"00:00:00"},{"$f":"IF(AND(Rallye!D147<>\"\",Rallye!D147<>\"Section\"),($Q52-K$10),)","v":"00:00:00"},{"$f":"IF(AND(Rallye!D147<>\"\",Rallye!D147<>\"Section\"),($Q52-L$10),)","v":"00:00:00"},{"$f":"IF(AND(Rallye!D147<>\"\",Rallye!D147<>\"Section\"),($Q52-M$10),)","v":"00:00:00"},{"$f":"IF(AND(Rallye!D147<>\"\",Rallye!D147<>\"Section\"),($Q52-N$10),)","v":"00:00:00"},{"$f":"IF(AND(Rallye!D147<>\"\",Rallye!D147<>\"Section\"),($Q52-O$10),)","v":"00:00:00"},{"$f":"Rallye!F146","v":"00:00:00"},{"$f":"IF(P52>0,IF(OR(Rallye!D147<>\"\",Rallye!D147<>\"Section\"),Q51+P52,),Q51)","v":"15:28:00"},{"$f":"IF(Q52>0,IF(AND(Rallye!D147<>\"\",Rallye!D147<>\"Section\"),Q52+T_Etp2_VHC+T_inf_Mod,),0)","v":"00:00:00"},{"$f":"IF(Q52>0,IF(AND(Rallye!D147<>\"\",Rallye!D147<>\"Section\"),R52+T_0_Mod,),0)","v":"00:00:00"},{"$f":"IF(P52>0,IF(AND(Rallye!D147<>\"\",Rallye!D147<>\"Section\"),T51+P52,),T51)","v":"15:47:00"},{"$f":"IF(AND(Rallye!D147<>\"\",Rallye!D147<>\"Section\"),T52+$U$10,)","v":"00:00:00"},{"$f":"IF(AND(Rallye!D147<>\"\",Rallye!D147<>\"Section\"),U52+$V$10,)","v":"00:00:00"}]
[null,{"$f":"Rallye!B148","v":0},{"$f":"Rallye!C148","v":0},{"$f":"Rallye!D148","v":0},{"$f":"IF(AND(Rallye!D148<>\"\",Rallye!D148<>\"Section\"),($Q53-E$10),)","v":"00:00:00"},{"$f":"IF(AND(Rallye!D148<>\"\",Rallye!D148<>\"Section\"),($Q53-F$10),)","v":"00:00:00"},{"$f":"IF(AND(Rallye!D148<>\"\",Rallye!D148<>\"Section\"),($Q53-G$10),)","v":"00:00:00"},{"$f":"IF(AND(Rallye!D148<>\"\",Rallye!D148<>\"Section\"),($Q53-H$10),)","v":"00:00:00"},{"$f":"IF(AND(Rallye!D148<>\"\",Rallye!D148<>\"Section\"),($Q53-I$10),)","v":"00:00:00"},{"$f":"IF(AND(Rallye!D148<>\"\",Rallye!D148<>\"Section\"),($Q53-J$10),)","v":"00:00:00"},{"$f":"IF(AND(Rallye!D148<>\"\",Rallye!D148<>\"Section\"),($Q53-K$10),)","v":"00:00:00"},{"$f":"IF(AND(Rallye!D148<>\"\",Rallye!D148<>\"Section\"),($Q53-L$10),)","v":"00:00:00"},{"$f":"IF(AND(Rallye!D148<>\"\",Rallye!D148<>\"Section\"),($Q53-M$10),)","v":"00:00:00"},{"$f":"IF(AND(Rallye!D148<>\"\",Rallye!D148<>\"Section\"),($Q53-N$10),)","v":"00:00:00"},{"$f":"IF(AND(Rallye!D148<>\"\",Rallye!D148<>\"Section\"),($Q53-O$10),)","v":"00:00:00"},{"$f":"Rallye!F147","v":"00:00:00"},{"$f":"IF(P53>0,IF(OR(Rallye!D148<>\"\",Rallye!D148<>\"Section\"),Q52+P53,),Q52)","v":"15:28:00"},{"$f":"IF(Q53>0,IF(AND(Rallye!D148<>\"\",Rallye!D148<>\"Section\"),Q53+T_Etp2_VHC+T_inf_Mod,),0)","v":"00:00:00"},{"$f":"IF(Q53>0,IF(AND(Rallye!D148<>\"\",Rallye!D148<>\"Section\"),R53+T_0_Mod,),0)","v":"00:00:00"},{"$f":"IF(P53>0,IF(AND(Rallye!D148<>\"\",Rallye!D148<>\"Section\"),T52+P53,),T52)","v":"15:47:00"},{"$f":"IF(AND(Rallye!D148<>\"\",Rallye!D148<>\"Section\"),T53+$U$10,)","v":"00:00:00"},{"$f":"IF(AND(Rallye!D148<>\"\",Rallye!D148<>\"Section\"),U53+$V$10,)","v":"00:00:00"}]
[null,{"$f":"Rallye!B149","v":0},{"$f":"Rallye!C149","v":0},{"$f":"Rallye!D149","v":0},{"$f":"IF(AND(Rallye!D149<>\"\",Rallye!D149<>\"Section\"),($Q54-E$10),)","v":"00:00:00"},{"$f":"IF(AND(Rallye!D149<>\"\",Rallye!D149<>\"Section\"),($Q54-F$10),)","v":"00:00:00"},{"$f":"IF(AND(Rallye!D149<>\"\",Rallye!D149<>\"Section\"),($Q54-G$10),)","v":"00:00:00"},{"$f":"IF(AND(Rallye!D149<>\"\",Rallye!D149<>\"Section\"),($Q54-H$10),)","v":"00:00:00"},{"$f":"IF(AND(Rallye!D149<>\"\",Rallye!D149<>\"Section\"),($Q54-I$10),)","v":"00:00:00"},{"$f":"IF(AND(Rallye!D149<>\"\",Rallye!D149<>\"Section\"),($Q54-J$10),)","v":"00:00:00"},{"$f":"IF(AND(Rallye!D149<>\"\",Rallye!D149<>\"Section\"),($Q54-K$10),)","v":"00:00:00"},{"$f":"IF(AND(Rallye!D149<>\"\",Rallye!D149<>\"Section\"),($Q54-L$10),)","v":"00:00:00"},{"$f":"IF(AND(Rallye!D149<>\"\",Rallye!D149<>\"Section\"),($Q54-M$10),)","v":"00:00:00"},{"$f":"IF(AND(Rallye!D149<>\"\",Rallye!D149<>\"Section\"),($Q54-N$10),)","v":"00:00:00"},{"$f":"IF(AND(Rallye!D149<>\"\",Rallye!D149<>\"Section\"),($Q54-O$10),)","v":"00:00:00"},{"$f":"Rallye!F148","v":"00:00:00"},{"$f":"IF(P54>0,IF(OR(Rallye!D149<>\"\",Rallye!D149<>\"Section\"),Q53+P54,),Q53)","v":"15:28:00"},{"$f":"IF(Q54>0,IF(AND(Rallye!D149<>\"\",Rallye!D149<>\"Section\"),Q54+T_Etp2_VHC+T_inf_Mod,),0)","v":"00:00:00"},{"$f":"IF(Q54>0,IF(AND(Rallye!D149<>\"\",Rallye!D149<>\"Section\"),R54+T_0_Mod,),0)","v":"00:00:00"},{"$f":"IF(P54>0,IF(AND(Rallye!D149<>\"\",Rallye!D149<>\"Section\"),T53+P54,),T53)","v":"15:47:00"},{"$f":"IF(AND(Rallye!D149<>\"\",Rallye!D149<>\"Section\"),T54+$U$10,)","v":"00:00:00"},{"$f":"IF(AND(Rallye!D149<>\"\",Rallye!D149<>\"Section\"),U54+$V$10,)","v":"00:00:00"}]
[null,{"$f":"Rallye!B150","v":0},{"$f":"Rallye!C150","v":0},{"$f":"Rallye!D150","v":0},{"$f":"IF(AND(Rallye!D150<>\"\",Rallye!D150<>\"Section\"),($Q55-E$10),)","v":"00:00:00"},{"$f":"IF(AND(Rallye!D150<>\"\",Rallye!D150<>\"Section\"),($Q55-F$10),)","v":"00:00:00"},{"$f":"IF(AND(Rallye!D150<>\"\",Rallye!D150<>\"Section\"),($Q55-G$10),)","v":"00:00:00"},{"$f":"IF(AND(Rallye!D150<>\"\",Rallye!D150<>\"Section\"),($Q55-H$10),)","v":"00:00:00"},{"$f":"IF(AND(Rallye!D150<>\"\",Rallye!D150<>\"Section\"),($Q55-I$10),)","v":"00:00:00"},{"$f":"IF(AND(Rallye!D150<>\"\",Rallye!D150<>\"Section\"),($Q55-J$10),)","v":"00:00:00"},{"$f":"IF(AND(Rallye!D150<>\"\",Rallye!D150<>\"Section\"),($Q55-K$10),)","v":"00:00:00"},{"$f":"IF(AND(Rallye!D150<>\"\",Rallye!D150<>\"Section\"),($Q55-L$10),)","v":"00:00:00"},{"$f":"IF(AND(Rallye!D150<>\"\",Rallye!D150<>\"Section\"),($Q55-M$10),)","v":"00:00:00"},{"$f":"IF(AND(Rallye!D150<>\"\",Rallye!D150<>\"Section\"),($Q55-N$10),)","v":"00:00:00"},{"$f":"IF(AND(Rallye!D150<>\"\",Rallye!D150<>\"Section\"),($Q55-O$10),)","v":"00:00:00"},{"$f":"Rallye!F149","v":"00:00:00"},{"$f":"IF(P55>0,IF(OR(Rallye!D150<>\"\",Rallye!D150<>\"Section\"),Q54+P55,),Q54)","v":"15:28:00"},{"$f":"IF(Q55>0,IF(AND(Rallye!D150<>\"\",Rallye!D150<>\"Section\"),Q55+T_Etp2_VHC+T_inf_Mod,),0)","v":"00:00:00"},{"$f":"IF(Q55>0,IF(AND(Rallye!D150<>\"\",Rallye!D150<>\"Section\"),R55+T_0_Mod,),0)","v":"00:00:00"},{"$f":"IF(P55>0,IF(AND(Rallye!D150<>\"\",Rallye!D150<>\"Section\"),T54+P55,),T54)","v":"15:47:00"},{"$f":"IF(AND(Rallye!D150<>\"\",Rallye!D150<>\"Section\"),T55+$U$10,)","v":"00:00:00"},{"$f":"IF(AND(Rallye!D150<>\"\",Rallye!D150<>\"Section\"),U55+$V$10,)","v":"00:00:00"}]
[null,{"$f":"Rallye!B151","v":0},{"$f":"Rallye!C151","v":0},{"$f":"Rallye!D151","v":0},{"$f":"IF(AND(Rallye!D151<>\"\",Rallye!D151<>\"Section\"),($Q56-E$10),)","v":"00:00:00"},{"$f":"IF(AND(Rallye!D151<>\"\",Rallye!D151<>\"Section\"),($Q56-F$10),)","v":"00:00:00"},{"$f":"IF(AND(Rallye!D151<>\"\",Rallye!D151<>\"Section\"),($Q56-G$10),)","v":"00:00:00"},{"$f":"IF(AND(Rallye!D151<>\"\",Rallye!D151<>\"Section\"),($Q56-H$10),)","v":"00:00:00"},{"$f":"IF(AND(Rallye!D151<>\"\",Rallye!D151<>\"Section\"),($Q56-I$10),)","v":"00:00:00"},{"$f":"IF(AND(Rallye!D151<>\"\",Rallye!D151<>\"Section\"),($Q56-J$10),)","v":"00:00:00"},{"$f":"IF(AND(Rallye!D151<>\"\",Rallye!D151<>\"Section\"),($Q56-K$10),)","v":"00:00:00"},{"$f":"IF(AND(Rallye!D151<>\"\",Rallye!D151<>\"Section\"),($Q56-L$10),)","v":"00:00:00"},{"$f":"IF(AND(Rallye!D151<>\"\",Rallye!D151<>\"Section\"),($Q56-M$10),)","v":"00:00:00"},{"$f":"IF(AND(Rallye!D151<>\"\",Rallye!D151<>\"Section\"),($Q56-N$10),)","v":"00:00:00"},{"$f":"IF(AND(Rallye!D151<>\"\",Rallye!D151<>\"Section\"),($Q56-O$10),)","v":"00:00:00"},{"$f":"Rallye!F150","v":"00:00:00"},{"$f":"IF(P56>0,IF(OR(Rallye!D151<>\"\",Rallye!D151<>\"Section\"),Q55+P56,),Q55)","v":"15:28:00"},{"$f":"IF(Q56>0,IF(AND(Rallye!D151<>\"\",Rallye!D151<>\"Section\"),Q56+T_Etp2_VHC+T_inf_Mod,),0)","v":"00:00:00"},{"$f":"IF(Q56>0,IF(AND(Rallye!D151<>\"\",Rallye!D151<>\"Section\"),R56+T_0_Mod,),0)","v":"00:00:00"},{"$f":"IF(P56>0,IF(AND(Rallye!D151<>\"\",Rallye!D151<>\"Section\"),T55+P56,),T55)","v":"15:47:00"},{"$f":"IF(AND(Rallye!D151<>\"\",Rallye!D151<>\"Section\"),T56+$U$10,)","v":"00:00:00"},{"$f":"IF(AND(Rallye!D151<>\"\",Rallye!D151<>\"Section\"),U56+$V$10,)","v":"00:00:00"}]
[null,{"$f":"Rallye!B152","v":0},{"$f":"Rallye!C152","v":0},{"$f":"Rallye!D152","v":0},{"$f":"IF(AND(Rallye!D152<>\"\",Rallye!D152<>\"Section\"),($Q57-E$10),)","v":"00:00:00"},{"$f":"IF(AND(Rallye!D152<>\"\",Rallye!D152<>\"Section\"),($Q57-F$10),)","v":"00:00:00"},{"$f":"IF(AND(Rallye!D152<>\"\",Rallye!D152<>\"Section\"),($Q57-G$10),)","v":"00:00:00"},{"$f":"IF(AND(Rallye!D152<>\"\",Rallye!D152<>\"Section\"),($Q57-H$10),)","v":"00:00:00"},{"$f":"IF(AND(Rallye!D152<>\"\",Rallye!D152<>\"Section\"),($Q57-I$10),)","v":"00:00:00"},{"$f":"IF(AND(Rallye!D152<>\"\",Rallye!D152<>\"Section\"),($Q57-J$10),)","v":"00:00:00"},{"$f":"IF(AND(Rallye!D152<>\"\",Rallye!D152<>\"Section\"),($Q57-K$10),)","v":"00:00:00"},{"$f":"IF(AND(Rallye!D152<>\"\",Rallye!D152<>\"Section\"),($Q57-L$10),)","v":"00:00:00"},{"$f":"IF(AND(Rallye!D152<>\"\",Rallye!D152<>\"Section\"),($Q57-M$10),)","v":"00:00:00"},{"$f":"IF(AND(Rallye!D152<>\"\",Rallye!D152<>\"Section\"),($Q57-N$10),)","v":"00:00:00"},{"$f":"IF(AND(Rallye!D152<>\"\",Rallye!D152<>\"Section\"),($Q57-O$10),)","v":"00:00:00"},{"$f":"Rallye!F151","v":"00:00:00"},{"$f":"IF(P57>0,IF(OR(Rallye!D152<>\"\",Rallye!D152<>\"Section\"),Q56+P57,),Q56)","v":"15:28:00"},{"$f":"IF(Q57>0,IF(AND(Rallye!D152<>\"\",Rallye!D152<>\"Section\"),Q57+T_Etp2_VHC+T_inf_Mod,),0)","v":"00:00:00"},{"$f":"IF(Q57>0,IF(AND(Rallye!D152<>\"\",Rallye!D152<>\"Section\"),R57+T_0_Mod,),0)","v":"00:00:00"},{"$f":"IF(P57>0,IF(AND(Rallye!D152<>\"\",Rallye!D152<>\"Section\"),T56+P57,),T56)","v":"15:47:00"},{"$f":"IF(AND(Rallye!D152<>\"\",Rallye!D152<>\"Section\"),T57+$U$10,)","v":"00:00:00"},{"$f":"IF(AND(Rallye!D152<>\"\",Rallye!D152<>\"Section\"),U57+$V$10,)","v":"00:00:00"}]
[null,{"$f":"Rallye!B153","v":0},{"$f":"Rallye!C153","v":0},{"$f":"Rallye!D153","v":0},{"$f":"IF(AND(Rallye!D153<>\"\",Rallye!D153<>\"Section\"),($Q58-E$10),)","v":"00:00:00"},{"$f":"IF(AND(Rallye!D153<>\"\",Rallye!D153<>\"Section\"),($Q58-F$10),)","v":"00:00:00"},{"$f":"IF(AND(Rallye!D153<>\"\",Rallye!D153<>\"Section\"),($Q58-G$10),)","v":"00:00:00"},{"$f":"IF(AND(Rallye!D153<>\"\",Rallye!D153<>\"Section\"),($Q58-H$10),)","v":"00:00:00"},{"$f":"IF(AND(Rallye!D153<>\"\",Rallye!D153<>\"Section\"),($Q58-I$10),)","v":"00:00:00"},{"$f":"IF(AND(Rallye!D153<>\"\",Rallye!D153<>\"Section\"),($Q58-J$10),)","v":"00:00:00"},{"$f":"IF(AND(Rallye!D153<>\"\",Rallye!D153<>\"Section\"),($Q58-K$10),)","v":"00:00:00"},{"$f":"IF(AND(Rallye!D153<>\"\",Rallye!D153<>\"Section\"),($Q58-L$10),)","v":"00:00:00"},{"$f":"IF(AND(Rallye!D153<>\"\",Rallye!D153<>\"Section\"),($Q58-M$10),)","v":"00:00:00"},{"$f":"IF(AND(Rallye!D153<>\"\",Rallye!D153<>\"Section\"),($Q58-N$10),)","v":"00:00:00"},{"$f":"IF(AND(Rallye!D153<>\"\",Rallye!D153<>\"Section\"),($Q58-O$10),)","v":"00:00:00"},{"$f":"Rallye!F152","v":"00:00:00"},{"$f":"IF(P58>0,IF(OR(Rallye!D153<>\"\",Rallye!D153<>\"Section\"),Q57+P58,),Q57)","v":"15:28:00"},{"$f":"IF(Q58>0,IF(AND(Rallye!D153<>\"\",Rallye!D153<>\"Section\"),Q58+T_Etp2_VHC+T_inf_Mod,),0)","v":"00:00:00"},{"$f":"IF(Q58>0,IF(AND(Rallye!D153<>\"\",Rallye!D153<>\"Section\"),R58+T_0_Mod,),0)","v":"00:00:00"},{"$f":"IF(P58>0,IF(AND(Rallye!D153<>\"\",Rallye!D153<>\"Section\"),T57+P58,),T57)","v":"15:47:00"},{"$f":"IF(AND(Rallye!D153<>\"\",Rallye!D153<>\"Section\"),T58+$U$10,)","v":"00:00:00"},{"$f":"IF(AND(Rallye!D153<>\"\",Rallye!D153<>\"Section\"),U58+$V$10,)","v":"00:00:00"}]

{"sheet":"Horaires Etap3","index":8,"n_rows":58,"n_cols":19,"rows_kept":58,"cut":false,"hidden":false,"merged":[[6,1,6,6],[58,12,58,15],[3,1,3,6],[3,15,3,17],[4,7,5,9],[4,10,5,14],[4,15,4,17],[4,1,4,6],[5,1,5,6],[6,7,6,14]]}
[]
[]
[]
[null,{"$f":"Rallye!E10","v":"16ème Rallye du PAYS de St-YRIEX"},null,null,null,null,null,null,null,null,null,null,null,null,null,"Durée Prévue Etape = ",null,null,{"$f":"((SUM(P10:P58)+(TIME(0,ABS(S9+S6+Q6+(Q7*2)-1),0))))","v":"00:45:00"}]
[null,{"$f":"Rallye!E11","v":"3ème Rallye VHC du PAYS de St-YRIEX"},null,null,null,null,null,"HORAIRES",null,null,{"$f":"Rallye!E156","v":0},null,null,null,null,"Réintégration  = ",null,null,{"$f":"Etap2!H65","v":24}]
[null,{"$f":"Rallye!E19","v":"ASA Saint Martial"},null,null,null,null,null,null,null,null,null,null,null,null,null,"En Course =",{"$f":"Etap3!G62","v":45},"Tps ajouté =",0]
[null,{"$f":"Rallye!E14","v":"LRSA Nouvelle Aquitaine Sud"},null,null,null,null,null,{"$f":"Rallye!E158","v":"00:00:00"},null,null,null,null,null,null,null,"nb 2' =",0,"Durée E.S. =",{"$f":"TIME(0,ABS((Q6-1)+(Q7)),0)","v":"00:44:00"}]
[null,null,null,null,"Orga","Sécurité","TRICO","Promo 1","Promo 2","Promo 3","Observ","Info-Sono","000","00","0 A","TEMPS","1ère Voiture","Dern Voiture","BALAI"]
[null,null,null,null,-100,-100,-90,-75,-60,-40,-35,-30,-25,-20,-10,"Imparti","Modernes","Théorique",1]
[null,{"$f":"Rallye!B162","v":0},{"$f":"Rallye!C162","v":"5ème"},{"$f":"Rallye!D162","v":"Section"},{"$f":"TIME(0,ABS(E9),0)","v":"01:40:00"},"01:40:00","01:30:00","01:15:00","01:00:00","00:40:00","00:35:00","00:30:00","00:25:00","00:20:00","00:10:00",null,null,{"$f":"TIME(0,ABS((Q6-1)+(Q7)+(S6)),0)","v":"00:44:00"},{"$f":"TIME(0,ABS(S9),0)","v":"00:01:00"}]
[null,{"$f":"Rallye!B163","v":0},{"$f":"Rallye!C163","v":0},{"$f":"Rallye!D163","v":0},{"$f":"$Q11-E$10","v":-6.9444444444444448E-2},{"$f":"$Q11-F$10","v":-6.9444444444444448E-2},{"$f":"$Q11-G$10","v":-6.25E-2},{"$f":"$Q11-H$10","v":-5.2083333333333336E-2},{"$f":"IF(AND(H11<>\"\",Q11>0),($Q11-I$10),)","v":"00:00:00"},{"$f":"IF(AND(H11<>\"\",Q11>0),($Q11-J$10),)","v":"00:00:00"},{"$f":"IF(AND(J11<>\"\",Q11>0),($Q11-K$10),)","v":"00:00:00"},{"$f":"IF(AND(J11<>\"\",Q11>0),($Q11-L$10),)","v":"00:00:00"},{"$f":"IF(AND(K11<>\"\",Q11>0),($Q11-M$10),)","v":"00:00:00"},{"$f":"IF(AND(M11<>\"\",Q11>0),($Q11-N$10),)","v":"00:00:00"},{"$f":"IF(AND(N11<>\"\",Q11>0),($Q11-O$10),)","v":"00:00:00"},{"$f":"Rallye!F105","v":"00:00:00"},{"$f":"Rallye!G158","v":"00:00:00"},{"$f":"IF(D11<>\"\",Q11+$R$10,)","v":"00:44:00"},{"$f":"IF(D11>0,R11+$S$10,)","v":"00:00:00"}]
[null,{"$f":"Rallye!B164","v":0},{"$f":"Rallye!C164","v":0},{"$f":"Rallye!D164","v":0},{"$f":"IF(AND(Rallye!D164<>\"\",Rallye!D164<>\"Section\"),($Q12-E$10),)","v":"00:00:00"},{"$f":"IF(AND(Rallye!D164<>\"\",Rallye!D164<>\"Section\"),($Q12-F$10),)","v":"00:00:00"},{"$f":"IF(AND(Rallye!D164<>\"\",Rallye!D164<>\"Section\"),($Q12-G$10),)","v":"00:00:00"},{"$f":"IF(AND(Rallye!D164<>\"\",Rallye!D164<>\"Section\"),($Q12-H$10),)","v":"00:00:00"},{"$f":"IF(AND(Rallye!D164<>\"\",Rallye!D164<>\"Section\"),($Q12-I$10),)","v":"00:00:00"},{"$f":"IF(AND(Rallye!D164<>\"\",Rallye!D164<>\"Section\"),($Q12-J$10),)","v":"00:00:00"},{"$f":"IF(AND(Rallye!D164<>\"\",Rallye!D164<>\"Section\"),($Q12-K$10),)","v":"00:00:00"},{"$f":"IF(AND(Rallye!D164<>\"\",Rallye!D164<>\"Section\"),($Q12-L$10),)","v":"00:00:00"},{"$f":"IF(AND(Rallye!D164<>\"\",Rallye!D164<>\"Section\"),($Q12-M$10),)","v":"00:00:00"},{"$f":"IF(AND(Rallye!D164<>\"\",Rallye!D164<>\"Section\"),($Q12-N$10),)","v":"00:00:00"},{"$f":"IF(AND(Rallye!D164<>\"\",Rallye!D164<>\"Section\"),($Q12-O$10),)","v":"00:00:00"},{"$f":"Rallye!F163","v":"00:00:00"},{"$f":"IF(P12>0,IF(OR(Rallye!D164<>\"\",Rallye!D164<>\"Section\"),Q11+P12,),Q11)","v":"00:00:00"},{"$f":"IF(AND(Rallye!D164<>\"\",Rallye!D164<>\"Section\"),Q12+$R$10,)","v":"00:00:00"},{"$f":"IF(AND(Rallye!D164<>\"\",Rallye!D164<>\"Section\"),R12+$S$10,)","v":"00:00:00"}]
[null,{"$f":"Rallye!B165","v":0},{"$f":"Rallye!C165","v":0},{"$f":"Rallye!D165","v":0},{"$f":"IF(AND(Rallye!D165<>\"\",Rallye!D165<>\"Section\"),($Q13-E$10),)","v":"00:00:00"},{"$f":"IF(AND(Rallye!D165<>\"\",Rallye!D165<>\"Section\"),($Q13-F$10),)","v":"00:00:00"},{"$f":"IF(AND(Rallye!D165<>\"\",Rallye!D165<>\"Section\"),($Q13-G$10),)","v":"00:00:00"},{"$f":"IF(AND(Rallye!D165<>\"\",Rallye!D165<>\"Section\"),($Q13-H$10),)","v":"00:00:00"},{"$f":"IF(AND(Rallye!D165<>\"\",Rallye!D165<>\"Section\"),($Q13-I$10),)","v":"00:00:00"},{"$f":"IF(AND(Rallye!D165<>\"\",Rallye!D165<>\"Section\"),($Q13-J$10),)","v":"00:00:00"},{"$f":"IF(AND(Rallye!D165<>\"\",Rallye!D165<>\"Section\"),($Q13-K$10),)","v":"00:00:00"},{"$f":"IF(AND(Rallye!D165<>\"\",Rallye!D165<>\"Section\"),($Q13-L$10),)","v":"00:00:00"},{"$f":"IF(AND(Rallye!D165<>\"\",Rallye!D165<>\"Section\"),($Q13-M$10),)","v":"00:00:00"},{"$f":"IF(AND(Rallye!D165<>\"\",Rallye!D165<>\"Section\"),($Q13-N$10),)","v":"00:00:00"},{"$f":"IF(AND(Rallye!D165<>\"\",Rallye!D165<>\"Section\"),($Q13-O$10),)","v":"00:00:00"},{"$f":"Rallye!F164","v":"00:00:00"},{"$f":"IF(P13>0,IF(OR(Rallye!D165<>\"\",Rallye!D165<>\"Section\"),Q12+P13,),Q12)","v":"00:00:00"},{"$f":"IF(AND(Rallye!D165<>\"\",Rallye!D165<>\"Section\"),Q13+$R$10,)","v":"00:00:00"},{"$f":"IF(AND(Rallye!D165<>\"\",Rallye!D165<>\"Section\"),R13+$S$10,)","v":"00:00:00"}]
[null,{"$f":"Rallye!B166","v":0},{"$f":"Rallye!C166","v":0},{"$f":"Rallye!D166","v":0},{"$f":"IF(AND(Rallye!D166<>\"\",Rallye!D166<>\"Section\"),($Q14-E$10),)","v":"00:00:00"},{"$f":"IF(AND(Rallye!D166<>\"\",Rallye!D166<>\"Section\"),($Q14-F$10),)","v":"00:00:00"},{"$f":"IF(AND(Rallye!D166<>\"\",Rallye!D166<>\"Section\"),($Q14-G$10),)","v":"00:00:00"},{"$f":"IF(AND(Rallye!D166<>\"\",Rallye!D166<>\"Section\"),($Q14-H$10),)","v":"00:00:00"},{"$f":"IF(AND(Rallye!D166<>\"\",Rallye!D166<>\"Section\"),($Q14-I$10),)","v":"00:00:00"},{"$f":"IF(AND(Rallye!D166<>\"\",Rallye!D166<>\"Section\"),($Q14-J$10),)","v":"00:00:00"},{"$f":"IF(AND(Rallye!D166<>\"\",Rallye!D166<>\"Section\"),($Q14-K$10),)","v":"00:00:00"},{"$f":"IF(AND(Rallye!D166<>\"\",Rallye!D166<>\"Section\"),($Q14-L$10),)","v":"00:00:00"},{"$f":"IF(AND(Rallye!D166<>\"\",Rallye!D166<>\"Section\"),($Q14-M$10),)","v":"00:00:00"},{"$f":"IF(AND(Rallye!D166<>\"\",Rallye!D166<>\"Section\"),($Q14-N$10),)","v":"00:00:00"},{"$f":"IF(AND(Rallye!D166<>\"\",Rallye!D166<>\"Section\"),($Q14-O$10),)","v":"00:00:00"},{"$f":"Rallye!F165","v":"00:00:00"},{"$f":"IF(P14>0,IF(OR(Rallye!D166<>\"\",Rallye!D166<>\"Section\"),Q13+P14,),Q13)","v":"00:00:00"},{"$f":"IF(AND(Rallye!D166<>\"\",Rallye!D166<>\"Section\"),Q14+$R$10,)","v":"00:00:00"},{"$f":"IF(AND(Rallye!D166<>\"\",Rallye!D166<>\"Section\"),R14+$S$10,)","v":"00:00:00"}]
[null,{"$f":"Rallye!B167","v":0},{"$f":"Rallye!C167","v":0},{"$f":"Rallye!D167","v":0},{"$f":"IF(AND(Rallye!D167<>\"\",Rallye!D167<>\"Section\"),($Q15-E$10),)","v":"00:00:00"},{"$f":"IF(AND(Rallye!D167<>\"\",Rallye!D167<>\"Section\"),($Q15-F$10),)","v":"00:00:00"},{"$f":"IF(AND(Rallye!D167<>\"\",Rallye!D167<>\"Section\"),($Q15-G$10),)","v":"00:00:00"},{"$f":"IF(AND(Rallye!D167<>\"\",Rallye!D167<>\"Section\"),($Q15-H$10),)","v":"00:00:00"},{"$f":"IF(AND(Rallye!D167<>\"\",Rallye!D167<>\"Section\"),($Q15-I$10),)","v":"00:00:00"},{"$f":"IF(AND(Rallye!D167<>\"\",Rallye!D167<>\"Section\"),($Q15-J$10),)","v":"00:00:00"},{"$f":"IF(AND(Rallye!D167<>\"\",Rallye!D167<>\"Section\"),($Q15-K$10),)","v":"00:00:00"},{"$f":"IF(AND(Rallye!D167<>\"\",Rallye!D167<>\"Section\"),($Q15-L$10),)","v":"00:00:00"},{"$f":"IF(AND(Rallye!D167<>\"\",Rallye!D167<>\"Section\"),($Q15-M$10),)","v":"00:00:00"},{"$f":"IF(AND(Rallye!D167<>\"\",Rallye!D167<>\"Section\"),($Q15-N$10),)","v":"00:00:00"},{"$f":"IF(AND(Rallye!D167<>\"\",Rallye!D167<>\"Section\"),($Q15-O$10),)","v":"00:00:00"},{"$f":"Rallye!F166","v":"00:00:00"},{"$f":"IF(P15>0,IF(OR(Rallye!D167<>\"\",Rallye!D167<>\"Section\"),Q14+P15,),Q14)","v":"00:00:00"},{"$f":"IF(AND(Rallye!D167<>\"\",Rallye!D167<>\"Section\"),Q15+$R$10,)","v":"00:00:00"},{"$f":"IF(AND(Rallye!D167<>\"\",Rallye!D167<>\"Section\"),R15+$S$10,)","v":"00:00:00"}]
[null,{"$f":"Rallye!B168","v":0},{"$f":"Rallye!C168","v":0},{"$f":"Rallye!D168","v":0},{"$f":"IF(AND(Rallye!D168<>\"\",Rallye!D168<>\"Section\"),($Q16-E$10),)","v":"00:00:00"},{"$f":"IF(AND(Rallye!D168<>\"\",Rallye!D168<>\"Section\"),($Q16-F$10),)","v":"00:00:00"},{"$f":"IF(AND(Rallye!D168<>\"\",Rallye!D168<>\"Section\"),($Q16-G$10),)","v":"00:00:00"},{"$f":"IF(AND(Rallye!D168<>\"\",Rallye!D168<>\"Section\"),($Q16-H$10),)","v":"00:00:00"},{"$f":"IF(AND(Rallye!D168<>\"\",Rallye!D168<>\"Section\"),($Q16-I$10),)","v":"00:00:00"},{"$f":"IF(AND(Rallye!D168<>\"\",Rallye!D168<>\"Section\"),($Q16-J$10),)","v":"00:00:00"},{"$f":"IF(AND(Rallye!D168<>\"\",Rallye!D168<>\"Section\"),($Q16-K$10),)","v":"00:00:00"},{"$f":"IF(AND(Rallye!D168<>\"\",Rallye!D168<>\"Section\"),($Q16-L$10),)","v":"00:00:00"},{"$f":"IF(AND(Rallye!D168<>\"\",Rallye!D168<>\"Section\"),($Q16-M$10),)","v":"00:00:00"},{"$f":"IF(AND(Rallye!D168<>\"\",Rallye!D168<>\"Section\"),($Q16-N$10),)","v":"00:00:00"},{"$f":"IF(AND(Rallye!D168<>\"\",Rallye!D168<>\"Section\"),($Q16-O$10),)","v":"00:00:00"},{"$f":"Rallye!F167","v":"00:00:00"},{"$f":"IF(P16>0,IF(OR(Rallye!D168<>\"\",Rallye!D168<>\"Section\"),Q15+P16,),Q15)","v":"00:00:00"},{"$f":"IF(AND(Rallye!D168<>\"\",Rallye!D168<>\"Section\"),Q16+$R$10,)","v":"00:00:00"},{"$f":"IF(AND(Rallye!D168<>\"\",Rallye!D168<>\"Section\"),R16+$S$10,)","v":"00:00:00"}]
[null,{"$f":"Rallye!B169","v":0},{"$f":"Rallye!C169","v":0},{"$f":"Rallye!D169","v":0},{"$f":"IF(AND(Rallye!D169<>\"\",Rallye!D169<>\"Section\"),($Q17-E$10),)","v":"00:00:00"},{"$f":"IF(AND(Rallye!D169<>\"\",Rallye!D169<>\"Section\"),($Q17-F$10),)","v":"00:00:00"},{"$f":"IF(AND(Rallye!D169<>\"\",Rallye!D169<>\"Section\"),($Q17-G$10),)","v":"00:00:00"},{"$f":"IF(AND(Rallye!D169<>\"\",Rallye!D169<>\"Section\"),($Q17-H$10),)","v":"00:00:00"},{"$f":"IF(AND(Rallye!D169<>\"\",Rallye!D169<>\"Section\"),($Q17-I$10),)","v":"00:00:00"},{"$f":"IF(AND(Rallye!D169<>\"\",Rallye!D169<>\"Section\"),($Q17-J$10),)","v":"00:00:00"},{"$f":"IF(AND(Rallye!D169<>\"\",Rallye!D169<>\"Section\"),($Q17-K$10),)","v":"00:00:00"},{"$f":"IF(AND(Rallye!D169<>\"\",Rallye!D169<>\"Section\"),($Q17-L$10),)","v":"00:00:00"},{"$f":"IF(AND(Rallye!D169<>\"\",Rallye!D169<>\"Section\"),($Q17-M$10),)","v":"00:00:00"},{"$f":"IF(AND(Rallye!D169<>\"\",Rallye!D169<>\"Section\"),($Q17-N$10),)","v":"00:00:00"},{"$f":"IF(AND(Rallye!D169<>\"\",Rallye!D169<>\"Section\"),($Q17-O$10),)","v":"00:00:00"},{"$f":"Rallye!F168","v":"00:00:00"},{"$f":"IF(P17>0,IF(OR(Rallye!D169<>\"\",Rallye!D169<>\"Section\"),Q16+P17,),Q16)","v":"00:00:00"},{"$f":"IF(AND(Rallye!D169<>\"\",Rallye!D169<>\"Section\"),Q17+$R$10,)","v":"00:00:00"},{"$f":"IF(AND(Rallye!D169<>\"\",Rallye!D169<>\"Section\"),R17+$S$10,)","v":"00:00:00"}]
[null,{"$f":"Rallye!B170","v":0},{"$f":"Rallye!C170","v":0},{"$f":"Rallye!D170","v":0},{"$f":"IF(AND(Rallye!D170<>\"\",Rallye!D170<>\"Section\"),($Q18-E$10),)","v":"00:00:00"},{"$f":"IF(AND(Rallye!D170<>\"\",Rallye!D170<>\"Section\"),($Q18-F$10),)","v":"00:00:00"},{"$f":"IF(AND(Rallye!D170<>\"\",Rallye!D170<>\"Section\"),($Q18-G$10),)","v":"00:00:00"},{"$f":"IF(AND(Rallye!D170<>\"\",Rallye!D170<>\"Section\"),($Q18-H$10),)","v":"00:00:00"},{"$f":"IF(AND(Rallye!D170<>\"\",Rallye!D170<>\"Section\"),($Q18-I$10),)","v":"00:00:00"},{"$f":"IF(AND(Rallye!D170<>\"\",Rallye!D170<>\"Section\"),($Q18-J$10),)","v":"00:00:00"},{"$f":"IF(AND(Rallye!D170<>\"\",Rallye!D170<>\"Section\"),($Q18-K$10),)","v":"00:00:00"},{"$f":"IF(AND(Rallye!D170<>\"\",Rallye!D170<>\"Section\"),($Q18-L$10),)","v":"00:00:00"},{"$f":"IF(AND(Rallye!D170<>\"\",Rallye!D170<>\"Section\"),($Q18-M$10),)","v":"00:00:00"},{"$f":"IF(AND(Rallye!D170<>\"\",Rallye!D170<>\"Section\"),($Q18-N$10),)","v":"00:00:00"},{"$f":"IF(AND(Rallye!D170<>\"\",Rallye!D170<>\"Section\"),($Q18-O$10),)","v":"00:00:00"},{"$f":"Rallye!F169","v":"00:00:00"},{"$f":"IF(P18>0,IF(OR(Rallye!D170<>\"\",Rallye!D170<>\"Section\"),Q17+P18,),Q17)","v":"00:00:00"},{"$f":"IF(AND(Rallye!D170<>\"\",Rallye!D170<>\"Section\"),Q18+$R$10,)","v":"00:00:00"},{"$f":"IF(AND(Rallye!D170<>\"\",Rallye!D170<>\"Section\"),R18+$S$10,)","v":"00:00:00"}]
[null,{"$f":"Rallye!B171","v":0},{"$f":"Rallye!C171","v":0},{"$f":"Rallye!D171","v":0},{"$f":"IF(AND(Rallye!D171<>\"\",Rallye!D171<>\"Section\"),($Q19-E$10),)","v":"00:00:00"},{"$f":"IF(AND(Rallye!D171<>\"\",Rallye!D171<>\"Section\"),($Q19-F$10),)","v":"00:00:00"},{"$f":"IF(AND(Rallye!D171<>\"\",Rallye!D171<>\"Section\"),($Q19-G$10),)","v":"00:00:00"},{"$f":"IF(AND(Rallye!D171<>\"\",Rallye!D171<>\"Section\"),($Q19-H$10),)","v":"00:00:00"},{"$f":"IF(AND(Rallye!D171<>\"\",Rallye!D171<>\"Section\"),($Q19-I$10),)","v":"00:00:00"},{"$f":"IF(AND(Rallye!D171<>\"\",Rallye!D171<>\"Section\"),($Q19-J$10),)","v":"00:00:00"},{"$f":"IF(AND(Rallye!D171<>\"\",Rallye!D171<>\"Section\"),($Q19-K$10),)","v":"00:00:00"},{"$f":"IF(AND(Rallye!D171<>\"\",Rallye!D171<>\"Section\"),($Q19-L$10),)","v":"00:00:00"},{"$f":"IF(AND(Rallye!D171<>\"\",Rallye!D171<>\"Section\"),($Q19-M$10),)","v":"00:00:00"},{"$f":"IF(AND(Rallye!D171<>\"\",Rallye!D171<>\"Section\"),($Q19-N$10),)","v":"00:00:00"},{"$f":"IF(AND(Rallye!D171<>\"\",Rallye!D171<>\"Section\"),($Q19-O$10),)","v":"00:00:00"},{"$f":"Rallye!F170","v":"00:00:00"},{"$f":"IF(P19>0,IF(OR(Rallye!D171<>\"\",Rallye!D171<>\"Section\"),Q18+P19,),Q18)","v":"00:00:00"},{"$f":"IF(AND(Rallye!D171<>\"\",Rallye!D171<>\"Section\"),Q19+$R$10,)","v":"00:00:00"},{"$f":"IF(AND(Rallye!D171<>\"\",Rallye!D171<>\"Section\"),R19+$S$10,)","v":"00:00:00"}]
[null,{"$f":"Rallye!B172","v":0},{"$f":"Rallye!C172","v":0},{"$f":"Rallye!D172","v":0},{"$f":"IF(AND(Rallye!D172<>\"\",Rallye!D172<>\"Section\"),($Q20-E$10),)","v":"00:00:00"},{"$f":"IF(AND(Rallye!D172<>\"\",Rallye!D172<>\"Section\"),($Q20-F$10),)","v":"00:00:00"},{"$f":"IF(AND(Rallye!D172<>\"\",Rallye!D172<>\"Section\"),($Q20-G$10),)","v":"00:00:00"},{"$f":"IF(AND(Rallye!D172<>\"\",Rallye!D172<>\"Section\"),($Q20-H$10),)","v":"00:00:00"},{"$f":"IF(AND(Rallye!D172<>\"\",Rallye!D172<>\"Section\"),($Q20-I$10),)","v":"00:00:00"},{"$f":"IF(AND(Rallye!D172<>\"\",Rallye!D172<>\"Section\"),($Q20-J$10),)","v":"00:00:00"},{"$f":"IF(AND(Rallye!D172<>\"\",Rallye!D172<>\"Section\"),($Q20-K$10),)","v":"00:00:00"},{"$f":"IF(AND(Rallye!D172<>\"\",Rallye!D172<>\"Section\"),($Q20-L$10),)","v":"00:00:00"},{"$f":"IF(AND(Rallye!D172<>\"\",Rallye!D172<>\"Section\"),($Q20-M$10),)","v":"00:00:00"},{"$f":"IF(AND(Rallye!D172<>\"\",Rallye!D172<>\"Section\"),($Q20-N$10),)","v":"00:00:00"},{"$f":"IF(AND(Rallye!D172<>\"\",Rallye!D172<>\"Section\"),($Q20-O$10),)","v":"00:00:00"},{"$f":"Rallye!F171","v":"00:00:00"},{"$f":"IF(P20>0,IF(OR(Rallye!D172<>\"\",Rallye!D172<>\"Section\"),Q19+P20,),Q19)","v":"00:00:00"},{"$f":"IF(AND(Rallye!D172<>\"\",Rallye!D172<>\"Section\"),Q20+$R$10,)","v":"00:00:00"},{"$f":"IF(AND(Rallye!D172<>\"\",Rallye!D172<>\"Section\"),R20+$S$10,)","v":"00:00:00"}]
[null,{"$f":"Rallye!B173","v":0},{"$f":"Rallye!C173","v":0},{"$f":"Rallye!D173","v":0},{"$f":"IF(AND(Rallye!D173<>\"\",Rallye!D173<>\"Section\"),($Q21-E$10),)","v":"00:00:00"},{"$f":"IF(AND(Rallye!D173<>\"\",Rallye!D173<>\"Section\"),($Q21-F$10),)","v":"00:00:00"},{"$f":"IF(AND(Rallye!D173<>\"\",Rallye!D173<>\"Section\"),($Q21-G$10),)","v":"00:00:00"},{"$f":"IF(AND(Rallye!D173<>\"\",Rallye!D173<>\"Section\"),($Q21-H$10),)","v":"00:00:00"},{"$f":"IF(AND(Rallye!D173<>\"\",Rallye!D173<>\"Section\"),($Q21-I$10),)","v":"00:00:00"},{"$f":"IF(AND(Rallye!D173<>\"\",Rallye!D173<>\"Section\"),($Q21-J$10),)","v":"00:00:00"},{"$f":"IF(AND(Rallye!D173<>\"\",Rallye!D173<>\"Section\"),($Q21-K$10),)","v":"00:00:00"},{"$f":"IF(AND(Rallye!D173<>\"\",Rallye!D173<>\"Section\"),($Q21-L$10),)","v":"00:00:00"},{"$f":"IF(AND(Rallye!D173<>\"\",Rallye!D173<>\"Section\"),($Q21-M$10),)","v":"00:00:00"},{"$f":"IF(AND(Rallye!D173<>\"\",Rallye!D173<>\"Section\"),($Q21-N$10),)","v":"00:00:00"},{"$f":"IF(AND(Rallye!D173<>\"\",Rallye!D173<>\"Section\"),($Q21-O$10),)","v":"00:00:00"},{"$f":"Rallye!F172","v":"00:00:00"},{"$f":"IF(P21>0,IF(OR(Rallye!D173<>\"\",Rallye!D173<>\"Section\"),Q20+P21,),Q20)","v":"00:00:00"},{"$f":"IF(AND(Rallye!D173<>\"\",Rallye!D173<>\"Section\"),Q21+$R$10,)","v":"00:00:00"},{"$f":"IF(AND(Rallye!D173<>\"\",Rallye!D173<>\"Section\"),R21+$S$10,)","v":"00:00:00"}]
[null,{"$f":"Rallye!B174","v":0},{"$f":"Rallye!C174","v":0},{"$f":"Rallye!D174","v":0},{"$f":"IF(AND(Rallye!D174<>\"\",Rallye!D174<>\"Section\"),($Q22-E$10),)","v":"00:00:00"},{"$f":"IF(AND(Rallye!D174<>\"\",Rallye!D174<>\"Section\"),($Q22-F$10),)","v":"00:00:00"},{"$f":"IF(AND(Rallye!D174<>\"\",Rallye!D174<>\"Section\"),($Q22-G$10),)","v":"00:00:00"},{"$f":"IF(AND(Rallye!D174<>\"\",Rallye!D174<>\"Section\"),($Q22-H$10),)","v":"00:00:00"},{"$f":"IF(AND(Rallye!D174<>\"\",Rallye!D174<>\"Section\"),($Q22-I$10),)","v":"00:00:00"},{"$f":"IF(AND(Rallye!D174<>\"\",Rallye!D174<>\"Section\"),($Q22-J$10),)","v":"00:00:00"},{"$f":"IF(AND(Rallye!D174<>\"\",Rallye!D174<>\"Section\"),($Q22-K$10),)","v":"00:00:00"},{"$f":"IF(AND(Rallye!D174<>\"\",Rallye!D174<>\"Section\"),($Q22-L$10),)","v":"00:00:00"},{"$f":"IF(AND(Rallye!D174<>\"\",Rallye!D174<>\"Section\"),($Q22-M$10),)","v":"00:00:00"},{"$f":"IF(AND(Rallye!D174<>\"\",Rallye!D174<>\"Section\"),($Q22-N$10),)","v":"00:00:00"},{"$f":"IF(AND(Rallye!D174<>\"\",Rallye!D174<>\"Section\"),($Q22-O$10),)","v":"00:00:00"},{"$f":"Rallye!F173","v":"00:00:00"},{"$f":"IF(P22>0,IF(OR(Rallye!D174<>\"\",Rallye!D174<>\"Section\"),Q21+P22,),Q21)","v":"00:00:00"},{"$f":"IF(AND(Rallye!D174<>\"\",Rallye!D174<>\"Section\"),Q22+$R$10,)","v":"00:00:00"},{"$f":"IF(AND(Rallye!D174<>\"\",Rallye!D174<>\"Section\"),R22+$S$10,)","v":"00:00:00"}]
[null,{"$f":"Rallye!B175","v":0},{"$f":"Rallye!C175","v":0},{"$f":"Rallye!D175","v":0},{"$f":"IF(AND(Rallye!D175<>\"\",Rallye!D175<>\"Section\"),($Q23-E$10),)","v":"00:00:00"},{"$f":"IF(AND(Rallye!D175<>\"\",Rallye!D175<>\"Section\"),($Q23-F$10),)","v":"00:00:00"},{"$f":"IF(AND(Rallye!D175<>\"\",Rallye!D175<>\"Section\"),($Q23-G$10),)","v":"00:00:00"},{"$f":"IF(AND(Rallye!D175<>\"\",Rallye!D175<>\"Section\"),($Q23-H$10),)","v":"00:00:00"},{"$f":"IF(AND(Rallye!D175<>\"\",Rallye!D175<>\"Section\"),($Q23-I$10),)","v":"00:00:00"},{"$f":"IF(AND(Rallye!D175<>\"\",Rallye!D175<>\"Section\"),($Q23-J$10),)","v":"00:00:00"},{"$f":"IF(AND(Rallye!D175<>\"\",Rallye!D175<>\"Section\"),($Q23-K$10),)","v":"00:00:00"},{"$f":"IF(AND(Rallye!D175<>\"\",Rallye!D175<>\"Section\"),($Q23-L$10),)","v":"00:00:00"},{"$f":"IF(AND(Rallye!D175<>\"\",Rallye!D175<>\"Section\"),($Q23-M$10),)","v":"00:00:00"},{"$f":"IF(AND(Rallye!D175<>\"\",Rallye!D175<>\"Section\"),($Q23-N$10),)","v":"00:00:00"},{"$f":"IF(AND(Rallye!D175<>\"\",Rallye!D175<>\"Section\"),($Q23-O$10),)","v":"00:00:00"},{"$f":"Rallye!F174","v":"00:00:00"},{"$f":"IF(P23>0,IF(OR(Rallye!D175<>\"\",Rallye!D175<>\"Section\"),Q22+P23,),Q22)","v":"00:00:00"},{"$f":"IF(AND(Rallye!D175<>\"\",Rallye!D175<>\"Section\"),Q23+$R$10,)","v":"00:00:00"},{"$f":"IF(AND(Rallye!D175<>\"\",Rallye!D175<>\"Section\"),R23+$S$10,)","v":"00:00:00"}]
[null,{"$f":"Rallye!B176","v":0},{"$f":"Rallye!C176","v":0},{"$f":"Rallye!D176","v":0},{"$f":"IF(AND(Rallye!D176<>\"\",Rallye!D176<>\"Section\"),($Q24-E$10),)","v":"00:00:00"},{"$f":"IF(AND(Rallye!D176<>\"\",Rallye!D176<>\"Section\"),($Q24-F$10),)","v":"00:00:00"},{"$f":"IF(AND(Rallye!D176<>\"\",Rallye!D176<>\"Section\"),($Q24-G$10),)","v":"00:00:00"},{"$f":"IF(AND(Rallye!D176<>\"\",Rallye!D176<>\"Section\"),($Q24-H$10),)","v":"00:00:00"},{"$f":"IF(AND(Rallye!D176<>\"\",Rallye!D176<>\"Section\"),($Q24-I$10),)","v":"00:00:00"},{"$f":"IF(AND(Rallye!D176<>\"\",Rallye!D176<>\"Section\"),($Q24-J$10),)","v":"00:00:00"},{"$f":"IF(AND(Rallye!D176<>\"\",Rallye!D176<>\"Section\"),($Q24-K$10),)","v":"00:00:00"},{"$f":"IF(AND(Rallye!D176<>\"\",Rallye!D176<>\"Section\"),($Q24-L$10),)","v":"00:00:00"},{"$f":"IF(AND(Rallye!D176<>\"\",Rallye!D176<>\"Section\"),($Q24-M$10),)","v":"00:00:00"},{"$f":"IF(AND(Rallye!D176<>\"\",Rallye!D176<>\"Section\"),($Q24-N$10),)","v":"00:00:00"},{"$f":"IF(AND(Rallye!D176<>\"\",Rallye!D176<>\"Section\"),($Q24-O$10),)","v":"00:00:00"},{"$f":"Rallye!F175","v":"00:00:00"},{"$f":"IF(P24>0,IF(OR(Rallye!D176<>\"\",Rallye!D176<>\"Section\"),Q23+P24,),Q23)","v":"00:00:00"},{"$f":"IF(AND(Rallye!D176<>\"\",Rallye!D176<>\"Section\"),Q24+$R$10,)","v":"00:00:00"},{"$f":"IF(AND(Rallye!D176<>\"\",Rallye!D176<>\"Section\"),R24+$S$10,)","v":"00:00:00"}]
[null,{"$f":"Rallye!B177","v":0},{"$f":"Rallye!C177","v":0},{"$f":"Rallye!D177","v":0},{"$f":"IF(AND(Rallye!D177<>\"\",Rallye!D177<>\"Section\"),($Q25-E$10),)","v":"00:00:00"},{"$f":"IF(AND(Rallye!D177<>\"\",Rallye!D177<>\"Section\"),($Q25-F$10),)","v":"00:00:00"},{"$f":"IF(AND(Rallye!D177<>\"\",Rallye!D177<>\"Section\"),($Q25-G$10),)","v":"00:00:00"},{"$f":"IF(AND(Rallye!D177<>\"\",Rallye!D177<>\"Section\"),($Q25-H$10),)","v":"00:00:00"},{"$f":"IF(AND(Rallye!D177<>\"\",Rallye!D177<>\"Section\"),($Q25-I$10),)","v":"00:00:00"},{"$f":"IF(AND(Rallye!D177<>\"\",Rallye!D177<>\"Section\"),($Q25-J$10),)","v":"00:00:00"},{"$f":"IF(AND(Rallye!D177<>\"\",Rallye!D177<>\"Section\"),($Q25-K$10),)","v":"00:00:00"},{"$f":"IF(AND(Rallye!D177<>\"\",Rallye!D177<>\"Section\"),($Q25-L$10),)","v":"00:00:00"},{"$f":"IF(AND(Rallye!D177<>\"\",Rallye!D177<>\"Section\"),($Q25-M$10),)","v":"00:00:00"},{"$f":"IF(AND(Rallye!D177<>\"\",Rallye!D177<>\"Section\"),($Q25-N$10),)","v":"00:00:00"},{"$f":"IF(AND(Rallye!D177<>\"\",Rallye!D177<>\"Section\"),($Q25-O$10),)","v":"00:00:00"},{"$f":"Rallye!F176","v":"00:00:00"},{"$f":"IF(P25>0,IF(OR(Rallye!D177<>\"\",Rallye!D177<>\"Section\"),Q24+P25,),Q24)","v":"00:00:00"},{"$f":"IF(AND(Rallye!D177<>\"\",Rallye!D177<>\"Section\"),Q25+$R$10,)","v":"00:00:00"},{"$f":"IF(AND(Rallye!D177<>\"\",Rallye!D177<>\"Section\"),R25+$S$10,)","v":"00:00:00"}]
[null,{"$f":"Rallye!B178","v":0},{"$f":"Rallye!C178","v":0},{"$f":"Rallye!D178","v":0},{"$f":"IF(AND(Rallye!D178<>\"\",Rallye!D178<>\"Section\"),($Q26-E$10),)","v":"00:00:00"},{"$f":"IF(AND(Rallye!D178<>\"\",Rallye!D178<>\"Section\"),($Q26-F$10),)","v":"00:00:00"},{"$f":"IF(AND(Rallye!D178<>\"\",Rallye!D178<>\"Section\"),($Q26-G$10),)","v":"00:00:00"},{"$f":"IF(AND(Rallye!D178<>\"\",Rallye!D178<>\"Section\"),($Q26-H$10),)","v":"00:00:00"},{"$f":"IF(AND(Rallye!D178<>\"\",Rallye!D178<>\"Section\"),($Q26-I$10),)","v":"00:00:00"},{"$f":"IF(AND(Rallye!D178<>\"\",Rallye!D178<>\"Section\"),($Q26-J$10),)","v":"00:00:00"},{"$f":"IF(AND(Rallye!D178<>\"\",Rallye!D178<>\"Section\"),($Q26-K$10),)","v":"00:00:00"},{"$f":"IF(AND(Rallye!D178<>\"\",Rallye!D178<>\"Section\"),($Q26-L$10),)","v":"00:00:00"},{"$f":"IF(AND(Rallye!D178<>\"\",Rallye!D178<>\"Section\"),($Q26-M$10),)","v":"00:00:00"},{"$f":"IF(AND(Rallye!D178<>\"\",Rallye!D178<>\"Section\"),($Q26-N$10),)","v":"00:00:00"},{"$f":"IF(AND(Rallye!D178<>\"\",Rallye!D178<>\"Section\"),($Q26-O$10),)","v":"00:00:00"},{"$f":"Rallye!F177","v":"00:00:00"},{"$f":"IF(P26>0,IF(OR(Rallye!D178<>\"\",Rallye!D178<>\"Section\"),Q25+P26,),Q25)","v":"00:00:00"},{"$f":"IF(AND(Rallye!D178<>\"\",Rallye!D178<>\"Section\"),Q26+$R$10,)","v":"00:00:00"},{"$f":"IF(AND(Rallye!D178<>\"\",Rallye!D178<>\"Section\"),R26+$S$10,)","v":"00:00:00"}]
[null,{"$f":"Rallye!B179","v":0},{"$f":"Rallye!C179","v":0},{"$f":"Rallye!D179","v":0},{"$f":"IF(AND(Rallye!D179<>\"\",Rallye!D179<>\"Section\"),($Q27-E$10),)","v":"00:00:00"},{"$f":"IF(AND(Rallye!D179<>\"\",Rallye!D179<>\"Section\"),($Q27-F$10),)","v":"00:00:00"},{"$f":"IF(AND(Rallye!D179<>\"\",Rallye!D179<>\"Section\"),($Q27-G$10),)","v":"00:00:00"},{"$f":"IF(AND(Rallye!D179<>\"\",Rallye!D179<>\"Section\"),($Q27-H$10),)","v":"00:00:00"},{"$f":"IF(AND(Rallye!D179<>\"\",Rallye!D179<>\"Section\"),($Q27-I$10),)","v":"00:00:00"},{"$f":"IF(AND(Rallye!D179<>\"\",Rallye!D179<>\"Section\"),($Q27-J$10),)","v":"00:00:00"},{"$f":"IF(AND(Rallye!D179<>\"\",Rallye!D179<>\"Section\"),($Q27-K$10),)","v":"00:00:00"},{"$f":"IF(AND(Rallye!D179<>\"\",Rallye!D179<>\"Section\"),($Q27-L$10),)","v":"00:00:00"},{"$f":"IF(AND(Rallye!D179<>\"\",Rallye!D179<>\"Section\"),($Q27-M$10),)","v":"00:00:00"},{"$f":"IF(AND(Rallye!D179<>\"\",Rallye!D179<>\"Section\"),($Q27-N$10),)","v":"00:00:00"},{"$f":"IF(AND(Rallye!D179<>\"\",Rallye!D179<>\"Section\"),($Q27-O$10),)","v":"00:00:00"},{"$f":"Rallye!F178","v":"00:00:00"},{"$f":"IF(P27>0,IF(OR(Rallye!D179<>\"\",Rallye!D179<>\"Section\"),Q26+P27,),Q26)","v":"00:00:00"},{"$f":"IF(AND(Rallye!D179<>\"\",Rallye!D179<>\"Section\"),Q27+$R$10,)","v":"00:00:00"},{"$f":"IF(AND(Rallye!D179<>\"\",Rallye!D179<>\"Section\"),R27+$S$10,)","v":"00:00:00"}]
[null,{"$f":"Rallye!B180","v":0},{"$f":"Rallye!C180","v":0},{"$f":"Rallye!D180","v":0},{"$f":"IF(AND(Rallye!D180<>\"\",Rallye!D180<>\"Section\"),($Q28-E$10),)","v":"00:00:00"},{"$f":"IF(AND(Rallye!D180<>\"\",Rallye!D180<>\"Section\"),($Q28-F$10),)","v":"00:00:00"},{"$f":"IF(AND(Rallye!D180<>\"\",Rallye!D180<>\"Section\"),($Q28-G$10),)","v":"00:00:00"},{"$f":"IF(AND(Rallye!D180<>\"\",Rallye!D180<>\"Section\"),($Q28-H$10),)","v":"00:00:00"},{"$f":"IF(AND(Rallye!D180<>\"\",Rallye!D180<>\"Section\"),($Q28-I$10),)","v":"00:00:00"},{"$f":"IF(AND(Rallye!D180<>\"\",Rallye!D180<>\"Section\"),($Q28-J$10),)","v":"00:00:00"},{"$f":"IF(AND(Rallye!D180<>\"\",Rallye!D180<>\"Section\"),($Q28-K$10),)","v":"00:00:00"},{"$f":"IF(AND(Rallye!D180<>\"\",Rallye!D180<>\"Section\"),($Q28-L$10),)","v":"00:00:00"},{"$f":"IF(AND(Rallye!D180<>\"\",Rallye!D180<>\"Section\"),($Q28-M$10),)","v":"00:00:00"},{"$f":"IF(AND(Rallye!D180<>\"\",Rallye!D180<>\"Section\"),($Q28-N$10),)","v":"00:00:00"},{"$f":"IF(AND(Rallye!D180<>\"\",Rallye!D180<>\"Section\"),($Q28-O$10),)","v":"00:00:00"},{"$f":"Rallye!F179","v":"00:00:00"},{"$f":"IF(P28>0,IF(OR(Rallye!D180<>\"\",Rallye!D180<>\"Section\"),Q27+P28,),Q27)","v":"00:00:00"},{"$f":"IF(AND(Rallye!D180<>\"\",Rallye!D180<>\"Section\"),Q28+$R$10,)","v":"00:00:00"},{"$f":"IF(AND(Rallye!D180<>\"\",Rallye!D180<>\"Section\"),R28+$S$10,)","v":"00:00:00"}]
[null,{"$f":"Rallye!B181","v":0},{"$f":"Rallye!C181","v":0},{"$f":"Rallye!D181","v":0},{"$f":"IF(AND(Rallye!D181<>\"\",Rallye!D181<>\"Section\"),($Q29-E$10),)","v":"00:00:00"},{"$f":"IF(AND(Rallye!D181<>\"\",Rallye!D181<>\"Section\"),($Q29-F$10),)","v":"00:00:00"},{"$f":"IF(AND(Rallye!D181<>\"\",Rallye!D181<>\"Section\"),($Q29-G$10),)","v":"00:00:00"},{"$f":"IF(AND(Rallye!D181<>\"\",Rallye!D181<>\"Section\"),($Q29-H$10),)","v":"00:00:00"},{"$f":"IF(AND(Rallye!D181<>\"\",Rallye!D181<>\"Section\"),($Q29-I$10),)","v":"00:00:00"},{"$f":"IF(AND(Rallye!D181<>\"\",Rallye!D181<>\"Section\"),($Q29-J$10),)","v":"00:00:00"},{"$f":"IF(AND(Rallye!D181<>\"\",Rallye!D181<>\"Section\"),($Q29-K$10),)","v":"00:00:00"},{"$f":"IF(AND(Rallye!D181<>\"\",Rallye!D181<>\"Section\"),($Q29-L$10),)","v":"00:00:00"},{"$f":"IF(AND(Rallye!D181<>\"\",Rallye!D181<>\"Section\"),($Q29-M$10),)","v":"00:00:00"},{"$f":"IF(AND(Rallye!D181<>\"\",Rallye!D181<>\"Section\"),($Q29-N$10),)","v":"00:00:00"},{"$f":"IF(AND(Rallye!D181<>\"\",Rallye!D181<>\"Section\"),($Q29-O$10),)","v":"00:00:00"},{"$f":"Rallye!F180","v":"00:00:00"},{"$f":"IF(P29>0,IF(OR(Rallye!D181<>\"\",Rallye!D181<>\"Section\"),Q28+P29,),Q28)","v":"00:00:00"},{"$f":"IF(AND(Rallye!D181<>\"\",Rallye!D181<>\"Section\"),Q29+$R$10,)","v":"00:00:00"},{"$f":"IF(AND(Rallye!D181<>\"\",Rallye!D181<>\"Section\"),R29+$S$10,)","v":"00:00:00"}]
[null,{"$f":"Rallye!B182","v":0},{"$f":"Rallye!C182","v":0},{"$f":"Rallye!D182","v":0},{"$f":"IF(AND(Rallye!D182<>\"\",Rallye!D182<>\"Section\"),($Q30-E$10),)","v":"00:00:00"},{"$f":"IF(AND(Rallye!D182<>\"\",Rallye!D182<>\"Section\"),($Q30-F$10),)","v":"00:00:00"},{"$f":"IF(AND(Rallye!D182<>\"\",Rallye!D182<>\"Section\"),($Q30-G$10),)","v":"00:00:00"},{"$f":"IF(AND(Rallye!D182<>\"\",Rallye!D182<>\"Section\"),($Q30-H$10),)","v":"00:00:00"},{"$f":"IF(AND(Rallye!D182<>\"\",Rallye!D182<>\"Section\"),($Q30-I$10),)","v":"00:00:00"},{"$f":"IF(AND(Rallye!D182<>\"\",Rallye!D182<>\"Section\"),($Q30-J$10),)","v":"00:00:00"},{"$f":"IF(AND(Rallye!D182<>\"\",Rallye!D182<>\"Section\"),($Q30-K$10),)","v":"00:00:00"},{"$f":"IF(AND(Rallye!D182<>\"\",Rallye!D182<>\"Section\"),($Q30-L$10),)","v":"00:00:00"},{"$f":"IF(AND(Rallye!D182<>\"\",Rallye!D182<>\"Section\"),($Q30-M$10),)","v":"00:00:00"},{"$f":"IF(AND(Rallye!D182<>\"\",Rallye!D182<>\"Section\"),($Q30-N$10),)","v":"00:00:00"},{"$f":"IF(AND(Rallye!D182<>\"\",Rallye!D182<>\"Section\"),($Q30-O$10),)","v":"00:00:00"},{"$f":"Rallye!F181","v":"00:00:00"},{"$f":"IF(P30>0,IF(OR(Rallye!D182<>\"\",Rallye!D182<>\"Section\"),Q29+P30,),Q29)","v":"00:00:00"},{"$f":"IF(AND(Rallye!D182<>\"\",Rallye!D182<>\"Section\"),Q30+$R$10,)","v":"00:00:00"},{"$f":"IF(AND(Rallye!D182<>\"\",Rallye!D182<>\"Section\"),R30+$S$10,)","v":"00:00:00"}]
[null,{"$f":"Rallye!B183","v":0},{"$f":"Rallye!C183","v":0},{"$f":"Rallye!D183","v":0},{"$f":"IF(AND(Rallye!D183<>\"\",Rallye!D183<>\"Section\"),($Q31-E$10),)","v":"00:00:00"},{"$f":"IF(AND(Rallye!D183<>\"\",Rallye!D183<>\"Section\"),($Q31-F$10),)","v":"00:00:00"},{"$f":"IF(AND(Rallye!D183<>\"\",Rallye!D183<>\"Section\"),($Q31-G$10),)","v":"00:00:00"},{"$f":"IF(AND(Rallye!D183<>\"\",Rallye!D183<>\"Section\"),($Q31-H$10),)","v":"00:00:00"},{"$f":"IF(AND(Rallye!D183<>\"\",Rallye!D183<>\"Section\"),($Q31-I$10),)","v":"00:00:00"},{"$f":"IF(AND(Rallye!D183<>\"\",Rallye!D183<>\"Section\"),($Q31-J$10),)","v":"00:00:00"},{"$f":"IF(AND(Rallye!D183<>\"\",Rallye!D183<>\"Section\"),($Q31-K$10),)","v":"00:00:00"},{"$f":"IF(AND(Rallye!D183<>\"\",Rallye!D183<>\"Section\"),($Q31-L$10),)","v":"00:00:00"},{"$f":"IF(AND(Rallye!D183<>\"\",Rallye!D183<>\"Section\"),($Q31-M$10),)","v":"00:00:00"},{"$f":"IF(AND(Rallye!D183<>\"\",Rallye!D183<>\"Section\"),($Q31-N$10),)","v":"00:00:00"},{"$f":"IF(AND(Rallye!D183<>\"\",Rallye!D183<>\"Section\"),($Q31-O$10),)","v":"00:00:00"},{"$f":"Rallye!F182","v":"00:00:00"},{"$f":"IF(P31>0,IF(OR(Rallye!D183<>\"\",Rallye!D183<>\"Section\"),Q30+P31,),Q30)","v":"00:00:00"},{"$f":"IF(AND(Rallye!D183<>\"\",Rallye!D183<>\"Section\"),Q31+$R$10,)","v":"00:00:00"},{"$f":"IF(AND(Rallye!D183<>\"\",Rallye!D183<>\"Section\"),R31+$S$10,)","v":"00:00:00"}]
[null,{"$f":"Rallye!B184","v":0},{"$f":"Rallye!C184","v":0},{"$f":"Rallye!D184","v":0},{"$f":"IF(AND(Rallye!D184<>\"\",Rallye!D184<>\"Section\"),($Q32-E$10),)","v":"00:00:00"},{"$f":"IF(AND(Rallye!D184<>\"\",Rallye!D184<>\"Section\"),($Q32-F$10),)","v":"00:00:00"},{"$f":"IF(AND(Rallye!D184<>\"\",Rallye!D184<>\"Section\"),($Q32-G$10),)","v":"00:00:00"},{"$f":"IF(AND(Rallye!D184<>\"\",Rallye!D184<>\"Section\"),($Q32-H$10),)","v":"00:00:00"},{"$f":"IF(AND(Rallye!D184<>\"\",Rallye!D184<>\"Section\"),($Q32-I$10),)","v":"00:00:00"},{"$f":"IF(AND(Rallye!D184<>\"\",Rallye!D184<>\"Section\"),($Q32-J$10),)","v":"00:00:00"},{"$f":"IF(AND(Rallye!D184<>\"\",Rallye!D184<>\"Section\"),($Q32-K$10),)","v":"00:00:00"},{"$f":"IF(AND(Rallye!D184<>\"\",Rallye!D184<>\"Section\"),($Q32-L$10),)","v":"00:00:00"},{"$f":"IF(AND(Rallye!D184<>\"\",Rallye!D184<>\"Section\"),($Q32-M$10),)","v":"00:00:00"},{"$f":"IF(AND(Rallye!D184<>\"\",Rallye!D184<>\"Section\"),($Q32-N$10),)","v":"00:00:00"},{"$f":"IF(AND(Rallye!D184<>\"\",Rallye!D184<>\"Section\"),($Q32-O$10),)","v":"00:00:00"},{"$f":"Rallye!F183","v":"00:00:00"},{"$f":"IF(P32>0,IF(OR(Rallye!D184<>\"\",Rallye!D184<>\"Section\"),Q31+P32,),Q31)","v":"00:00:00"},{"$f":"IF(AND(Rallye!D184<>\"\",Rallye!D184<>\"Section\"),Q32+$R$10,)","v":"00:00:00"},{"$f":"IF(AND(Rallye!D184<>\"\",Rallye!D184<>\"Section\"),R32+$S$10,)","v":"00:00:00"}]
[null,{"$f":"Rallye!B185","v":0},{"$f":"Rallye!C185","v":0},{"$f":"Rallye!D185","v":0},{"$f":"IF(AND(Rallye!D185<>\"\",Rallye!D185<>\"Section\"),($Q33-E$10),)","v":"00:00:00"},{"$f":"IF(AND(Rallye!D185<>\"\",Rallye!D185<>\"Section\"),($Q33-F$10),)","v":"00:00:00"},{"$f":"IF(AND(Rallye!D185<>\"\",Rallye!D185<>\"Section\"),($Q33-G$10),)","v":"00:00:00"},{"$f":"IF(AND(Rallye!D185<>\"\",Rallye!D185<>\"Section\"),($Q33-H$10),)","v":"00:00:00"},{"$f":"IF(AND(Rallye!D185<>\"\",Rallye!D185<>\"Section\"),($Q33-I$10),)","v":"00:00:00"},{"$f":"IF(AND(Rallye!D185<>\"\",Rallye!D185<>\"Section\"),($Q33-J$10),)","v":"00:00:00"},{"$f":"IF(AND(Rallye!D185<>\"\",Rallye!D185<>\"Section\"),($Q33-K$10),)","v":"00:00:00"},{"$f":"IF(AND(Rallye!D185<>\"\",Rallye!D185<>\"Section\"),($Q33-L$10),)","v":"00:00:00"},{"$f":"IF(AND(Rallye!D185<>\"\",Rallye!D185<>\"Section\"),($Q33-M$10),)","v":"00:00:00"},{"$f":"IF(AND(Rallye!D185<>\"\",Rallye!D185<>\"Section\"),($Q33-N$10),)","v":"00:00:00"},{"$f":"IF(AND(Rallye!D185<>\"\",Rallye!D185<>\"Section\"),($Q33-O$10),)","v":"00:00:00"},{"$f":"Rallye!F184","v":"00:00:00"},{"$f":"IF(P33>0,IF(OR(Rallye!D185<>\"\",Rallye!D185<>\"Section\"),Q32+P33,),Q32)","v":"00:00:00"},{"$f":"IF(AND(Rallye!D185<>\"\",Rallye!D185<>\"Section\"),Q33+$R$10,)","v":"00:00:00"},{"$f":"IF(AND(Rallye!D185<>\"\",Rallye!D185<>\"Section\"),R33+$S$10,)","v":"00:00:00"}]
[null,{"$f":"Rallye!B186","v":0},{"$f":"Rallye!C186","v":0},{"$f":"Rallye!D186","v":0},{"$f":"IF(AND(Rallye!D186<>\"\",Rallye!D186<>\"Section\"),($Q34-E$10),)","v":"00:00:00"},{"$f":"IF(AND(Rallye!D186<>\"\",Rallye!D186<>\"Section\"),($Q34-F$10),)","v":"00:00:00"},{"$f":"IF(AND(Rallye!D186<>\"\",Rallye!D186<>\"Section\"),($Q34-G$10),)","v":"00:00:00"},{"$f":"IF(AND(Rallye!D186<>\"\",Rallye!D186<>\"Section\"),($Q34-H$10),)","v":"00:00:00"},{"$f":"IF(AND(Rallye!D186<>\"\",Rallye!D186<>\"Section\"),($Q34-I$10),)","v":"00:00:00"},{"$f":"IF(AND(Rallye!D186<>\"\",Rallye!D186<>\"Section\"),($Q34-J$10),)","v":"00:00:00"},{"$f":"IF(AND(Rallye!D186<>\"\",Rallye!D186<>\"Section\"),($Q34-K$10),)","v":"00:00:00"},{"$f":"IF(AND(Rallye!D186<>\"\",Rallye!D186<>\"Section\"),($Q34-L$10),)","v":"00:00:00"},{"$f":"IF(AND(Rallye!D186<>\"\",Rallye!D186<>\"Section\"),($Q34-M$10),)","v":"00:00:00"},{"$f":"IF(AND(Rallye!D186<>\"\",Rallye!D186<>\"Section\"),($Q34-N$10),)","v":"00:00:00"},{"$f":"IF(AND(Rallye!D186<>\"\",Rallye!D186<>\"Section\"),($Q34-O$10),)","v":"00:00:00"},{"$f":"Rallye!F185","v":"00:00:00"},{"$f":"IF(P34>0,IF(OR(Rallye!D186<>\"\",Rallye!D186<>\"Section\"),Q33+P34,),Q33)","v":"00:00:00"},{"$f":"IF(AND(Rallye!D186<>\"\",Rallye!D186<>\"Section\"),Q34+$R$10,)","v":"00:00:00"},{"$f":"IF(AND(Rallye!D186<>\"\",Rallye!D186<>\"Section\"),R34+$S$10,)","v":"00:00:00"}]
[null,{"$f":"Rallye!B187","v":0},{"$f":"Rallye!C187","v":0},{"$f":"Rallye!D187","v":0},{"$f":"IF(AND(Rallye!D187<>\"\",Rallye!D187<>\"Section\"),($Q35-E$10),)","v":"00:00:00"},{"$f":"IF(AND(Rallye!D187<>\"\",Rallye!D187<>\"Section\"),($Q35-F$10),)","v":"00:00:00"},{"$f":"IF(AND(Rallye!D187<>\"\",Rallye!D187<>\"Section\"),($Q35-G$10),)","v":"00:00:00"},{"$f":"IF(AND(Rallye!D187<>\"\",Rallye!D187<>\"Section\"),($Q35-H$10),)","v":"00:00:00"},{"$f":"IF(AND(Rallye!D187<>\"\",Rallye!D187<>\"Section\"),($Q35-I$10),)","v":"00:00:00"},{"$f":"IF(AND(Rallye!D187<>\"\",Rallye!D187<>\"Section\"),($Q35-J$10),)","v":"00:00:00"},{"$f":"IF(AND(Rallye!D187<>\"\",Rallye!D187<>\"Section\"),($Q35-K$10),)","v":"00:00:00"},{"$f":"IF(AND(Rallye!D187<>\"\",Rallye!D187<>\"Section\"),($Q35-L$10),)","v":"00:00:00"},{"$f":"IF(AND(Rallye!D187<>\"\",Rallye!D187<>\"Section\"),($Q35-M$10),)","v":"00:00:00"},{"$f":"IF(AND(Rallye!D187<>\"\",Rallye!D187<>\"Section\"),($Q35-N$10),)","v":"00:00:00"},{"$f":"IF(AND(Rallye!D187<>\"\",Rallye!D187<>\"Section\"),($Q35-O$10),)","v":"00:00:00"},{"$f":"Rallye!F186","v":"00:00:00"},{"$f":"IF(P35>0,IF(OR(Rallye!D187<>\"\",Rallye!D187<>\"Section\"),Q34+P35,),Q34)","v":"00:00:00"},{"$f":"IF(AND(Rallye!D187<>\"\",Rallye!D187<>\"Section\"),Q35+$R$10,)","v":"00:00:00"},{"$f":"IF(AND(Rallye!D187<>\"\",Rallye!D187<>\"Section\"),R35+$S$10,)","v":"00:00:00"}]
[null,{"$f":"Rallye!B188","v":0},{"$f":"Rallye!C188","v":0},{"$f":"Rallye!D188","v":0},{"$f":"IF(AND(Rallye!D188<>\"\",Rallye!D188<>\"Section\"),($Q36-E$10),)","v":"00:00:00"},{"$f":"IF(AND(Rallye!D188<>\"\",Rallye!D188<>\"Section\"),($Q36-F$10),)","v":"00:00:00"},{"$f":"IF(AND(Rallye!D188<>\"\",Rallye!D188<>\"Section\"),($Q36-G$10),)","v":"00:00:00"},{"$f":"IF(AND(Rallye!D188<>\"\",Rallye!D188<>\"Section\"),($Q36-H$10),)","v":"00:00:00"},{"$f":"IF(AND(Rallye!D188<>\"\",Rallye!D188<>\"Section\"),($Q36-I$10),)","v":"00:00:00"},{"$f":"IF(AND(Rallye!D188<>\"\",Rallye!D188<>\"Section\"),($Q36-J$10),)","v":"00:00:00"},{"$f":"IF(AND(Rallye!D188<>\"\",Rallye!D188<>\"Section\"),($Q36-K$10),)","v":"00:00:00"},{"$f":"IF(AND(Rallye!D188<>\"\",Rallye!D188<>\"Section\"),($Q36-L$10),)","v":"00:00:00"},{"$f":"IF(AND(Rallye!D188<>\"\",Rallye!D188<>\"Section\"),($Q36-M$10),)","v":"00:00:00"},{"$f":"IF(AND(Rallye!D188<>\"\",Rallye!D188<>\"Section\"),($Q36-N$10),)","v":"00:00:00"},{"$f":"IF(AND(Rallye!D188<>\"\",Rallye!D188<>\"Section\"),($Q36-O$10),)","v":"00:00:00"},{"$f":"Rallye!F187","v":"00:00:00"},{"$f":"IF(P36>0,IF(OR(Rallye!D188<>\"\",Rallye!D188<>\"Section\"),Q35+P36,),Q35)","v":"00:00:00"},{"$f":"IF(AND(Rallye!D188<>\"\",Rallye!D188<>\"Section\"),Q36+$R$10,)","v":"00:00:00"},{"$f":"IF(AND(Rallye!D188<>\"\",Rallye!D188<>\"Section\"),R36+$S$10,)","v":"00:00:00"}]
[null,{"$f":"Rallye!B189","v":0},{"$f":"Rallye!C189","v":0},{"$f":"Rallye!D189","v":0},{"$f":"IF(AND(Rallye!D189<>\"\",Rallye!D189<>\"Section\"),($Q37-E$10),)","v":"00:00:00"},{"$f":"IF(AND(Rallye!D189<>\"\",Rallye!D189<>\"Section\"),($Q37-F$10),)","v":"00:00:00"},{"$f":"IF(AND(Rallye!D189<>\"\",Rallye!D189<>\"Section\"),($Q37-G$10),)","v":"00:00:00"},{"$f":"IF(AND(Rallye!D189<>\"\",Rallye!D189<>\"Section\"),($Q37-H$10),)","v":"00:00:00"},{"$f":"IF(AND(Rallye!D189<>\"\",Rallye!D189<>\"Section\"),($Q37-I$10),)","v":"00:00:00"},{"$f":"IF(AND(Rallye!D189<>\"\",Rallye!D189<>\"Section\"),($Q37-J$10),)","v":"00:00:00"},{"$f":"IF(AND(Rallye!D189<>\"\",Rallye!D189<>\"Section\"),($Q37-K$10),)","v":"00:00:00"},{"$f":"IF(AND(Rallye!D189<>\"\",Rallye!D189<>\"Section\"),($Q37-L$10),)","v":"00:00:00"},{"$f":"IF(AND(Rallye!D189<>\"\",Rallye!D189<>\"Section\"),($Q37-M$10),)","v":"00:00:00"},{"$f":"IF(AND(Rallye!D189<>\"\",Rallye!D189<>\"Section\"),($Q37-N$10),)","v":"00:00:00"},{"$f":"IF(AND(Rallye!D189<>\"\",Rallye!D189<>\"Section\"),($Q37-O$10),)","v":"00:00:00"},{"$f":"Rallye!F188","v":"00:00:00"},{"$f":"IF(P37>0,IF(OR(Rallye!D189<>\"\",Rallye!D189<>\"Section\"),Q36+P37,),Q36)","v":"00:00:00"},{"$f":"IF(AND(Rallye!D189<>\"\",Rallye!D189<>\"Section\"),Q37+$R$10,)","v":"00:00:00"},{"$f":"IF(AND(Rallye!D189<>\"\",Rallye!D189<>\"Section\"),R37+$S$10,)","v":"00:00:00"}]
[null,{"$f":"Rallye!B190","v":0},{"$f":"Rallye!C190","v":0},{"$f":"Rallye!D190","v":0},{"$f":"IF(AND(Rallye!D190<>\"\",Rallye!D190<>\"Section\"),($Q38-E$10),)","v":"00:00:00"},{"$f":"IF(AND(Rallye!D190<>\"\",Rallye!D190<>\"Section\"),($Q38-F$10),)","v":"00:00:00"},{"$f":"IF(AND(Rallye!D190<>\"\",Rallye!D190<>\"Section\"),($Q38-G$10),)","v":"00:00:00"},{"$f":"IF(AND(Rallye!D190<>\"\",Rallye!D190<>\"Section\"),($Q38-H$10),)","v":"00:00:00"},{"$f":"IF(AND(Rallye!D190<>\"\",Rallye!D190<>\"Section\"),($Q38-I$10),)","v":"00:00:00"},{"$f":"IF(AND(Rallye!D190<>\"\",Rallye!D190<>\"Section\"),($Q38-J$10),)","v":"00:00:00"},{"$f":"IF(AND(Rallye!D190<>\"\",Rallye!D190<>\"Section\"),($Q38-K$10),)","v":"00:00:00"},{"$f":"IF(AND(Rallye!D190<>\"\",Rallye!D190<>\"Section\"),($Q38-L$10),)","v":"00:00:00"},{"$f":"IF(AND(Rallye!D190<>\"\",Rallye!D190<>\"Section\"),($Q38-M$10),)","v":"00:00:00"},{"$f":"IF(AND(Rallye!D190<>\"\",Rallye!D190<>\"Section\"),($Q38-N$10),)","v":"00:00:00"},{"$f":"IF(AND(Rallye!D190<>\"\",Rallye!D190<>\"Section\"),($Q38-O$10),)","v":"00:00:00"},{"$f":"Rallye!F189","v":"00:00:00"},{"$f":"IF(P38>0,IF(OR(Rallye!D190<>\"\",Rallye!D190<>\"Section\"),Q37+P38,),Q37)","v":"00:00:00"},{"$f":"IF(AND(Rallye!D190<>\"\",Rallye!D190<>\"Section\"),Q38+$R$10,)","v":"00:00:00"},{"$f":"IF(AND(Rallye!D190<>\"\",Rallye!D190<>\"Section\"),R38+$S$10,)","v":"00:00:00"}]
[null,{"$f":"Rallye!B191","v":0},{"$f":"Rallye!C191","v":0},{"$f":"Rallye!D191","v":0},{"$f":"IF(AND(Rallye!D191<>\"\",Rallye!D191<>\"Section\"),($Q39-E$10),)","v":"00:00:00"},{"$f":"IF(AND(Rallye!D191<>\"\",Rallye!D191<>\"Section\"),($Q39-F$10),)","v":"00:00:00"},{"$f":"IF(AND(Rallye!D191<>\"\",Rallye!D191<>\"Section\"),($Q39-G$10),)","v":"00:00:00"},{"$f":"IF(AND(Rallye!D191<>\"\",Rallye!D191<>\"Section\"),($Q39-H$10),)","v":"00:00:00"},{"$f":"IF(AND(Rallye!D191<>\"\",Rallye!D191<>\"Section\"),($Q39-I$10),)","v":"00:00:00"},{"$f":"IF(AND(Rallye!D191<>\"\",Rallye!D191<>\"Section\"),($Q39-J$10),)","v":"00:00:00"},{"$f":"IF(AND(Rallye!D191<>\"\",Rallye!D191<>\"Section\"),($Q39-K$10),)","v":"00:00:00"},{"$f":"IF(AND(Rallye!D191<>\"\",Rallye!D191<>\"Section\"),($Q39-L$10),)","v":"00:00:00"},{"$f":"IF(AND(Rallye!D191<>\"\",Rallye!D191<>\"Section\"),($Q39-M$10),)","v":"00:00:00"},{"$f":"IF(AND(Rallye!D191<>\"\",Rallye!D191<>\"Section\"),($Q39-N$10),)","v":"00:00:00"},{"$f":"IF(AND(Rallye!D191<>\"\",Rallye!D191<>\"Section\"),($Q39-O$10),)","v":"00:00:00"},{"$f":"Rallye!F190","v":"00:00:00"},{"$f":"IF(P39>0,IF(OR(Rallye!D191<>\"\",Rallye!D191<>\"Section\"),Q38+P39,),Q38)","v":"00:00:00"},{"$f":"IF(AND(Rallye!D191<>\"\",Rallye!D191<>\"Section\"),Q39+$R$10,)","v":"00:00:00"},{"$f":"IF(AND(Rallye!D191<>\"\",Rallye!D191<>\"Section\"),R39+$S$10,)","v":"00:00:00"}]
[null,{"$f":"Rallye!B192","v":0},{"$f":"Rallye!C192","v":0},{"$f":"Rallye!D192","v":0},{"$f":"IF(AND(Rallye!D192<>\"\",Rallye!D192<>\"Section\"),($Q40-E$10),)","v":"00:00:00"},{"$f":"IF(AND(Rallye!D192<>\"\",Rallye!D192<>\"Section\"),($Q40-F$10),)","v":"00:00:00"},{"$f":"IF(AND(Rallye!D192<>\"\",Rallye!D192<>\"Section\"),($Q40-G$10),)","v":"00:00:00"},{"$f":"IF(AND(Rallye!D192<>\"\",Rallye!D192<>\"Section\"),($Q40-H$10),)","v":"00:00:00"},{"$f":"IF(AND(Rallye!D192<>\"\",Rallye!D192<>\"Section\"),($Q40-I$10),)","v":"00:00:00"},{"$f":"IF(AND(Rallye!D192<>\"\",Rallye!D192<>\"Section\"),($Q40-J$10),)","v":"00:00:00"},{"$f":"IF(AND(Rallye!D192<>\"\",Rallye!D192<>\"Section\"),($Q40-K$10),)","v":"00:00:00"},{"$f":"IF(AND(Rallye!D192<>\"\",Rallye!D192<>\"Section\"),($Q40-L$10),)","v":"00:00:00"},{"$f":"IF(AND(Rallye!D192<>\"\",Rallye!D192<>\"Section\"),($Q40-M$10),)","v":"00:00:00"},{"$f":"IF(AND(Rallye!D192<>\"\",Rallye!D192<>\"Section\"),($Q40-N$10),)","v":"00:00:00"},{"$f":"IF(AND(Rallye!D192<>\"\",Rallye!D192<>\"Section\"),($Q40-O$10),)","v":"00:00:00"},{"$f":"Rallye!F191","v":"00:00:00"},{"$f":"IF(P40>0,IF(OR(Rallye!D192<>\"\",Rallye!D192<>\"Section\"),Q39+P40,),Q39)","v":"00:00:00"},{"$f":"IF(AND(Rallye!D192<>\"\",Rallye!D192<>\"Section\"),Q40+$R$10,)","v":"00:00:00"},{"$f":"IF(AND(Rallye!D192<>\"\",Rallye!D192<>\"Section\"),R40+$S$10,)","v":"00:00:00"}]
[null,{"$f":"Rallye!B193","v":0},{"$f":"Rallye!C193","v":0},{"$f":"Rallye!D193","v":0},{"$f":"IF(AND(Rallye!D193<>\"\",Rallye!D193<>\"Section\"),($Q41-E$10),)","v":"00:00:00"},{"$f":"IF(AND(Rallye!D193<>\"\",Rallye!D193<>\"Section\"),($Q41-F$10),)","v":"00:00:00"},{"$f":"IF(AND(Rallye!D193<>\"\",Rallye!D193<>\"Section\"),($Q41-G$10),)","v":"00:00:00"},{"$f":"IF(AND(Rallye!D193<>\"\",Rallye!D193<>\"Section\"),($Q41-H$10),)","v":"00:00:00"},{"$f":"IF(AND(Rallye!D193<>\"\",Rallye!D193<>\"Section\"),($Q41-I$10),)","v":"00:00:00"},{"$f":"IF(AND(Rallye!D193<>\"\",Rallye!D193<>\"Section\"),($Q41-J$10),)","v":"00:00:00"},{"$f":"IF(AND(Rallye!D193<>\"\",Rallye!D193<>\"Section\"),($Q41-K$10),)","v":"00:00:00"},{"$f":"IF(AND(Rallye!D193<>\"\",Rallye!D193<>\"Section\"),($Q41-L$10),)","v":"00:00:00"},{"$f":"IF(AND(Rallye!D193<>\"\",Rallye!D193<>\"Section\"),($Q41-M$10),)","v":"00:00:00"},{"$f":"IF(AND(Rallye!D193<>\"\",Rallye!D193<>\"Section\"),($Q41-N$10),)","v":"00:00:00"},{"$f":"IF(AND(Rallye!D193<>\"\",Rallye!D193<>\"Section\"),($Q41-O$10),)","v":"00:00:00"},{"$f":"Rallye!F192","v":"00:00:00"},{"$f":"IF(P41>0,IF(OR(Rallye!D193<>\"\",Rallye!D193<>\"Section\"),Q40+P41,),Q40)","v":"00:00:00"},{"$f":"IF(AND(Rallye!D193<>\"\",Rallye!D193<>\"Section\"),Q41+$R$10,)","v":"00:00:00"},{"$f":"IF(AND(Rallye!D193<>\"\",Rallye!D193<>\"Section\"),R41+$S$10,)","v":"00:00:00"}]
[null,{"$f":"Rallye!B194","v":0},{"$f":"Rallye!C194","v":0},{"$f":"Rallye!D194","v":0},{"$f":"IF(AND(Rallye!D194<>\"\",Rallye!D194<>\"Section\"),($Q42-E$10),)","v":"00:00:00"},{"$f":"IF(AND(Rallye!D194<>\"\",Rallye!D194<>\"Section\"),($Q42-F$10),)","v":"00:00:00"},{"$f":"IF(AND(Rallye!D194<>\"\",Rallye!D194<>\"Section\"),($Q42-G$10),)","v":"00:00:00"},{"$f":"IF(AND(Rallye!D194<>\"\",Rallye!D194<>\"Section\"),($Q42-H$10),)","v":"00:00:00"},{"$f":"IF(AND(Rallye!D194<>\"\",Rallye!D194<>\"Section\"),($Q42-I$10),)","v":"00:00:00"},{"$f":"IF(AND(Rallye!D194<>\"\",Rallye!D194<>\"Section\"),($Q42-J$10),)","v":"00:00:00"},{"$f":"IF(AND(Rallye!D194<>\"\",Rallye!D194<>\"Section\"),($Q42-K$10),)","v":"00:00:00"},{"$f":"IF(AND(Rallye!D194<>\"\",Rallye!D194<>\"Section\"),($Q42-L$10),)","v":"00:00:00"},{"$f":"IF(AND(Rallye!D194<>\"\",Rallye!D194<>\"Section\"),($Q42-M$10),)","v":"00:00:00"},{"$f":"IF(AND(Rallye!D194<>\"\",Rallye!D194<>\"Section\"),($Q42-N$10),)","v":"00:00:00"},{"$f":"IF(AND(Rallye!D194<>\"\",Rallye!D194<>\"Section\"),($Q42-O$10),)","v":"00:00:00"},{"$f":"Rallye!F193","v":"00:00:00"},{"$f":"IF(P42>0,IF(OR(Rallye!D194<>\"\",Rallye!D194<>\"Section\"),Q41+P42,),Q41)","v":"00:00:00"},{"$f":"IF(AND(Rallye!D194<>\"\",Rallye!D194<>\"Section\"),Q42+$R$10,)","v":"00:00:00"},{"$f":"IF(AND(Rallye!D194<>\"\",Rallye!D194<>\"Section\"),R42+$S$10,)","v":"00:00:00"}]
[null,{"$f":"Rallye!B195","v":0},{"$f":"Rallye!C195","v":0},{"$f":"Rallye!D195","v":0},{"$f":"IF(AND(Rallye!D195<>\"\",Rallye!D195<>\"Section\"),($Q43-E$10),)","v":"00:00:00"},{"$f":"IF(AND(Rallye!D195<>\"\",Rallye!D195<>\"Section\"),($Q43-F$10),)","v":"00:00:00"},{"$f":"IF(AND(Rallye!D195<>\"\",Rallye!D195<>\"Section\"),($Q43-G$10),)","v":"00:00:00"},{"$f":"IF(AND(Rallye!D195<>\"\",Rallye!D195<>\"Section\"),($Q43-H$10),)","v":"00:00:00"},{"$f":"IF(AND(Rallye!D195<>\"\",Rallye!D195<>\"Section\"),($Q43-I$10),)","v":"00:00:00"},{"$f":"IF(AND(Rallye!D195<>\"\",Rallye!D195<>\"Section\"),($Q43-J$10),)","v":"00:00:00"},{"$f":"IF(AND(Rallye!D195<>\"\",Rallye!D195<>\"Section\"),($Q43-K$10),)","v":"00:00:00"},{"$f":"IF(AND(Rallye!D195<>\"\",Rallye!D195<>\"Section\"),($Q43-L$10),)","v":"00:00:00"},{"$f":"IF(AND(Rallye!D195<>\"\",Rallye!D195<>\"Section\"),($Q43-M$10),)","v":"00:00:00"},{"$f":"IF(AND(Rallye!D195<>\"\",Rallye!D195<>\"Section\"),($Q43-N$10),)","v":"00:00:00"},{"$f":"IF(AND(Rallye!D195<>\"\",Rallye!D195<>\"Section\"),($Q43-O$10),)","v":"00:00:00"},{"$f":"Rallye!F194","v":"00:00:00"},{"$f":"IF(P43>0,IF(OR(Rallye!D195<>\"\",Rallye!D195<>\"Section\"),Q42+P43,),Q42)","v":"00:00:00"},{"$f":"IF(AND(Rallye!D195<>\"\",Rallye!D195<>\"Section\"),Q43+$R$10,)","v":"00:00:00"},{"$f":"IF(AND(Rallye!D195<>\"\",Rallye!D195<>\"Section\"),R43+$S$10,)","v":"00:00:00"}]
[null,{"$f":"Rallye!B196","v":0},{"$f":"Rallye!C196","v":0},{"$f":"Rallye!D196","v":0},{"$f":"IF(AND(Rallye!D196<>\"\",Rallye!D196<>\"Section\"),($Q44-E$10),)","v":"00:00:00"},{"$f":"IF(AND(Rallye!D196<>\"\",Rallye!D196<>\"Section\"),($Q44-F$10),)","v":"00:00:00"},{"$f":"IF(AND(Rallye!D196<>\"\",Rallye!D196<>\"Section\"),($Q44-G$10),)","v":"00:00:00"},{"$f":"IF(AND(Rallye!D196<>\"\",Rallye!D196<>\"Section\"),($Q44-H$10),)","v":"00:00:00"},{"$f":"IF(AND(Rallye!D196<>\"\",Rallye!D196<>\"Section\"),($Q44-I$10),)","v":"00:00:00"},{"$f":"IF(AND(Rallye!D196<>\"\",Rallye!D196<>\"Section\"),($Q44-J$10),)","v":"00:00:00"},{"$f":"IF(AND(Rallye!D196<>\"\",Rallye!D196<>\"Section\"),($Q44-K$10),)","v":"00:00:00"},{"$f":"IF(AND(Rallye!D196<>\"\",Rallye!D196<>\"Section\"),($Q44-L$10),)","v":"00:00:00"},{"$f":"IF(AND(Rallye!D196<>\"\",Rallye!D196<>\"Section\"),($Q44-M$10),)","v":"00:00:00"},{"$f":"IF(AND(Rallye!D196<>\"\",Rallye!D196<>\"Section\"),($Q44-N$10),)","v":"00:00:00"},{"$f":"IF(AND(Rallye!D196<>\"\",Rallye!D196<>\"Section\"),($Q44-O$10),)","v":"00:00:00"},{"$f":"Rallye!F195","v":"00:00:00"},{"$f":"IF(P44>0,IF(OR(Rallye!D196<>\"\",Rallye!D196<>\"Section\"),Q43+P44,),Q43)","v":"00:00:00"},{"$f":"IF(AND(Rallye!D196<>\"\",Rallye!D196<>\"Section\"),Q44+$R$10,)","v":"00:00:00"},{"$f":"IF(AND(Rallye!D196<>\"\",Rallye!D196<>\"Section\"),R44+$S$10,)","v":"00:00:00"}]
[null,{"$f":"Rallye!B197","v":0},{"$f":"Rallye!C197","v":0},{"$f":"Rallye!D197","v":0},{"$f":"IF(AND(Rallye!D197<>\"\",Rallye!D197<>\"Section\"),($Q45-E$10),)","v":"00:00:00"},{"$f":"IF(AND(Rallye!D197<>\"\",Rallye!D197<>\"Section\"),($Q45-F$10),)","v":"00:00:00"},{"$f":"IF(AND(Rallye!D197<>\"\",Rallye!D197<>\"Section\"),($Q45-G$10),)","v":"00:00:00"},{"$f":"IF(AND(Rallye!D197<>\"\",Rallye!D197<>\"Section\"),($Q45-H$10),)","v":"00:00:00"},{"$f":"IF(AND(Rallye!D197<>\"\",Rallye!D197<>\"Section\"),($Q45-I$10),)","v":"00:00:00"},{"$f":"IF(AND(Rallye!D197<>\"\",Rallye!D197<>\"Section\"),($Q45-J$10),)","v":"00:00:00"},{"$f":"IF(AND(Rallye!D197<>\"\",Rallye!D197<>\"Section\"),($Q45-K$10),)","v":"00:00:00"},{"$f":"IF(AND(Rallye!D197<>\"\",Rallye!D197<>\"Section\"),($Q45-L$10),)","v":"00:00:00"},{"$f":"IF(AND(Rallye!D197<>\"\",Rallye!D197<>\"Section\"),($Q45-M$10),)","v":"00:00:00"},{"$f":"IF(AND(Rallye!D197<>\"\",Rallye!D197<>\"Section\"),($Q45-N$10),)","v":"00:00:00"},{"$f":"IF(AND(Rallye!D197<>\"\",Rallye!D197<>\"Section\"),($Q45-O$10),)","v":"00:00:00"},{"$f":"Rallye!F196","v":"00:00:00"},{"$f":"IF(P45>0,IF(OR(Rallye!D197<>\"\",Rallye!D197<>\"Section\"),Q44+P45,),Q44)","v":"00:00:00"},{"$f":"IF(AND(Rallye!D197<>\"\",Rallye!D197<>\"Section\"),Q45+$R$10,)","v":"00:00:00"},{"$f":"IF(AND(Rallye!D197<>\"\",Rallye!D197<>\"Section\"),R45+$S$10,)","v":"00:00:00"}]
[null,{"$f":"Rallye!B198","v":0},{"$f":"Rallye!C198","v":0},{"$f":"Rallye!D198","v":0},{"$f":"IF(AND(Rallye!D198<>\"\",Rallye!D198<>\"Section\"),($Q46-E$10),)","v":"00:00:00"},{"$f":"IF(AND(Rallye!D198<>\"\",Rallye!D198<>\"Section\"),($Q46-F$10),)","v":"00:00:00"},{"$f":"IF(AND(Rallye!D198<>\"\",Rallye!D198<>\"Section\"),($Q46-G$10),)","v":"00:00:00"},{"$f":"IF(AND(Rallye!D198<>\"\",Rallye!D198<>\"Section\"),($Q46-H$10),)","v":"00:00:00"},{"$f":"IF(AND(Rallye!D198<>\"\",Rallye!D198<>\"Section\"),($Q46-I$10),)","v":"00:00:00"},{"$f":"IF(AND(Rallye!D198<>\"\",Rallye!D198<>\"Section\"),($Q46-J$10),)","v":"00:00:00"},{"$f":"IF(AND(Rallye!D198<>\"\",Rallye!D198<>\"Section\"),($Q46-K$10),)","v":"00:00:00"},{"$f":"IF(AND(Rallye!D198<>\"\",Rallye!D198<>\"Section\"),($Q46-L$10),)","v":"00:00:00"},{"$f":"IF(AND(Rallye!D198<>\"\",Rallye!D198<>\"Section\"),($Q46-M$10),)","v":"00:00:00"},{"$f":"IF(AND(Rallye!D198<>\"\",Rallye!D198<>\"Section\"),($Q46-N$10),)","v":"00:00:00"},{"$f":"IF(AND(Rallye!D198<>\"\",Rallye!D198<>\"Section\"),($Q46-O$10),)","v":"00:00:00"},{"$f":"Rallye!F197","v":"00:00:00"},{"$f":"IF(P46>0,IF(OR(Rallye!D198<>\"\",Rallye!D198<>\"Section\"),Q45+P46,),Q45)","v":"00:00:00"},{"$f":"IF(AND(Rallye!D198<>\"\",Rallye!D198<>\"Section\"),Q46+$R$10,)","v":"00:00:00"},{"$f":"IF(AND(Rallye!D198<>\"\",Rallye!D198<>\"Section\"),R46+$S$10,)","v":"00:00:00"}]
[null,{"$f":"Rallye!B199","v":0},{"$f":"Rallye!C199","v":0},{"$f":"Rallye!D199","v":0},{"$f":"IF(AND(Rallye!D199<>\"\",Rallye!D199<>\"Section\"),($Q47-E$10),)","v":"00:00:00"},{"$f":"IF(AND(Rallye!D199<>\"\",Rallye!D199<>\"Section\"),($Q47-F$10),)","v":"00:00:00"},{"$f":"IF(AND(Rallye!D199<>\"\",Rallye!D199<>\"Section\"),($Q47-G$10),)","v":"00:00:00"},{"$f":"IF(AND(Rallye!D199<>\"\",Rallye!D199<>\"Section\"),($Q47-H$10),)","v":"00:00:00"},{"$f":"IF(AND(Rallye!D199<>\"\",Rallye!D199<>\"Section\"),($Q47-I$10),)","v":"00:00:00"},{"$f":"IF(AND(Rallye!D199<>\"\",Rallye!D199<>\"Section\"),($Q47-J$10),)","v":"00:00:00"},{"$f":"IF(AND(Rallye!D199<>\"\",Rallye!D199<>\"Section\"),($Q47-K$10),)","v":"00:00:00"},{"$f":"IF(AND(Rallye!D199<>\"\",Rallye!D199<>\"Section\"),($Q47-L$10),)","v":"00:00:00"},{"$f":"IF(AND(Rallye!D199<>\"\",Rallye!D199<>\"Section\"),($Q47-M$10),)","v":"00:00:00"},{"$f":"IF(AND(Rallye!D199<>\"\",Rallye!D199<>\"Section\"),($Q47-N$10),)","v":"00:00:00"},{"$f":"IF(AND(Rallye!D199<>\"\",Rallye!D199<>\"Section\"),($Q47-O$10),)","v":"00:00:00"},{"$f":"Rallye!F198","v":"00:00:00"},{"$f":"IF(P47>0,IF(OR(Rallye!D199<>\"\",Rallye!D199<>\"Section\"),Q46+P47,),Q46)","v":"00:00:00"},{"$f":"IF(AND(Rallye!D199<>\"\",Rallye!D199<>\"Section\"),Q47+$R$10,)","v":"00:00:00"},{"$f":"IF(AND(Rallye!D199<>\"\",Rallye!D199<>\"Section\"),R47+$S$10,)","v":"00:00:00"}]
[null,{"$f":"Rallye!B200","v":0},{"$f":"Rallye!C200","v":0},{"$f":"Rallye!D200","v":0},{"$f":"IF(AND(Rallye!D200<>\"\",Rallye!D200<>\"Section\"),($Q48-E$10),)","v":"00:00:00"},{"$f":"IF(AND(Rallye!D200<>\"\",Rallye!D200<>\"Section\"),($Q48-F$10),)","v":"00:00:00"},{"$f":"IF(AND(Rallye!D200<>\"\",Rallye!D200<>\"Section\"),($Q48-G$10),)","v":"00:00:00"},{"$f":"IF(AND(Rallye!D200<>\"\",Rallye!D200<>\"Section\"),($Q48-H$10),)","v":"00:00:00"},{"$f":"IF(AND(Rallye!D200<>\"\",Rallye!D200<>\"Section\"),($Q48-I$10),)","v":"00:00:00"},{"$f":"IF(AND(Rallye!D200<>\"\",Rallye!D200<>\"Section\"),($Q48-J$10),)","v":"00:00:00"},{"$f":"IF(AND(Rallye!D200<>\"\",Rallye!D200<>\"Section\"),($Q48-K$10),)","v":"00:00:00"},{"$f":"IF(AND(Rallye!D200<>\"\",Rallye!D200<>\"Section\"),($Q48-L$10),)","v":"00:00:00"},{"$f":"IF(AND(Rallye!D200<>\"\",Rallye!D200<>\"Section\"),($Q48-M$10),)","v":"00:00:00"},{"$f":"IF(AND(Rallye!D200<>\"\",Rallye!D200<>\"Section\"),($Q48-N$10),)","v":"00:00:00"},{"$f":"IF(AND(Rallye!D200<>\"\",Rallye!D200<>\"Section\"),($Q48-O$10),)","v":"00:00:00"},{"$f":"Rallye!F199","v":"00:00:00"},{"$f":"IF(P48>0,IF(OR(Rallye!D200<>\"\",Rallye!D200<>\"Section\"),Q47+P48,),Q47)","v":"00:00:00"},{"$f":"IF(AND(Rallye!D200<>\"\",Rallye!D200<>\"Section\"),Q48+$R$10,)","v":"00:00:00"},{"$f":"IF(AND(Rallye!D200<>\"\",Rallye!D200<>\"Section\"),R48+$S$10,)","v":"00:00:00"}]
[null,{"$f":"Rallye!B201","v":0},{"$f":"Rallye!C201","v":0},{"$f":"Rallye!D201","v":0},{"$f":"IF(AND(Rallye!D201<>\"\",Rallye!D201<>\"Section\"),($Q49-E$10),)","v":"00:00:00"},{"$f":"IF(AND(Rallye!D201<>\"\",Rallye!D201<>\"Section\"),($Q49-F$10),)","v":"00:00:00"},{"$f":"IF(AND(Rallye!D201<>\"\",Rallye!D201<>\"Section\"),($Q49-G$10),)","v":"00:00:00"},{"$f":"IF(AND(Rallye!D201<>\"\",Rallye!D201<>\"Section\"),($Q49-H$10),)","v":"00:00:00"},{"$f":"IF(AND(Rallye!D201<>\"\",Rallye!D201<>\"Section\"),($Q49-I$10),)","v":"00:00:00"},{"$f":"IF(AND(Rallye!D201<>\"\",Rallye!D201<>\"Section\"),($Q49-J$10),)","v":"00:00:00"},{"$f":"IF(AND(Rallye!D201<>\"\",Rallye!D201<>\"Section\"),($Q49-K$10),)","v":"00:00:00"},{"$f":"IF(AND(Rallye!D201<>\"\",Rallye!D201<>\"Section\"),($Q49-L$10),)","v":"00:00:00"},{"$f":"IF(AND(Rallye!D201<>\"\",Rallye!D201<>\"Section\"),($Q49-M$10),)","v":"00:00:00"},{"$f":"IF(AND(Rallye!D201<>\"\",Rallye!D201<>\"Section\"),($Q49-N$10),)","v":"00:00:00"},{"$f":"IF(AND(Rallye!D201<>\"\",Rallye!D201<>\"Section\"),($Q49-O$10),)","v":"00:00:00"},{"$f":"Rallye!F200","v":"00:00:00"},{"$f":"IF(P49>0,IF(OR(Rallye!D201<>\"\",Rallye!D201<>\"Section\"),Q48+P49,),Q48)","v":"00:00:00"},{"$f":"IF(AND(Rallye!D201<>\"\",Rallye!D201<>\"Section\"),Q49+$R$10,)","v":"00:00:00"},{"$f":"IF(AND(Rallye!D201<>\"\",Rallye!D201<>\"Section\"),R49+$S$10,)","v":"00:00:00"}]
[null,{"$f":"Rallye!B202","v":0},{"$f":"Rallye!C202","v":0},{"$f":"Rallye!D202","v":0},{"$f":"IF(AND(Rallye!D202<>\"\",Rallye!D202<>\"Section\"),($Q50-E$10),)","v":"00:00:00"},{"$f":"IF(AND(Rallye!D202<>\"\",Rallye!D202<>\"Section\"),($Q50-F$10),)","v":"00:00:00"},{"$f":"IF(AND(Rallye!D202<>\"\",Rallye!D202<>\"Section\"),($Q50-G$10),)","v":"00:00:00"},{"$f":"IF(AND(Rallye!D202<>\"\",Rallye!D202<>\"Section\"),($Q50-H$10),)","v":"00:00:00"},{"$f":"IF(AND(Rallye!D202<>\"\",Rallye!D202<>\"Section\"),($Q50-I$10),)","v":"00:00:00"},{"$f":"IF(AND(Rallye!D202<>\"\",Rallye!D202<>\"Section\"),($Q50-J$10),)","v":"00:00:00"},{"$f":"IF(AND(Rallye!D202<>\"\",Rallye!D202<>\"Section\"),($Q50-K$10),)","v":"00:00:00"},{"$f":"IF(AND(Rallye!D202<>\"\",Rallye!D202<>\"Section\"),($Q50-L$10),)","v":"00:00:00"},{"$f":"IF(AND(Rallye!D202<>\"\",Rallye!D202<>\"Section\"),($Q50-M$10),)","v":"00:00:00"},{"$f":"IF(AND(Rallye!D202<>\"\",Rallye!D202<>\"Section\"),($Q50-N$10),)","v":"00:00:00"},{"$f":"IF(AND(Rallye!D202<>\"\",Rallye!D202<>\"Section\"),($Q50-O$10),)","v":"00:00:00"},{"$f":"Rallye!F201","v":"00:00:00"},{"$f":"IF(P50>0,IF(OR(Rallye!D202<>\"\",Rallye!D202<>\"Section\"),Q49+P50,),Q49)","v":"00:00:00"},{"$f":"IF(AND(Rallye!D202<>\"\",Rallye!D202<>\"Section\"),Q50+$R$10,)","v":"00:00:00"},{"$f":"IF(AND(Rallye!D202<>\"\",Rallye!D202<>\"Section\"),R50+$S$10,)","v":"00:00:00"}]
[null,{"$f":"Rallye!B203","v":0},{"$f":"Rallye!C203","v":0},{"$f":"Rallye!D203","v":0},{"$f":"IF(AND(Rallye!D203<>\"\",Rallye!D203<>\"Section\"),($Q51-E$10),)","v":"00:00:00"},{"$f":"IF(AND(Rallye!D203<>\"\",Rallye!D203<>\"Section\"),($Q51-F$10),)","v":"00:00:00"},{"$f":"IF(AND(Rallye!D203<>\"\",Rallye!D203<>\"Section\"),($Q51-G$10),)","v":"00:00:00"},{"$f":"IF(AND(Rallye!D203<>\"\",Rallye!D203<>\"Section\"),($Q51-H$10),)","v":"00:00:00"},{"$f":"IF(AND(Rallye!D203<>\"\",Rallye!D203<>\"Section\"),($Q51-I$10),)","v":"00:00:00"},{"$f":"IF(AND(Rallye!D203<>\"\",Rallye!D203<>\"Section\"),($Q51-J$10),)","v":"00:00:00"},{"$f":"IF(AND(Rallye!D203<>\"\",Rallye!D203<>\"Section\"),($Q51-K$10),)","v":"00:00:00"},{"$f":"IF(AND(Rallye!D203<>\"\",Rallye!D203<>\"Section\"),($Q51-L$10),)","v":"00:00:00"},{"$f":"IF(AND(Rallye!D203<>\"\",Rallye!D203<>\"Section\"),($Q51-M$10),)","v":"00:00:00"},{"$f":"IF(AND(Rallye!D203<>\"\",Rallye!D203<>\"Section\"),($Q51-N$10),)","v":"00:00:00"},{"$f":"IF(AND(Rallye!D203<>\"\",Rallye!D203<>\"Section\"),($Q51-O$10),)","v":"00:00:00"},{"$f":"Rallye!F202","v":"00:00:00"},{"$f":"IF(P51>0,IF(OR(Rallye!D203<>\"\",Rallye!D203<>\"Section\"),Q50+P51,),Q50)","v":"00:00:00"},{"$f":"IF(AND(Rallye!D203<>\"\",Rallye!D203<>\"Section\"),Q51+$R$10,)","v":"00:00:00"},{"$f":"IF(AND(Rallye!D203<>\"\",Rallye!D203<>\"Section\"),R51+$S$10,)","v":"00:00:00"}]
[null,{"$f":"Rallye!B204","v":0},{"$f":"Rallye!C204","v":0},{"$f":"Rallye!D204","v":0},{"$f":"IF(AND(Rallye!D204<>\"\",Rallye!D204<>\"Section\"),($Q52-E$10),)","v":"00:00:00"},{"$f":"IF(AND(Rallye!D204<>\"\",Rallye!D204<>\"Section\"),($Q52-F$10),)","v":"00:00:00"},{"$f":"IF(AND(Rallye!D204<>\"\",Rallye!D204<>\"Section\"),($Q52-G$10),)","v":"00:00:00"},{"$f":"IF(AND(Rallye!D204<>\"\",Rallye!D204<>\"Section\"),($Q52-H$10),)","v":"00:00:00"},{"$f":"IF(AND(Rallye!D204<>\"\",Rallye!D204<>\"Section\"),($Q52-I$10),)","v":"00:00:00"},{"$f":"IF(AND(Rallye!D204<>\"\",Rallye!D204<>\"Section\"),($Q52-J$10),)","v":"00:00:00"},{"$f":"IF(AND(Rallye!D204<>\"\",Rallye!D204<>\"Section\"),($Q52-K$10),)","v":"00:00:00"},{"$f":"IF(AND(Rallye!D204<>\"\",Rallye!D204<>\"Section\"),($Q52-L$10),)","v":"00:00:00"},{"$f":"IF(AND(Rallye!D204<>\"\",Rallye!D204<>\"Section\"),($Q52-M$10),)","v":"00:00:00"},{"$f":"IF(AND(Rallye!D204<>\"\",Rallye!D204<>\"Section\"),($Q52-N$10),)","v":"00:00:00"},{"$f":"IF(AND(Rallye!D204<>\"\",Rallye!D204<>\"Section\"),($Q52-O$10),)","v":"00:00:00"},{"$f":"Rallye!F203","v":"00:00:00"},{"$f":"IF(P52>0,IF(OR(Rallye!D204<>\"\",Rallye!D204<>\"Section\"),Q51+P52,),Q51)","v":"00:00:00"},{"$f":"IF(AND(Rallye!D204<>\"\",Rallye!D204<>\"Section\"),Q52+$R$10,)","v":"00:00:00"},{"$f":"IF(AND(Rallye!D204<>\"\",Rallye!D204<>\"Section\"),R52+$S$10,)","v":"00:00:00"}]
[null,{"$f":"Rallye!B205","v":0},{"$f":"Rallye!C205","v":0},{"$f":"Rallye!D205","v":0},{"$f":"IF(AND(Rallye!D205<>\"\",Rallye!D205<>\"Section\"),($Q53-E$10),)","v":"00:00:00"},{"$f":"IF(AND(Rallye!D205<>\"\",Rallye!D205<>\"Section\"),($Q53-F$10),)","v":"00:00:00"},{"$f":"IF(AND(Rallye!D205<>\"\",Rallye!D205<>\"Section\"),($Q53-G$10),)","v":"00:00:00"},{"$f":"IF(AND(Rallye!D205<>\"\",Rallye!D205<>\"Section\"),($Q53-H$10),)","v":"00:00:00"},{"$f":"IF(AND(Rallye!D205<>\"\",Rallye!D205<>\"Section\"),($Q53-I$10),)","v":"00:00:00"},{"$f":"IF(AND(Rallye!D205<>\"\",Rallye!D205<>\"Section\"),($Q53-J$10),)","v":"00:00:00"},{"$f":"IF(AND(Rallye!D205<>\"\",Rallye!D205<>\"Section\"),($Q53-K$10),)","v":"00:00:00"},{"$f":"IF(AND(Rallye!D205<>\"\",Rallye!D205<>\"Section\"),($Q53-L$10),)","v":"00:00:00"},{"$f":"IF(AND(Rallye!D205<>\"\",Rallye!D205<>\"Section\"),($Q53-M$10),)","v":"00:00:00"},{"$f":"IF(AND(Rallye!D205<>\"\",Rallye!D205<>\"Section\"),($Q53-N$10),)","v":"00:00:00"},{"$f":"IF(AND(Rallye!D205<>\"\",Rallye!D205<>\"Section\"),($Q53-O$10),)","v":"00:00:00"},{"$f":"Rallye!F204","v":"00:00:00"},{"$f":"IF(P53>0,IF(OR(Rallye!D205<>\"\",Rallye!D205<>\"Section\"),Q52+P53,),Q52)","v":"00:00:00"},{"$f":"IF(AND(Rallye!D205<>\"\",Rallye!D205<>\"Section\"),Q53+$R$10,)","v":"00:00:00"},{"$f":"IF(AND(Rallye!D205<>\"\",Rallye!D205<>\"Section\"),R53+$S$10,)","v":"00:00:00"}]
[null,{"$f":"Rallye!B206","v":0},{"$f":"Rallye!C206","v":0},{"$f":"Rallye!D206","v":0},{"$f":"IF(AND(Rallye!D206<>\"\",Rallye!D206<>\"Section\"),($Q54-E$10),)","v":"00:00:00"},{"$f":"IF(AND(Rallye!D206<>\"\",Rallye!D206<>\"Section\"),($Q54-F$10),)","v":"00:00:00"},{"$f":"IF(AND(Rallye!D206<>\"\",Rallye!D206<>\"Section\"),($Q54-G$10),)","v":"00:00:00"},{"$f":"IF(AND(Rallye!D206<>\"\",Rallye!D206<>\"Section\"),($Q54-H$10),)","v":"00:00:00"},{"$f":"IF(AND(Rallye!D206<>\"\",Rallye!D206<>\"Section\"),($Q54-I$10),)","v":"00:00:00"},{"$f":"IF(AND(Rallye!D206<>\"\",Rallye!D206<>\"Section\"),($Q54-J$10),)","v":"00:00:00"},{"$f":"IF(AND(Rallye!D206<>\"\",Rallye!D206<>\"Section\"),($Q54-K$10),)","v":"00:00:00"},{"$f":"IF(AND(Rallye!D206<>\"\",Rallye!D206<>\"Section\"),($Q54-L$10),)","v":"00:00:00"},{"$f":"IF(AND(Rallye!D206<>\"\",Rallye!D206<>\"Section\"),($Q54-M$10),)","v":"00:00:00"},{"$f":"IF(AND(Rallye!D206<>\"\",Rallye!D206<>\"Section\"),($Q54-N$10),)","v":"00:00:00"},{"$f":"IF(AND(Rallye!D206<>\"\",Rallye!D206<>\"Section\"),($Q54-O$10),)","v":"00:00:00"},{"$f":"Rallye!F205","v":"00:00:00"},{"$f":"IF(P54>0,IF(OR(Rallye!D206<>\"\",Rallye!D206<>\"Section\"),Q53+P54,),Q53)","v":"00:00:00"},{"$f":"IF(AND(Rallye!D206<>\"\",Rallye!D206<>\"Section\"),Q54+$R$10,)","v":"00:00:00"},{"$f":"IF(AND(Rallye!D206<>\"\",Rallye!D206<>\"Section\"),R54+$S$10,)","v":"00:00:00"}]
[null,{"$f":"Rallye!B207","v":0},{"$f":"Rallye!C207","v":0},{"$f":"Rallye!D207","v":0},{"$f":"IF(AND(Rallye!D207<>\"\",Rallye!D207<>\"Section\"),($Q55-E$10),)","v":"00:00:00"},{"$f":"IF(AND(Rallye!D207<>\"\",Rallye!D207<>\"Section\"),($Q55-F$10),)","v":"00:00:00"},{"$f":"IF(AND(Rallye!D207<>\"\",Rallye!D207<>\"Section\"),($Q55-G$10),)","v":"00:00:00"},{"$f":"IF(AND(Rallye!D207<>\"\",Rallye!D207<>\"Section\"),($Q55-H$10),)","v":"00:00:00"},{"$f":"IF(AND(Rallye!D207<>\"\",Rallye!D207<>\"Section\"),($Q55-I$10),)","v":"00:00:00"},{"$f":"IF(AND(Rallye!D207<>\"\",Rallye!D207<>\"Section\"),($Q55-J$10),)","v":"00:00:00"},{"$f":"IF(AND(Rallye!D207<>\"\",Rallye!D207<>\"Section\"),($Q55-K$10),)","v":"00:00:00"},{"$f":"IF(AND(Rallye!D207<>\"\",Rallye!D207<>\"Section\"),($Q55-L$10),)","v":"00:00:00"},{"$f":"IF(AND(Rallye!D207<>\"\",Rallye!D207<>\"Section\"),($Q55-M$10),)","v":"00:00:00"},{"$f":"IF(AND(Rallye!D207<>\"\",Rallye!D207<>\"Section\"),($Q55-N$10),)","v":"00:00:00"},{"$f":"IF(AND(Rallye!D207<>\"\",Rallye!D207<>\"Section\"),($Q55-O$10),)","v":"00:00:00"},{"$f":"Rallye!F206","v":"00:00:00"},{"$f":"IF(P55>0,IF(OR(Rallye!D207<>\"\",Rallye!D207<>\"Section\"),Q54+P55,),Q54)","v":"00:00:00"},{"$f":"IF(AND(Rallye!D207<>\"\",Rallye!D207<>\"Section\"),Q55+$R$10,)","v":"00:00:00"},{"$f":"IF(AND(Rallye!D207<>\"\",Rallye!D207<>\"Section\"),R55+$S$10,)","v":"00:00:00"}]
[null,{"$f":"Rallye!B208","v":0},{"$f":"Rallye!C208","v":0},{"$f":"Rallye!D208","v":0},{"$f":"IF(AND(Rallye!D208<>\"\",Rallye!D208<>\"Section\"),($Q56-E$10),)","v":"00:00:00"},{"$f":"IF(AND(Rallye!D208<>\"\",Rallye!D208<>\"Section\"),($Q56-F$10),)","v":"00:00:00"},{"$f":"IF(AND(Rallye!D208<>\"\",Rallye!D208<>\"Section\"),($Q56-G$10),)","v":"00:00:00"},{"$f":"IF(AND(Rallye!D208<>\"\",Rallye!D208<>\"Section\"),($Q56-H$10),)","v":"00:00:00"},{"$f":"IF(AND(Rallye!D208<>\"\",Rallye!D208<>\"Section\"),($Q56-I$10),)","v":"00:00:00"},{"$f":"IF(AND(Rallye!D208<>\"\",Rallye!D208<>\"Section\"),($Q56-J$10),)","v":"00:00:00"},{"$f":"IF(AND(Rallye!D208<>\"\",Rallye!D208<>\"Section\"),($Q56-K$10),)","v":"00:00:00"},{"$f":"IF(AND(Rallye!D208<>\"\",Rallye!D208<>\"Section\"),($Q56-L$10),)","v":"00:00:00"},{"$f":"IF(AND(Rallye!D208<>\"\",Rallye!D208<>\"Section\"),($Q56-M$10),)","v":"00:00:00"},{"$f":"IF(AND(Rallye!D208<>\"\",Rallye!D208<>\"Section\"),($Q56-N$10),)","v":"00:00:00"},{"$f":"IF(AND(Rallye!D208<>\"\",Rallye!D208<>\"Section\"),($Q56-O$10),)","v":"00:00:00"},{"$f":"Rallye!F207","v":"00:00:00"},{"$f":"IF(P56>0,IF(OR(Rallye!D208<>\"\",Rallye!D208<>\"Section\"),Q55+P56,),Q55)","v":"00:00:00"},{"$f":"IF(AND(Rallye!D208<>\"\",Rallye!D208<>\"Section\"),Q56+$R$10,)","v":"00:00:00"},{"$f":"IF(AND(Rallye!D208<>\"\",Rallye!D208<>\"Section\"),R56+$S$10,)","v":"00:00:00"}]
[null,{"$f":"Rallye!B209","v":0},{"$f":"Rallye!C209","v":0},{"$f":"Rallye!D209","v":0},{"$f":"IF(AND(Rallye!D209<>\"\",Rallye!D209<>\"Section\"),($Q57-E$10),)","v":"00:00:00"},{"$f":"IF(AND(Rallye!D209<>\"\",Rallye!D209<>\"Section\"),($Q57-F$10),)","v":"00:00:00"},{"$f":"IF(AND(Rallye!D209<>\"\",Rallye!D209<>\"Section\"),($Q57-G$10),)","v":"00:00:00"},{"$f":"IF(AND(Rallye!D209<>\"\",Rallye!D209<>\"Section\"),($Q57-H$10),)","v":"00:00:00"},{"$f":"IF(AND(Rallye!D209<>\"\",Rallye!D209<>\"Section\"),($Q57-I$10),)","v":"00:00:00"},{"$f":"IF(AND(Rallye!D209<>\"\",Rallye!D209<>\"Section\"),($Q57-J$10),)","v":"00:00:00"},{"$f":"IF(AND(Rallye!D209<>\"\",Rallye!D209<>\"Section\"),($Q57-K$10),)","v":"00:00:00"},{"$f":"IF(AND(Rallye!D209<>\"\",Rallye!D209<>\"Section\"),($Q57-L$10),)","v":"00:00:00"},{"$f":"IF(AND(Rallye!D209<>\"\",Rallye!D209<>\"Section\"),($Q57-M$10),)","v":"00:00:00"},{"$f":"IF(AND(Rallye!D209<>\"\",Rallye!D209<>\"Section\"),($Q57-N$10),)","v":"00:00:00"},{"$f":"IF(AND(Rallye!D209<>\"\",Rallye!D209<>\"Section\"),($Q57-O$10),)","v":"00:00:00"},{"$f":"Rallye!F208","v":"00:00:00"},{"$f":"IF(P57>0,IF(OR(Rallye!D209<>\"\",Rallye!D209<>\"Section\"),Q56+P57,),Q56)","v":"00:00:00"},{"$f":"IF(AND(Rallye!D209<>\"\",Rallye!D209<>\"Section\"),Q57+$R$10,)","v":"00:00:00"},{"$f":"IF(AND(Rallye!D209<>\"\",Rallye!D209<>\"Section\"),R57+$S$10,)","v":"00:00:00"}]
[null,{"$f":"Rallye!B210","v":0},{"$f":"Rallye!C210","v":0},{"$f":"Rallye!D210","v":0},{"$f":"IF(AND(Rallye!D210<>\"\",Rallye!D210<>\"Section\"),($Q58-E$10),)","v":"00:00:00"},{"$f":"IF(AND(Rallye!D210<>\"\",Rallye!D210<>\"Section\"),($Q58-F$10),)","v":"00:00:00"},{"$f":"IF(AND(Rallye!D210<>\"\",Rallye!D210<>\"Section\"),($Q58-G$10),)","v":"00:00:00"},{"$f":"IF(AND(Rallye!D210<>\"\",Rallye!D210<>\"Section\"),($Q58-H$10),)","v":"00:00:00"},{"$f":"IF(AND(Rallye!D210<>\"\",Rallye!D210<>\"Section\"),($Q58-I$10),)","v":"00:00:00"},{"$f":"IF(AND(Rallye!D210<>\"\",Rallye!D210<>\"Section\"),($Q58-J$10),)","v":"00:00:00"},{"$f":"IF(AND(Rallye!D210<>\"\",Rallye!D210<>\"Section\"),($Q58-K$10),)","v":"00:00:00"},{"$f":"IF(AND(Rallye!D210<>\"\",Rallye!D210<>\"Section\"),($Q58-L$10),)","v":"00:00:00"},{"$f":"IF(AND(Rallye!D210<>\"\",Rallye!D210<>\"Section\"),($Q58-M$10),)","v":"00:00:00"},{"$f":"IF(AND(Rallye!D210<>\"\",Rallye!D210<>\"Section\"),($Q58-N$10),)","v":"00:00:00"},{"$f":"IF(AND(Rallye!D210<>\"\",Rallye!D210<>\"Section\"),($Q58-O$10),)","v":"00:00:00"},{"$f":"Rallye!F209","v":"00:00:00"},{"$f":"IF(P58>0,IF(OR(Rallye!D210<>\"\",Rallye!D210<>\"Section\"),Q57+P58,),Q57)","v":"00:00:00"},{"$f":"IF(AND(Rallye!D210<>\"\",Rallye!D210<>\"Section\"),Q58+$R$10,)","v":"00:00:00"},{"$f":"IF(AND(Rallye!D210<>\"\",Rallye!D210<>\"Section\"),R58+$S$10,)","v":"00:00:00"}]

{"sheet":"Etap1","index":9,"n_rows":68,"n_cols":23,"rows_kept":68,"cut":false,"hidden":false,"merged":[[67,9,67,11],[57,12,57,13],[57,14,57,16],[8,18,8,19],[9,18,10,19],[9,8,10,13],[58,14,58,16],[9,23,10,23],[9,22,10,22],[56,3,56,5],[8,8,8,17],[9,14,10,17],[9,20,10,21],[9,6,10,6],[7,19,7,21],[1,7,1,9],[3,0,3,2],[9,5,10,5],[4,14,6,19],[7,14,7,18],[6,3,6,13],[4,3,5,13],[9,0,9,1],[1,10,1,12],[8,3,8,5],[8,0,8,1],[57,8,57,11],[6,0,6,2],[10,0,10,1],[7,0,7,2],[5,0,5,2],[4,0,4,2],[57,2,57,6],[64,0,64,2],[60,2,60,21],[61,2,61,21],[62,2,62,21],[11,0,11,2],[59,3,59,6],[60,0,60,1],[59,8,59,9],[58,8,58,11],[58,12,58,13],[58,3,58,6]]}
[]
[null,null,null,null,null,null,null,"Document n° :"]
[]
[{"$f":"Rallye!E10","v":"16ème Rallye du PAYS de St-YRIEX"}]
[{"$f":"Rallye!E50","v":"2018-09-15"},null,null,"RAPPORT DE LA DIRECTION DE COURSE ",null,null,null,null,null,null,null,null,null,null,{"$f":"Intro!K3","v":43450.393981712965}]
[{"$f":"Rallye!E14","v":"LRSA Nouvelle Aquitaine Sud"}]
[{"$f":"Rallye!E19","v":"ASA Saint Martial"},null,null,{"$f":"Rallye!E48","v":"1ère Etape  Sections  1 - 2"}]
[{"$f":"Rallye!E21","v":"Championnat de France 2ème Div"},null,null,null,null,null,null,null,null,null,null,null,null,null,"Durée Estimée E.S. =",null,null,null,null,{"$f":"TIME(0,ABS(G57),0)","v":"00:57:00"}]
["POSTE",null,null,"1ère voiture",null,null,"En course","Nbre","Abandons"]
["DE",null,"Lieu","Heure","Heure","Retard 1er",{"$f":"Verifs_mod!K71+Verifs_VHC!I38+Verifs_TT!K49","v":69},null,"Mécanique",null,null,null,null,null,"Sortie de Route",null,null,null,"H.C.",null,"R.P.",null,"Heure Dernier"]
["CONTROLE",null,null,"théorique","réelle"]
["Décalage du aux VHCs  ",null,null,"00:19:00"]
[null,{"$f":"Rallye!C54","v":"1ère"},{"$f":"Rallye!D54","v":"Section"}]
[{"$f":"Rallye!B55","v":"C.H. :"},{"$f":"Rallye!C55","v":"0"},{"$f":"Rallye!D55","v":"Sortie Parc Départ"},{"$f":"Rallye!E55+$D$12","v":"14:59:00"},"14:59:00",{"$f":"IF(AND(E14<>\"XXX\",E14<>\"X\",E14>0,E14>D14),E14-D14,)","v":"00:00:00"},{"$f":"IF(E14=\"\",0,G10-H14)","v":69},{"$f":"COUNT(I14:V14)","v":0},null,null,null,null,null,null,null,null,null,null,null,null,null,null,{"$f":"IF(AND(E14<>\"X\",E14<>\"XXX\",E14<>\"\"),(E14+(TIME(0,ABS(G14)-1,0)+TAJT_Etp_1)),0)","v":"17:31:00"}]
[{"$f":"Rallye!B56","v":"C.H. :"},{"$f":"Rallye!C56","v":"0A"},{"$f":"Rallye!D56","v":"Entrée Assist (Stade St Yriex)"},{"$f":"Rallye!E56+$D$12","v":"15:04:00"},"15:04:00",{"$f":"IF(AND(E15<>\"XXX\",E15<>\"X\",E15>0,E15>D15),E15-D15,)","v":"00:00:00"},{"$f":"IF(E15=\"\",0,G14-H15)","v":69},{"$f":"COUNT(I15:V15)","v":0},null,null,null,null,null,null,null,null,null,null,null,null,null,null,"17:36:00"]
[{"$f":"Rallye!B57","v":"C.H. :"},{"$f":"Rallye!C57","v":"0B"},{"$f":"Rallye!D57","v":"Sortie Assistance"},{"$f":"Rallye!E57+$D$12","v":"15:19:00"},"15:19:00","00:00:00",68,1,65,null,null,null,null,null,null,null,null,null,null,null,null,null,"17:50:00"]
[{"$f":"Rallye!B58","v":"C.H. :"},{"$f":"Rallye!C58","v":"1"},{"$f":"Rallye!D58","v":"Avant Départ ES 1"},{"$f":"Rallye!E58+$D$12","v":"15:31:00"},"15:31:00","00:00:00",68,0,null,null,null,null,null,null,null,null,null,null,null,null,null,null,"18:02:00"]
[{"$f":"Rallye!B59","v":"Départ E.S. :"},{"$f":"Rallye!C59","v":"1"},{"$f":"Rallye!D59","v":"Le BOCAGE 1 (11,5 Kms)"},{"$f":"Rallye!E59+$D$12","v":"15:34:00"},"15:34:00","00:00:00",68,0,null,null,null,null,null,null,null,null,null,null,null,null,null,null,"18:05:00"]
[{"$f":"Rallye!B60","v":"Arriv. E.S. :"},{"$f":"Rallye!C60","v":"1"},{"$f":"Rallye!D60","v":0},{"$f":"Rallye!E60+$D$12","v":"15:34:00"},"XXX","00:00:00",67,1,null,null,null,null,null,null,6,null,null,null,null,null,null,null,"00:00:00"]
[{"$f":"Rallye!B61","v":"C.H. :"},{"$f":"Rallye!C61","v":"2"},{"$f":"Rallye!D61","v":"Avant Départ ES 2"},{"$f":"Rallye!E61+$D$12","v":"16:14:00"},"16:14:00","00:00:00",67,0,null,null,null,null,null,null,null,null,null,null,null,null,null,null,"18:44:00"]
[{"$f":"Rallye!B62","v":"Départ E.S. :"},{"$f":"Rallye!C62","v":"2"},{"$f":"Rallye!D62","v":"Le TINDEIX 1 (8,75 Kms)"},{"$f":"Rallye!E62+$D$12","v":"16:17:00"},"16:17:00","00:00:00",67,0,null,null,null,null,null,null,null,null,null,null,null,null,null,null,"18:47:00"]
[{"$f":"Rallye!B63","v":"Arriv. E.S. :"},{"$f":"Rallye!C63","v":"2"},{"$f":"Rallye!D63","v":0},{"$f":"Rallye!E63+$D$12","v":"16:17:00"},"XXX","00:00:00",64,3,32,null,null,null,null,null,40,64,null,null,null,null,null,null,"00:00:00"]
[{"$f":"Rallye!B64","v":"C.H. :"},{"$f":"Rallye!C64","v":"3"},{"$f":"Rallye!D64","v":"Avant Départ ES 3"},{"$f":"Rallye!E64+$D$12","v":"16:57:00"},"16:57:00","00:00:00",63,1,50,null,null,null,null,null,null,null,null,null,null,null,null,null,"19:23:00"]
[{"$f":"Rallye!B65","v":"Départ E.S. :"},{"$f":"Rallye!C65","v":"3"},{"$f":"Rallye!D65","v":"Les PALLOUX 1 (10,80 Kms)"},{"$f":"Rallye!E65+$D$12","v":"17:00:00"},"17:50:00","00:50:00",63,0,null,null,null,null,null,null,null,null,null,null,null,null,null,null,"20:16:00"]
[{"$f":"Rallye!B66","v":"Arriv. E.S. :"},{"$f":"Rallye!C66","v":"3"},{"$f":"Rallye!D66","v":0},{"$f":"Rallye!E66+$D$12","v":"17:00:00"},"XXX","00:00:00",62,1,null,null,null,null,null,null,68,null,null,null,null,null,null,null,"00:00:00"]
[{"$f":"Rallye!B67","v":"C.H. :"},{"$f":"Rallye!C67","v":"3A"},{"$f":"Rallye!D67","v":"Entrée Parc Regroup"},{"$f":"Rallye!E67+$D$12","v":"17:30:00"},"18:20:00",{"$f":"IF(AND(E26<>\"XXX\",E26<>\"X\",E26>0,E26>D26),E26-D26,)","v":"00:50:00"},62,0,null,null,null,null,null,null,null,null,null,null,null,null,null,null,"20:45:00"]
[{"$f":"Rallye!B68","v":0},{"$f":"Rallye!C68","v":"2ème"},{"$f":"Rallye!D68","v":"Section"},{"$f":"Rallye!E68+$D$12","v":"17:30:00"},"XXX","00:00:00",62,0,null,null,null,null,null,null,null,null,null,null,null,null,null,null,"00:00:00"]
[{"$f":"Rallye!B69","v":"C.H. :"},{"$f":"Rallye!C69","v":"3B"},{"$f":"Rallye!D69","v":"Sortie Parc Regroup"},{"$f":"Rallye!E69+$D$12","v":"18:40:00"},"18:40:00","00:00:00",62,0,null,null,null,null,null,null,null,null,null,null,null,null,null,null,"21:05:00"]
[{"$f":"Rallye!B70","v":"C.H. :"},{"$f":"Rallye!C70","v":"3C"},{"$f":"Rallye!D70","v":"Entrée Assist (Stade St Yriex)"},{"$f":"Rallye!E70+$D$12","v":"18:45:00"},"18:45:00","00:00:00",61,1,53,null,null,null,null,null,null,null,null,null,null,null,null,null,"21:09:00"]
[{"$f":"Rallye!B71","v":"C.H. :"},{"$f":"Rallye!C71","v":"3D"},{"$f":"Rallye!D71","v":"Sortie Assistance"},{"$f":"Rallye!E71+$D$12","v":"19:15:00"},"19:15:00","00:00:00",60,1,23,null,null,null,null,null,null,null,null,null,null,null,null,null,"21:38:00"]
[{"$f":"Rallye!B72","v":"C.H. :"},{"$f":"Rallye!C72","v":"4"},{"$f":"Rallye!D72","v":"Avant Départ ES 4"},{"$f":"Rallye!E72+$D$12","v":"19:27:00"},"19:27:00","00:00:00",60,0,null,null,null,null,null,null,null,null,null,null,null,null,null,null,"21:50:00"]
[{"$f":"Rallye!B73","v":"Départ E.S. :"},{"$f":"Rallye!C73","v":"4"},{"$f":"Rallye!D73","v":"Le BOCAGE 2 (11,5 Kms)"},{"$f":"Rallye!E73+$D$12","v":"19:30:00"},"19:30:00","00:00:00",60,0,null,null,null,null,null,null,null,null,null,null,null,null,null,null,"21:53:00"]
[{"$f":"Rallye!B74","v":"Arriv. E.S. :"},{"$f":"Rallye!C74","v":"4"},{"$f":"Rallye!D74","v":0},{"$f":"Rallye!E74+$D$12","v":"19:30:00"},"XXX","00:00:00",59,1,48,null,null,null,null,null,null,null,null,null,null,null,null,null,"00:00:00"]
[{"$f":"Rallye!B75","v":"C.H. :"},{"$f":"Rallye!C75","v":"5"},{"$f":"Rallye!D75","v":"Avant Départ ES 5"},{"$f":"Rallye!E75+$D$12","v":"20:10:00"},"20:10:00","00:00:00",58,1,57,null,null,null,null,null,null,null,null,null,null,null,null,null,"22:31:00"]
[{"$f":"Rallye!B76","v":"Départ E.S. :"},{"$f":"Rallye!C76","v":"5"},{"$f":"Rallye!D76","v":"Le TINDEIX 2 (8,75 Kms)"},{"$f":"Rallye!E76+$D$12","v":"20:13:00"},"20:13:00","00:00:00",58,0,null,null,null,null,null,null,null,null,null,null,null,null,null,null,"22:34:00"]
[{"$f":"Rallye!B77","v":"Arriv. E.S. :"},{"$f":"Rallye!C77","v":"5"},{"$f":"Rallye!D77","v":0},{"$f":"Rallye!E77+$D$12","v":"20:13:00"},"XXX","00:00:00",57,1,51,null,null,null,null,null,null,null,null,null,null,null,null,null,"00:00:00"]
[{"$f":"Rallye!B78","v":"C.H. :"},{"$f":"Rallye!C78","v":"6"},{"$f":"Rallye!D78","v":"Avant Départ ES 6"},{"$f":"Rallye!E78+$D$12","v":"20:53:00"},"20:53:00","00:00:00",{"$f":"IF(E37=\"\",0,G36-H37)","v":57},0,null,null,null,null,null,null,null,null,null,null,null,null,null,null,"23:13:00"]
[{"$f":"Rallye!B79","v":"Départ E.S. :"},{"$f":"Rallye!C79","v":"6"},{"$f":"Rallye!D79","v":"Les PALLOUX 2 (10,80 Kms)"},{"$f":"Rallye!E79+$D$12","v":"20:56:00"},"20:56:00","00:00:00",{"$f":"IF(E38=\"\",0,G37-H38)","v":57},0,null,null,null,null,null,null,null,null,null,null,null,null,null,null,"23:16:00"]
[{"$f":"Rallye!B80","v":"Arriv. E.S. :"},{"$f":"Rallye!C80","v":"6"},{"$f":"Rallye!D80","v":0},{"$f":"Rallye!E80+$D$12","v":"20:56:00"},"XXX","00:00:00",57,0,null,null,null,null,null,null,null,null,null,null,null,null,null,null,"00:00:00"]
[{"$f":"Rallye!B81","v":"C.H. :"},{"$f":"Rallye!C81","v":"6A"},{"$f":"Rallye!D81","v":"Entrée Parc Fermé Fin Etape"},{"$f":"Rallye!E81+$D$12","v":"21:26:00"},"21:26:00","00:00:00",57,0,null,null,null,null,null,null,null,null,null,null,null,null,null,null,"23:46:00"]
[{"$f":"Rallye!B82","v":0},{"$f":"Rallye!C82","v":0},{"$f":"Rallye!D82","v":0},{"$f":"Rallye!E82+$D$12","v":"21:26:00"},null,"00:00:00",0,0,null,null,null,null,null,null,null,null,null,null,null,null,null,null,"00:00:00"]
[{"$f":"Rallye!B83","v":0},{"$f":"Rallye!C83","v":0},{"$f":"Rallye!D83","v":0},{"$f":"Rallye!E83+$D$12","v":"21:26:00"},null,"00:00:00",0,0,null,null,null,null,null,null,null,null,null,null,null,null,null,null,"00:00:00"]
[{"$f":"Rallye!B84","v":0},{"$f":"Rallye!C84","v":0},{"$f":"Rallye!D84","v":0},{"$f":"Rallye!E84+$D$12","v":"21:26:00"},null,"00:00:00",0,0,null,null,null,null,null,null,null,null,null,null,null,null,null,null,"00:00:00"]
[{"$f":"Rallye!B85","v":0},{"$f":"Rallye!C85","v":0},{"$f":"Rallye!D85","v":0},{"$f":"Rallye!E85+$D$12","v":"21:26:00"},null,"00:00:00",0,0,null,null,null,null,null,null,null,null,null,null,null,null,null,null,"00:00:00"]
[{"$f":"Rallye!B86","v":0},{"$f":"Rallye!C86","v":0},{"$f":"Rallye!D86","v":0},{"$f":"Rallye!E86+$D$12","v":"21:26:00"},null,"00:00:00",0,0,null,null,null,null,null,null,null,null,null,null,null,null,null,null,"00:00:00"]
[{"$f":"Rallye!B87","v":0},{"$f":"Rallye!C87","v":0},{"$f":"Rallye!D87","v":0},{"$f":"Rallye!E87+$D$12","v":"21:26:00"},null,"00:00:00",0,0,null,null,null,null,null,null,null,null,null,null,null,null,null,null,"00:00:00"]
[{"$f":"Rallye!B88","v":0},{"$f":"Rallye!C88","v":0},{"$f":"Rallye!D88","v":0},{"$f":"Rallye!E88+$D$12","v":"21:26:00"},null,"00:00:00",0,0,null,null,null,null,null,null,null,null,null,null,null,null,null,null,"00:00:00"]
[{"$f":"Rallye!B89","v":0},{"$f":"Rallye!C89","v":0},{"$f":"Rallye!D89","v":0},{"$f":"Rallye!E89+$D$12","v":"21:26:00"},null,"00:00:00",0,0,null,null,null,null,null,null,null,null,null,null,null,null,null,null,"00:00:00"]
[{"$f":"Rallye!B90","v":0},{"$f":"Rallye!C90","v":0},{"$f":"Rallye!D90","v":0},{"$f":"Rallye!E90+$D$12","v":"21:26:00"},null,"00:00:00",0,0,null,null,null,null,null,null,null,null,null,null,null,null,null,null,"00:00:00"]
[{"$f":"Rallye!B91","v":0},{"$f":"Rallye!C91","v":0},{"$f":"Rallye!D91","v":0},{"$f":"Rallye!E91+$D$12","v":"21:26:00"},null,"00:00:00",0,0,null,null,null,null,null,null,null,null,null,null,null,null,null,null,"00:00:00"]
[{"$f":"Rallye!B92","v":0},{"$f":"Rallye!C92","v":0},{"$f":"Rallye!D92","v":0},{"$f":"Rallye!E92+$D$12","v":"21:26:00"},null,"00:00:00",0,0,null,null,null,null,null,null,null,null,null,null,null,null,null,null,"00:00:00"]
[{"$f":"Rallye!B93","v":0},{"$f":"Rallye!C93","v":0},{"$f":"Rallye!D93","v":0},{"$f":"Rallye!E93+$D$12","v":"21:26:00"},null,"00:00:00",0,0,null,null,null,null,null,null,null,null,null,null,null,null,null,null,"00:00:00"]
[{"$f":"Rallye!B94","v":0},{"$f":"Rallye!C94","v":0},{"$f":"Rallye!D94","v":0},{"$f":"Rallye!E94+$D$12","v":"21:26:00"},null,"00:00:00",0,0,null,null,null,null,null,null,null,null,null,null,null,null,null,null,"00:00:00"]
[{"$f":"Rallye!B95","v":0},{"$f":"Rallye!C95","v":0},{"$f":"Rallye!D95","v":0},{"$f":"Rallye!E95+$D$12","v":"21:26:00"},null,"00:00:00",0,0,null,null,null,null,null,null,null,null,null,null,null,null,null,null,"00:00:00"]
[{"$f":"Rallye!B96","v":0},{"$f":"Rallye!C96","v":0},{"$f":"Rallye!D96","v":0},{"$f":"Rallye!E96+$D$12","v":"21:26:00"},null,"00:00:00",0,0,null,null,null,null,null,null,null,null,null,null,null,null,null,null,"00:00:00"]
[{"$f":"Rallye!B97","v":0},{"$f":"Rallye!C97","v":0},{"$f":"Rallye!D97","v":0},{"$f":"Rallye!E97+$D$12","v":"21:26:00"},null,"00:00:00",0,0,null,null,null,null,null,null,null,null,null,null,null,null,null,null,"00:00:00"]
[null,null,null,"En Course",null,null,{"$f":"G10-H58","v":57},null,null,null,null,null,null,null,null,null,null,null,null,null,null,null,{"$f":"IF(AND(E57<>\"X\",E57<>\"XXX\",E57<>\"\"),(E57+X57+(TIME(0,ABS(G57),0)+TAJT_Etp_1)),0)","v":"00:00:00"}]
[null,null,{"$f":"CONCATENATE(\"Abandons \",Rallye!E48)","v":"Abandons 1ère Etape  Sections  1 - 2"},null,null,null,null,{"$f":"SUM(H14:H56)","v":12},"Mécanique :  ",null,null,null,{"$f":"COUNT(I13:N56)","v":8},null,"S.R. :  ",null,null,{"$f":"COUNT(O13:R56)","v":4},"H.C.",{"$f":"COUNT(S14:T56)","v":0},"R.P.",{"$f":"COUNT(U13:V57)","v":0}]
[null,null,null,"Demandes de Rallye 2 : ",null,null,null,{"$f":"M59+R59+T59+V59","v":6},"Mécanique :  ",null,null,null,5,null,"S.R. :  ",null,null,1,"H.C.",null,"R.P."]
[null,null,null,"Reste en Course pour Etape Suivante :  ",null,null,null,{"$f":"G57+H59","v":63}]
["Observations : "]
[]
[]
[]
[{"$f":"Rallye!E17","v":"87500 St-YRIEX La PERCHE"},null,null,null,null,null,null,null,null,null,"Le Directeur de Course"]
["le:",null,{"$f":"Rallye!E50","v":"2018-09-15"}]
["à :",null,{"$f":"NOW()","v":43450.393981712965},null,null,null,null,null,{"$f":"Officiels!K15","v":"LORRE Joseph"}]
[null,null,null,null,null,null,null,null,"Lic :",{"$f":"Officiels!E15","v":"10395"}]

{"sheet":"REtap1","index":10,"n_rows":71,"n_cols":9,"rows_kept":71,"cut":false,"hidden":false,"merged":[[68,4,68,5],[69,6,69,7],[67,4,67,5],[65,1,65,9],[66,1,66,9],[64,1,64,9],[62,1,62,9],[54,2,54,6],[55,2,55,6],[56,2,56,6],[63,1,63,9],[61,1,61,9],[59,1,59,9],[60,1,60,9],[57,1,57,9],[53,2,53,6],[44,2,44,4],[44,5,44,8],[40,2,40,3],[8,5,8,9],[27,2,27,5],[28,3,28,5],[38,2,38,5],[32,3,32,4],[26,1,26,3],[37,2,37,5],[52,2,52,6],[1,7,1,8],[5,5,6,9],[4,1,4,4],[5,1,5,4],[7,5,7,9],[6,1,6,4],[7,1,7,4],[46,1,46,2],[45,4,45,5],[36,2,36,5],[33,2,33,4],[1,5,1,6],[8,3,8,4],[30,2,30,5],[42,2,42,3],[47,2,47,6],[48,2,48,6],[49,2,49,6],[50,2,50,6],[51,2,51,6]]}
[]
[null,null,null,null,null,"Document n° :"]
[]
[]
[null,{"$f":"Rallye!E10","v":"16ème Rallye du PAYS de St-YRIEX"}]
[null,{"$f":"Rallye!E12","v":"15 et 16 Septembre 2018"},null,null,null,"RAPPORT DE LA DIRECTION DE COURSE "]
[null,{"$f":"Rallye!E19","v":"ASA Saint Martial"}]
[null,{"$f":"Rallye!E14","v":"LRSA Nouvelle Aquitaine Sud"},null,null,null,{"$f":"Rallye!E48","v":"1ère Etape  Sections  1 - 2"}]
[null,null,"Permis d'Organisation :",{"$f":"Rallye!E15","v":"N 511 du 3/07/2018"},null,{"$f":"Rallye!E50","v":"2018-09-15"}]
[]
[null,"w Nombre de concurrents admis au départ",null,null,null,null,{"$f":"Verifs_mod!K71+Verifs_VHC!I38+Verifs_TT!K49","v":69}]
[]
[null,"w Premier départ (sortie parc fermé) le",null,null,null,null,{"$f":"Rallye!E50","v":"2018-09-15"},"à :",{"$f":"Etap1!D14","v":"14:59:00"}]
[]
[null,"w N° du 1er concurrent à prendre le départ",null,null,null,null,1]
[]
[null,"w Nombre de concurrents ayant pris le départ",null,null,null,null,{"$f":"Etap1!G14","v":69}]
[]
[null,"w Premier concurrent entré en parc ---",null,null,null,"n° ",1,"à :","21:12:00"]
[]
[null,"w Dernier concurrent entré en parc ---",null,null,null,"n° ",75,"à :","22:33:00"]
[]
[null,"w Nombre de concurrents en parc",null,null,null,null,{"$f":"Etap1!G57","v":57}]
[]
[null,"w Nombre de concurrents classés",null,null,null,null,{"$f":"Etap1!G57","v":57}]
[]
[null,"w Date et Heure d'affichage du classement ",null,null,"de l'Etape 1","le :","2018-09-16","à :",1]
[null,null,"et Ordres et Heures de Départ Etape 2 "]
[null,null,null,"pour   valeur le :",null,null,"2018-09-16","à :",1]
[]
[null,null,"Ø Nombre d’Abandons / Hors Course (Liste Jointe)",null,null,null,{"$f":"Etap1!H58","v":12},"Soit : ",{"$f":"(G31/G11)","v":0.17391304347826086}]
[null,null,null,"Dont :","Mécanique ",null,{"$f":"Etap1!M58","v":8}]
[null,null,null,"Sortie de Route",null,null,{"$f":"Etap1!R58","v":4}]
[null,null,"Hors Course / Hors Temps imparti",null,null,null,{"$f":"Etap1!T58","v":0}]
[null,null,null,null,"Divers",null,{"$f":"Etap1!V58","v":0}]
[]
[null,null,"Ø Demande(s) de Rallye 2 (Liste Jointe)",null,null,null,{"$f":"Etap1!H59","v":6}]
[null,null,"N° : 65 - 32 - 64 - 36 - 48 - 57"]
[null,null,"Ø Nombre de Pénalités en Temps (Liste jointe)"]
[]
[null,null,"Ø Arrêts de Course :",null,1,"Durée :","00:28:00"]
[]
[null,null,"Ø Annulations / Neutralisations :",null,1,"E.S. :",1]
[]
[null,null,"Ø Vérifications techniques en cours d'étape :",null,null,"Concurrents conformes sur les points controlés"]
[]
[null,"Documents Joints :"]
[null,null,"Liste des Pénalisations et Abandons"]
[null,null,"Ordres et Heures de Départ Etape 2"]
[null,null,"Classement provisoire de l'Etape : 1"]
[null,null,"Rapport Commissaire"]
[]
[]
[]
[]
[]
[]
[null,{"$f":"CONCATENATE(\"Commentaires  sur le déroulement de : \",Rallye!E48)","v":"Commentaires  sur le déroulement de : 1ère Etape  Sections  1 - 2"}]
[]
[null,"ES 1 : Suite SR du n°6, Co-pilote : ANDRIEUX Yannick (255744) évacué sur Hôpital de St Yriex pour contrôles. Génés: 7-8-9-10-11-12-15,"]
[null,"Co-Pilote ressorti de l'hôpital sans séquelles,"]
[]
[]
[]
[]
[]
[]
[]
[null,"Fait à : ",{"$f":"Rallye!E17","v":"87500 St-YRIEX La PERCHE"},"le :",{"$f":"NOW()","v":"2018-12-16T09:27:20.020"},null,"Le Directeur de Course"]
[null,null,null,"à :",{"$f":"NOW()","v":43450.393981712965},null,{"$f":"Officiels!K15","v":"LORRE Joseph"}]
[null,null,null,null,null,"Lic :",{"$f":"Officiels!E15","v":"10395"}]

{"sheet":"Etap2","index":11,"n_rows":75,"n_cols":23,"rows_kept":75,"cut":false,"hidden":false,"merged":[[8,23,9,23],[6,18,6,21],[8,18,9,19],[8,20,9,21],[8,22,9,22],[9,0,9,1],[8,8,9,13],[4,0,4,3],[7,0,7,1],[7,8,7,17],[8,5,9,5],[8,0,8,1],[3,16,5,21],[3,0,3,3],[6,13,6,17],[6,0,6,3],[5,0,5,3],[8,14,9,17],[0,7,0,9],[0,10,0,12],[3,4,4,15],[5,4,5,15],[2,0,2,3],[61,3,61,5],[62,8,62,11],[63,3,63,6],[64,3,64,6],[62,12,62,13],[62,2,62,6],[63,8,63,11],[63,12,63,13],[65,3,65,6],[69,2,69,21],[62,14,62,16],[63,14,63,16],[67,0,67,1],[74,10,74,12],[73,9,73,13],[67,2,67,21],[68,2,68,21]]}
[null,null,null,null,null,null,null,"Document n° :"]
[]
[{"$f":"Rallye!E10","v":"16ème Rallye du PAYS de St-YRIEX"}]
[{"$f":"Rallye!E101","v":"2018-09-16"},null,null,null,"RAPPORT DE LA DIRECTION DE COURSE ",null,null,null,null,null,null,null,null,null,null,null,{"$f":"Intro!K3","v":43450.393981712965}]
[{"$f":"Rallye!E14","v":"LRSA Nouvelle Aquitaine Sud"}]
[{"$f":"Rallye!E19","v":"ASA Saint Martial"},null,null,null,{"$f":"Rallye!E99","v":"2ème Etape Sections 3 - 4 - 5"}]
[{"$f":"Rallye!E21","v":"Championnat de France 2ème Div"},null,null,null,null,null,null,null,null,null,null,null,null,"Durée Estimée E.S. =",null,null,null,null,{"$f":"TIME(0,ABS(G62),0)","v":"00:45:00"}]
["POSTE",null,null,"1ère voiture",null,null,"En course","Nbre","Abandons"]
["DE",null,"Lieu","Heure","Heure","Retard/1er","report","report","Mécanique",null,null,null,null,null,"Sortie de Route",null,null,null,"H.C.",null,"R.P.",null,"Heure Dernier"]
["CONTROLE",null,null,"théorique","réelle",null,{"$f":"Etap1!G57+Etap1!H59","v":63},{"$f":"Etap1!H58-Etap1!H59","v":6}]
[null,null,"Décalage du aux VHCs ","00:18:00"]
[{"$f":"Rallye!B105","v":0},{"$f":"Rallye!C105","v":"3ème"},{"$f":"Rallye!D105","v":"Section"},{"$f":"Rallye!E105","v":"00:00:00"},null,null,null,{"$f":"COUNT(I12:Q12)","v":0}]
[{"$f":"Rallye!B106","v":"C.H. :"},{"$f":"Rallye!C106","v":"6B"},{"$f":"Rallye!D106","v":"Sortie Parc Départ"},{"$f":"Rallye!E106+$D$11","v":"07:48:00"},"07:48:00",{"$f":"IF(AND(E13<>\"XXX\",E13<>\"X\",E13>0,E13>D13),E13-D13,)","v":"00:00:00"},{"$f":"IF(E13=\"\",0,G10-H13)","v":57},{"$f":"COUNT(I13:V13)","v":6},64,65,32,36,48,57,null,null,null,null,null,null,null,null,{"$f":"IF(AND(E13<>\"X\",E13<>\"XXX\",E13<>\"\"),(E13+(TIME(0,ABS(G13)-1,0)+TATJ_Etp_2)),0)","v":"09:38:00"}]
[{"$f":"Rallye!B107","v":"C.H. :"},{"$f":"Rallye!C107","v":"6C"},{"$f":"Rallye!D107","v":"Entrée Assist (Stade St Yriex)"},{"$f":"Rallye!E107+$D$11","v":"07:53:00"},"07:53:00",{"$f":"IF(AND(E14<>\"XXX\",E14<>\"X\",E14>0,E14>D14),E14-D14,)","v":"00:00:00"},{"$f":"IF(E14=\"\",0,G13-H14)","v":57},{"$f":"COUNT(I14:V14)","v":0},null,null,null,null,null,null,null,null,null,null,null,null,null,null,"09:43:00"]
[{"$f":"Rallye!B108","v":"C.H. :"},{"$f":"Rallye!C108","v":"6D"},{"$f":"Rallye!D108","v":"Sortie Assistance"},{"$f":"Rallye!E108+$D$11","v":"08:13:00"},"08:13:00","00:00:00",57,0,null,null,null,null,null,null,null,null,null,null,null,null,null,null,"10:03:00"]
[{"$f":"Rallye!B109","v":"C.H. :"},{"$f":"Rallye!C109","v":"7"},{"$f":"Rallye!D109","v":"Avant Départ ES 7"},{"$f":"Rallye!E109+$D$11","v":"08:38:00"},"08:38:00","00:00:00",57,0,null,null,null,null,null,null,null,null,null,null,null,null,null,null,"10:28:00"]
[{"$f":"Rallye!B110","v":"Départ E.S. :"},{"$f":"Rallye!C110","v":"7"},{"$f":"Rallye!D110","v":"La GABIE de la POULE 1 (9 Kms)"},{"$f":"Rallye!E110+$D$11","v":"08:41:00"},"08:41:00","00:00:00",57,0,null,null,null,null,null,null,null,null,null,null,null,null,null,null,"10:31:00"]
[{"$f":"Rallye!B111","v":"Arriv. E.S. :"},{"$f":"Rallye!C111","v":"7"},{"$f":"Rallye!D111","v":0},{"$f":"Rallye!E111+$D$11","v":"08:41:00"},"XXX","00:00:00",55,2,17,39,null,null,null,null,null,null,null,null,null,null,null,null,"00:00:00"]
[{"$f":"Rallye!B112","v":"C.H. :"},{"$f":"Rallye!C112","v":"8"},{"$f":"Rallye!D112","v":"Avant Départ ES 8"},{"$f":"Rallye!E112+$D$11","v":"09:01:00"},"09:01:00","00:00:00",55,0,null,null,null,null,null,null,null,null,null,null,null,null,null,null,"10:49:00"]
[{"$f":"Rallye!B113","v":"Départ E.S. :"},{"$f":"Rallye!C113","v":"8"},{"$f":"Rallye!D113","v":"GLANDON 1 (17,810 Kms)"},{"$f":"Rallye!E113+$D$11","v":"09:04:00"},"09:04:00","00:00:00",55,0,null,null,null,null,null,null,null,null,null,null,null,null,null,null,"10:52:00"]
[{"$f":"Rallye!B114","v":"Arriv. E.S. :"},{"$f":"Rallye!C114","v":"8"},{"$f":"Rallye!D114","v":0},{"$f":"Rallye!E114+$D$11","v":"09:04:00"},"XXX","00:00:00",54,1,null,null,null,null,null,null,33,null,null,null,null,null,null,null,"00:00:00"]
[{"$f":"Rallye!B115","v":"C.H. :"},{"$f":"Rallye!C115","v":"8A"},{"$f":"Rallye!D115","v":"Entrée Parc Regroup"},{"$f":"Rallye!E115+$D$11","v":"09:39:00"},"09:39:00","00:00:00",53,1,null,null,null,null,null,null,null,null,null,null,null,null,8,null,"11:25:00"]
[{"$f":"Rallye!B116","v":0},{"$f":"Rallye!C116","v":"4ème"},{"$f":"Rallye!D116","v":"Section"},{"$f":"Rallye!E116+$D$11","v":"09:39:00"},"XXX","00:00:00",53,0,null,null,null,null,null,null,null,null,null,null,null,null,null,null,"00:00:00"]
[{"$f":"Rallye!B117","v":"C.H. :"},{"$f":"Rallye!C117","v":"8B"},{"$f":"Rallye!D117","v":"Sortie Parc Regroup"},{"$f":"Rallye!E117+$D$11","v":"10:24:00"},"10:24:00","00:00:00",53,0,null,null,null,null,null,null,null,null,null,null,null,null,null,null,"12:10:00"]
[{"$f":"Rallye!B118","v":"C.H. :"},{"$f":"Rallye!C118","v":"8C"},{"$f":"Rallye!D118","v":"Entrée Assist (Stade St Yriex)"},{"$f":"Rallye!E118+$D$11","v":"10:29:00"},"10:29:00","00:00:00",53,0,null,null,null,null,null,null,null,null,null,null,null,null,null,null,"12:15:00"]
[{"$f":"Rallye!B119","v":"C.H. :"},{"$f":"Rallye!C119","v":"8D"},{"$f":"Rallye!D119","v":"Sortie Assistance"},{"$f":"Rallye!E119+$D$11","v":"11:09:00"},"11:09:00","00:00:00",52,1,19,null,null,null,null,null,null,null,null,null,null,null,null,null,"12:54:00"]
[{"$f":"Rallye!B120","v":"C.H. :"},{"$f":"Rallye!C120","v":"9"},{"$f":"Rallye!D120","v":"Avant Départ ES 9"},{"$f":"Rallye!E120+$D$11","v":"11:34:00"},"11:34:00","00:00:00",52,0,null,null,null,null,null,null,null,null,null,null,null,null,null,null,"13:19:00"]
[{"$f":"Rallye!B121","v":"Départ E.S. :"},{"$f":"Rallye!C121","v":"9"},{"$f":"Rallye!D121","v":"La GABIE de la POULE 2 (9 Kms)"},{"$f":"Rallye!E121+$D$11","v":"11:37:00"},"11:37:00","00:00:00",52,0,null,null,null,null,null,null,null,null,null,null,null,null,null,null,"13:22:00"]
[{"$f":"Rallye!B122","v":"Arriv. E.S. :"},{"$f":"Rallye!C122","v":"9"},{"$f":"Rallye!D122","v":0},{"$f":"Rallye!E122+$D$11","v":"11:37:00"},"XXX","00:00:00",51,1,44,null,null,null,null,null,null,null,null,null,null,null,null,null,"00:00:00"]
[{"$f":"Rallye!B123","v":"C.H. :"},{"$f":"Rallye!C123","v":"10"},{"$f":"Rallye!D123","v":"Avant Départ ES 10"},{"$f":"Rallye!E123+$D$11","v":"11:57:00"},"11:57:00","00:00:00",50,1,51,null,null,null,null,null,null,null,null,null,null,null,null,null,"13:40:00"]
[{"$f":"Rallye!B124","v":"Départ E.S. :"},{"$f":"Rallye!C124","v":"10"},{"$f":"Rallye!D124","v":"GLANDON 2 (17,810 Kms)"},{"$f":"Rallye!E124+$D$11","v":"12:00:00"},"12:00:00","00:00:00",50,0,null,null,null,null,null,null,null,null,null,null,null,null,null,null,"13:43:00"]
[{"$f":"Rallye!B125","v":"Arriv. E.S. :"},{"$f":"Rallye!C125","v":"10"},{"$f":"Rallye!D125","v":0},{"$f":"Rallye!E125+$D$11","v":"12:00:00"},"XXX","00:00:00",48,2,29,41,null,null,null,null,null,null,null,null,null,null,null,null,"00:00:00"]
[{"$f":"Rallye!B126","v":"C.H. :"},{"$f":"Rallye!C126","v":"10A"},{"$f":"Rallye!D126","v":"Entrée Parc Regroup"},{"$f":"Rallye!E126+$D$11","v":"12:35:00"},"12:35:00","00:00:00",47,1,12,null,null,null,null,null,null,null,null,null,null,null,null,null,"14:15:00"]
[{"$f":"Rallye!B127","v":0},{"$f":"Rallye!C127","v":"5ème"},{"$f":"Rallye!D127","v":"Section"},{"$f":"Rallye!E127+$D$11","v":"12:35:00"},"XXX","00:00:00",47,0,null,null,null,null,null,null,null,null,null,null,null,null,null,null,"00:00:00"]
[{"$f":"Rallye!B128","v":"C.H. :"},{"$f":"Rallye!C128","v":"10B"},{"$f":"Rallye!D128","v":"Sortie Parc Regroup"},{"$f":"Rallye!E128+$D$11","v":"13:20:00"},"13:20:00","00:00:00",46,1,null,null,null,null,null,null,null,null,null,null,63,null,null,null,"14:59:00"]
[{"$f":"Rallye!B129","v":"C.H. :"},{"$f":"Rallye!C129","v":"10C"},{"$f":"Rallye!D129","v":"Entrée Assist (Stade St Yriex)"},{"$f":"Rallye!E129+$D$11","v":"13:25:00"},"13:25:00","00:00:00",46,0,null,null,null,null,null,null,null,null,null,null,null,null,null,null,"15:04:00"]
[{"$f":"Rallye!B130","v":"C.H. :"},{"$f":"Rallye!C130","v":"10 D"},{"$f":"Rallye!D130","v":"Sortie Assistance"},{"$f":"Rallye!E130+$D$11","v":"14:05:00"},"14:05:00","00:00:00",46,0,null,null,null,null,null,null,null,null,null,null,null,null,null,null,"15:44:00"]
[{"$f":"Rallye!B131","v":"C.H. :"},{"$f":"Rallye!C131","v":"11"},{"$f":"Rallye!D131","v":"Avant Départ ES 11"},{"$f":"Rallye!E131+$D$11","v":"14:30:00"},"14:30:00","00:00:00",46,0,null,null,null,null,null,null,null,null,null,null,null,null,null,null,"16:09:00"]
[{"$f":"Rallye!B132","v":"Départ E.S. :"},{"$f":"Rallye!C132","v":"11"},{"$f":"Rallye!D132","v":"La GABIE de la POULE 3 (9 Kms)"},{"$f":"Rallye!E132+$D$11","v":"14:33:00"},"14:33:00","00:00:00",46,0,null,null,null,null,null,null,null,null,null,null,null,null,null,null,"16:12:00"]
[{"$f":"Rallye!B133","v":"Arriv. E.S. :"},{"$f":"Rallye!C133","v":"11"},{"$f":"Rallye!D133","v":0},{"$f":"Rallye!E133+$D$11","v":"14:33:00"},"XXX","00:00:00",46,0,null,null,null,null,null,null,null,null,null,null,null,null,null,null,"00:00:00"]
[{"$f":"Rallye!B134","v":"C.H. :"},{"$f":"Rallye!C134","v":"12"},{"$f":"Rallye!D134","v":"Avant Départ ES 12"},{"$f":"Rallye!E134+$D$11","v":"14:53:00"},"14:53:00","00:00:00",46,0,null,null,null,null,null,null,null,null,null,null,null,null,null,null,"16:32:00"]
[{"$f":"Rallye!B135","v":"Départ E.S. :"},{"$f":"Rallye!C135","v":"12"},{"$f":"Rallye!D135","v":"GLANDON 3 (17,810 Kms)"},{"$f":"Rallye!E135+$D$11","v":"14:56:00"},"14:56:00","00:00:00",46,0,null,null,null,null,null,null,null,null,null,null,null,null,null,null,"16:35:00"]
[{"$f":"Rallye!B136","v":"Arriv. E.S. :"},{"$f":"Rallye!C136","v":"12"},{"$f":"Rallye!D136","v":0},{"$f":"Rallye!E136+$D$11","v":"14:56:00"},"XXX","00:00:00",45,1,38,null,null,null,null,null,null,null,null,null,null,null,null,null,"00:00:00"]
[{"$f":"Rallye!B137","v":"C.H. :"},{"$f":"Rallye!C137","v":"12A"},{"$f":"Rallye!D137","v":"Entrée Assist (Stade St Yriex)"},{"$f":"Rallye!E137+$D$11","v":"15:31:00"},"15:31:00","00:00:00",45,0,null,null,null,null,null,null,null,null,null,null,null,null,null,null,"17:09:00"]
[{"$f":"Rallye!B138","v":"C.H. :"},{"$f":"Rallye!C138","v":"12B"},{"$f":"Rallye!D138","v":"Sortie Assistance"},{"$f":"Rallye!E138+$D$11","v":"15:41:00"},"15:41:00","00:00:00",45,0,null,null,null,null,null,null,null,null,null,null,null,null,null,null,{"$f":"IF(AND(E45<>\"X\",E45<>\"XXX\",E45<>\"\"),(E45+(TIME(0,ABS(G45)-1,0)+TATJ_Etp_2)),0)","v":"17:19:00"}]
[{"$f":"Rallye!B139","v":"C.H. :"},{"$f":"Rallye!C139","v":"12C"},{"$f":"Rallye!D139","v":"Entrée Parc Fermé d'Arrivée"},{"$f":"Rallye!E139+$D$11","v":"15:46:00"},"15:46:00","00:00:00",45,0,null,null,null,null,null,null,null,null,null,null,null,null,null,null,"17:24:00"]
[{"$f":"Rallye!B140","v":0},{"$f":"Rallye!C140","v":0},{"$f":"Rallye!D140","v":0},{"$f":"Rallye!E140+$D$11","v":"15:46:00"},null,"00:00:00",0,0,null,null,null,null,null,null,null,null,null,null,null,null,null,null,"00:00:00"]
[{"$f":"Rallye!B141","v":0},{"$f":"Rallye!C141","v":0},{"$f":"Rallye!D141","v":0},{"$f":"Rallye!E141+$D$11","v":"15:46:00"},null,"00:00:00",0,0,null,null,null,null,null,null,null,null,null,null,null,null,null,null,"00:00:00"]
[{"$f":"Rallye!B142","v":0},{"$f":"Rallye!C142","v":0},{"$f":"Rallye!D142","v":0},{"$f":"Rallye!E142+$D$11","v":"15:46:00"},null,"00:00:00",0,0,null,null,null,null,null,null,null,null,null,null,null,null,null,null,"00:00:00"]
[{"$f":"Rallye!B143","v":0},{"$f":"Rallye!C143","v":0},{"$f":"Rallye!D143","v":0},{"$f":"Rallye!E143+$D$11","v":"15:46:00"},null,"00:00:00",0,0,null,null,null,null,null,null,null,null,null,null,null,null,null,null,"00:00:00"]
[{"$f":"Rallye!B144","v":0},{"$f":"Rallye!C144","v":0},{"$f":"Rallye!D144","v":0},{"$f":"Rallye!E144+$D$11","v":"15:46:00"},null,"00:00:00",0,0,null,null,null,null,null,null,null,null,null,null,null,null,null,null,"00:00:00"]
[{"$f":"Rallye!B145","v":0},{"$f":"Rallye!C145","v":0},{"$f":"Rallye!D145","v":0},{"$f":"Rallye!E145+$D$11","v":"15:46:00"},null,"00:00:00",0,0,null,null,null,null,null,null,null,null,null,null,null,null,null,null,"00:00:00"]
[{"$f":"Rallye!B146","v":0},{"$f":"Rallye!C146","v":0},{"$f":"Rallye!D146","v":0},{"$f":"Rallye!E146+$D$11","v":"15:46:00"},null,"00:00:00",0,0,null,null,null,null,null,null,null,null,null,null,null,null,null,null,"00:00:00"]
[{"$f":"Rallye!B147","v":0},{"$f":"Rallye!C147","v":0},{"$f":"Rallye!D147","v":0},{"$f":"Rallye!E147+$D$11","v":"15:46:00"},null,"00:00:00",0,0,null,null,null,null,null,null,null,null,null,null,null,null,null,null,"00:00:00"]
[{"$f":"Rallye!B148","v":0},{"$f":"Rallye!C148","v":0},{"$f":"Rallye!D148","v":0},{"$f":"Rallye!E148+$D$11","v":"15:46:00"},null,"00:00:00",0,0,null,null,null,null,null,null,null,null,null,null,null,null,null,null,"00:00:00"]
[{"$f":"Rallye!B149","v":0},{"$f":"Rallye!C149","v":0},{"$f":"Rallye!D149","v":0},{"$f":"Rallye!E149+$D$11","v":"15:46:00"},null,"00:00:00",0,0,null,null,null,null,null,null,null,null,null,null,null,null,null,null,"00:00:00"]
[{"$f":"Rallye!B150","v":0},{"$f":"Rallye!C150","v":0},{"$f":"Rallye!D150","v":0},{"$f":"Rallye!E150+$D$11","v":"15:46:00"},null,"00:00:00",0,0,null,null,null,null,null,null,null,null,null,null,null,null,null,null,"00:00:00"]
[{"$f":"Rallye!B151","v":0},{"$f":"Rallye!C151","v":0},{"$f":"Rallye!D151","v":0},{"$f":"Rallye!E151+$D$11","v":"15:46:00"},null,"00:00:00",0,0,null,null,null,null,null,null,null,null,null,null,null,null,null,null,"00:00:00"]
[{"$f":"Rallye!B152","v":0},{"$f":"Rallye!C152","v":0},{"$f":"Rallye!D152","v":0},{"$f":"Rallye!E152+$D$11","v":"15:46:00"},null,"00:00:00",0,0,null,null,null,null,null,null,null,null,null,null,null,null,null,null,"00:00:00"]
[{"$f":"Rallye!B153","v":0},{"$f":"Rallye!C153","v":0},{"$f":"Rallye!D153","v":0},{"$f":"Rallye!E153+$D$11","v":"15:46:00"},null,"00:00:00",0,0,null,null,null,null,null,null,null,null,null,null,null,null,null,null,"00:00:00"]
[{"$f":"Rallye!B154","v":0},{"$f":"Rallye!C154","v":0},{"$f":"Rallye!D154","v":0},{"$f":"Rallye!E154+$D$11","v":"15:46:00"},null,"00:00:00",0,0,null,null,null,null,null,null,null,null,null,null,null,null,null,null,"00:00:00"]
[null,null,null,"En Course :",null,null,{"$f":"G10-H63","v":45}]
[null,null,{"$f":"CONCATENATE(\"Abandons \",Rallye!E99)","v":"Abandons 2ème Etape Sections 3 - 4 - 5"},null,null,null,null,{"$f":"SUM(H12:H61)","v":18},"Mécanique :  ",null,null,null,{"$f":"COUNT(I12:N61)","v":15},null,"S.R. :  ",null,null,{"$f":"COUNT(O12:R61)","v":1},"H.C.",{"$f":"COUNT(S13:T61)","v":1},"R.P.",{"$f":"COUNTA(U12:V61)","v":1}]
[null,null,null,"Demandes de Rallye 2 :",null,null,null,null,"Mécanique : ",null,null,null,null,null,"S.R. :  ",null,null,null,"H.C.",null,"R.P."]
[null,null,null,"Cumul abandons Rallye :",null,null,null,{"$f":"(H63+Etap1!H58)-Etap1!H59","v":24}]
[null,null,null,"Reste en Course pour Etape suivante :",null,null,null,{"$f":"G62+H64","v":45}]
[]
["Observations :"]
[]
[]
[]
["Fait à :",null,{"$f":"Rallye!E17","v":"87500 St-YRIEX La PERCHE"},null,null,null,null,null,null,"Le Directeur de Course"]
["le :",null,{"$f":"Rallye!E33","v":"2018-09-16"}]
["à :",null,{"$f":"NOW()","v":43450.393981712965},null,null,null,null,null,null,{"$f":"Officiels!K15","v":"LORRE Joseph"}]
[null,null,null,null,null,null,null,null,null,"Lic :",{"$f":"Officiels!E15","v":"10395"}]

{"sheet":"REtap2","index":12,"n_rows":73,"n_cols":9,"rows_kept":73,"cut":false,"hidden":false,"merged":[[42,4,42,5],[40,4,40,5],[36,2,36,5],[33,2,33,4],[7,4,7,9],[38,2,38,5],[8,4,8,9],[26,1,26,3],[32,3,32,4],[8,0,8,1],[8,2,8,3],[28,4,28,5],[5,0,5,3],[6,0,6,3],[27,2,27,5],[1,6,1,7],[5,4,6,8],[30,2,30,5],[7,0,7,3],[4,0,4,3],[71,6,71,7],[52,2,52,5],[54,2,54,5],[69,4,69,5],[59,1,59,9],[60,1,60,9],[62,1,62,9],[67,1,67,9],[63,1,63,9],[66,1,66,9],[46,1,46,2],[53,2,53,5],[48,2,48,5],[44,2,44,4],[44,5,44,8],[47,2,47,5],[65,1,65,9],[49,2,49,5],[50,2,50,5],[51,2,51,5],[64,1,64,9],[55,2,55,5],[57,1,57,9],[61,1,61,9]]}
[]
[null,null,null,null,null,null,"Document n° : "]
[]
[]
[{"$f":"Rallye!E10","v":"16ème Rallye du PAYS de St-YRIEX"}]
[{"$f":"Rallye!E12","v":"15 et 16 Septembre 2018"},null,null,null,"RAPPORT DE LA DIRECTION DE COURSE "]
[{"$f":"Rallye!E14","v":"LRSA Nouvelle Aquitaine Sud"}]
[{"$f":"Rallye!E19","v":"ASA Saint Martial"},null,null,null,{"$f":"Rallye!E99","v":"2ème Etape Sections 3 - 4 - 5"}]
["Permis d'Organisation :",null,{"$f":"Rallye!E15","v":"N 511 du 3/07/2018"},null,{"$f":"Rallye!E101","v":"2018-09-16"}]
[]
[null,"w Nombre de concurrents admis au départ",null,null,null,null,{"$f":"Etap1!G57+Etap1!H59","v":63}]
[]
[null,"w Premier départ (sortie parc fermé) le ",null,null,null,null,{"$f":"Rallye!E101","v":"2018-09-16"},"à : ",{"$f":"Etap2!D13","v":"07:48:00"}]
[]
[null,"w N° du 1er concurrent à prendre le départ",null,null,null,null,1]
[]
[null,"w Nombre de concurrents ayant pris le départ",null,null,null,null,{"$f":"Etap2!G13","v":57}]
[]
[null,"w Premier concurrent entré en parc fermé ---",null,null,null,"n° ",1,"à :","15:45:00"]
[]
[null,"w Dernier concurrent entré en parc fermé ---",null,null,null,"n° ",47,"à :","16:29:00"]
[]
[null,"w Nombre de concurrents en parc fermé",null,null,null,null,{"$f":"Etap2!G62","v":45}]
[]
[null,"w Nombre de concurrents classés",null,null,null,null,{"$f":"Etap2!G62","v":45}]
[]
[null,"w Date et Heure d'affichage du classement",null,null,"de l'Etape","le : ",null,"à :"]
[null,null,"et Ordres et Heures de Départ Etape 3 "]
[null,null,null,null,"Pour valeur le :",null,null,"à :"]
[]
[null,null,"Ø Nombre d’Abandons / Hors Course (Liste Jointe)",null,null,null,{"$f":"Etap2!H63","v":18},"Soit : ",{"$f":"(G31/G11)","v":0.2857142857142857}]
[null,null,null,"Dont :","Mécanique ",null,{"$f":"Etap2!M63","v":15}]
[null,null,null,"Sortie de Route",null,null,{"$f":"Etap2!R63","v":1}]
[null,null,"Hors Course / Hors Temps Imparti",null,null,null,{"$f":"Etap2!T63","v":1}]
[null,null,null,null,"Divers",null,{"$f":"Etap2!V63","v":1}]
[]
[null,null,null,null,null,null,{"$f":"Etap2!H64","v":0}]
[]
[null,null,"Ø Nombre de Pénalités en Temps (Liste jointe)"]
[]
[null,null,null,null,"Arrêts de Course :",null,null,"Durée :"]
[]
[null,null,null,null,"Annulations / Neutralisations :",null,null,"E.S. :"]
[]
[null,null,"Ø Vérifications techniques en cours d'étape :"]
[]
[null,"Documents Joints :"]
[]
[]
[]
[]
[]
[]
[]
[]
[]
[]
[null,{"$f":"CONCATENATE(\"Commentaires  sur le déroulement de : \",Rallye!E99)","v":"Commentaires  sur le déroulement de : 2ème Etape Sections 3 - 4 - 5"}]
[]
[]
[null,"Suite à rapport juge de fait (Article 6.4.7) pénalisation d'une minute pour le concurrent n°75"]
[]
[]
[]
[]
[]
[]
[]
[]
[null,"Fait à : ",{"$f":"Rallye!E17","v":"87500 St-YRIEX La PERCHE"},"le :",{"$f":"NOW()","v":"2018-12-16T09:27:20.020"},null,"Le Directeur de Course"]
[null,null,null,"à :",{"$f":"NOW()","v":43450.393981712965}]
[null,null,null,null,null,null,{"$f":"Officiels!K15","v":"LORRE Joseph"}]
[null,null,null,null,null,"Lic :",{"$f":"Officiels!E15","v":"10395"}]

{"sheet":"Etap3","index":13,"n_rows":75,"n_cols":24,"rows_kept":75,"cut":false,"hidden":false,"merged":[[74,10,74,12],[63,3,63,6],[65,2,65,21],[66,2,66,21],[67,2,67,21],[69,2,69,20],[68,2,68,21],[73,9,73,13],[61,3,61,4],[62,8,62,11],[62,12,62,13],[7,0,7,1],[7,8,7,17],[9,0,9,1],[62,14,62,16],[8,5,9,5],[62,2,62,6],[2,0,2,3],[3,0,3,3],[3,4,4,15],[8,22,9,22],[6,18,6,21],[8,0,8,1],[8,8,9,13],[3,16,5,21],[4,0,4,3],[5,0,5,3],[6,0,6,3],[6,13,6,17],[0,7,0,9],[5,4,5,15],[8,23,9,23],[8,14,9,17],[8,18,9,19],[8,20,9,21],[0,11,0,12]]}
[null,null,null,null,null,null,null,"Document n° :",null,null,"DC #"]
[]
[{"$f":"Rallye!E10","v":"16ème Rallye du PAYS de St-YRIEX"}]
[{"$f":"Rallye!E158","v":"00:00:00"},null,null,null,"RAPPORT DE LA DIRECTION DE COURSE ",null,null,null,null,null,null,null,null,null,null,null,{"$f":"Intro!K3","v":43450.393981712965}]
[{"$f":"Rallye!E14","v":"LRSA Nouvelle Aquitaine Sud"}]
[{"$f":"Rallye!E19","v":"ASA Saint Martial"},null,null,null,{"$f":"Rallye!E156","v":0}]
[{"$f":"Rallye!E21","v":"Championnat de France 2ème Div"},null,null,null,null,null,null,null,null,null,null,null,null,"Durée Estimée E.S. =",null,null,null,null,{"$f":"TIME(0,ABS(G62),0)","v":"00:45:00"}]
["POSTE",null,null,"1ère voiture",null,null,"En course","Nbre","Abandons"]
["DE",null,"Lieu","Heure","Heure","Retard/1er","report","report","Mécanique",null,null,null,null,null,"Sortie de Route",null,null,null,"H.C.",null,"R.P.",null,"Heure Dernier","Retd Cumulé"]
["CONTROLE",null,null,"théorique","réelle",null,{"$f":"Etap2!H66","v":45},{"$f":"Etap2!H64","v":0}]
[null,null,"Décalage du aux VHCs "]
[{"$f":"Rallye!B162","v":0},{"$f":"Rallye!C162","v":"5ème"},{"$f":"Rallye!D162","v":"Section"},null,null,null,null,{"$f":"COUNT(I12:Q12)","v":0}]
[{"$f":"Rallye!B163","v":0},{"$f":"Rallye!C163","v":0},{"$f":"Rallye!D163","v":0},{"$f":"Rallye!E163+$D$11","v":"00:00:00"},null,{"$f":"IF(AND(E13>0,E13<>\"XXX\",E13<>\"X\",E13>D13),E13-D13,)","v":"00:00:00"},{"$f":"IF(E13=\"\",0,G10-H13)","v":0},{"$f":"COUNT(I13:V13)","v":0},null,null,null,null,null,null,null,null,null,null,null,null,null,null,{"$f":"IF(AND(E13<>\"X\",E13<>\"XXX\"),(E13+X13+(TIME(0,ABS(G13),0))),0)","v":"00:00:00"}]
[{"$f":"Rallye!B164","v":0},{"$f":"Rallye!C164","v":0},{"$f":"Rallye!D164","v":0},{"$f":"Rallye!E164+$D$11","v":"00:00:00"},null,{"$f":"IF(AND(E14>0,E14<>\"XXX\",E14<>\"X\",E14>D14),E14-D14,)","v":"00:00:00"},{"$f":"IF(E14=\"\",0,G13-H14)","v":0},{"$f":"COUNT(I14:V14)","v":0},null,null,null,null,null,null,null,null,null,null,null,null,null,null,{"$f":"IF(AND(E14<>\"X\",E14<>\"XXX\"),(E14+X14+(TIME(0,ABS(G14),0))),0)","v":"00:00:00"}]
[{"$f":"Rallye!B165","v":0},{"$f":"Rallye!C165","v":0},{"$f":"Rallye!D165","v":0},{"$f":"Rallye!E165+$D$11","v":"00:00:00"},null,"00:00:00",0,0,null,null,null,null,null,null,null,null,null,null,null,null,null,null,"00:00:00"]
[{"$f":"Rallye!B166","v":0},{"$f":"Rallye!C166","v":0},{"$f":"Rallye!D166","v":0},{"$f":"Rallye!E166+$D$11","v":"00:00:00"},null,"00:00:00",0,0,null,null,null,null,null,null,null,null,null,null,null,null,null,null,"00:00:00"]
[{"$f":"Rallye!B167","v":0},{"$f":"Rallye!C167","v":0},{"$f":"Rallye!D167","v":0},{"$f":"Rallye!E167+$D$11","v":"00:00:00"},null,"00:00:00",0,0,null,null,null,null,null,null,null,null,null,null,null,null,null,null,"00:00:00"]
[{"$f":"Rallye!B168","v":0},{"$f":"Rallye!C168","v":0},{"$f":"Rallye!D168","v":0},{"$f":"Rallye!E168+$D$11","v":"00:00:00"},null,"00:00:00",0,0,null,null,null,null,null,null,null,null,null,null,null,null,null,null,"00:00:00"]
[{"$f":"Rallye!B169","v":0},{"$f":"Rallye!C169","v":0},{"$f":"Rallye!D169","v":0},{"$f":"Rallye!E169+$D$11","v":"00:00:00"},null,"00:00:00",0,0,null,null,null,null,null,null,null,null,null,null,null,null,null,null,"00:00:00"]
[{"$f":"Rallye!B170","v":0},{"$f":"Rallye!C170","v":0},{"$f":"Rallye!D170","v":0},{"$f":"Rallye!E170+$D$11","v":"00:00:00"},null,"00:00:00",0,0,null,null,null,null,null,null,null,null,null,null,null,null,null,null,"00:00:00"]
[{"$f":"Rallye!B171","v":0},{"$f":"Rallye!C171","v":0},{"$f":"Rallye!D171","v":0},{"$f":"Rallye!E171+$D$11","v":"00:00:00"},null,"00:00:00",0,0,null,null,null,null,null,null,null,null,null,null,null,null,null,null,"00:00:00"]
[{"$f":"Rallye!B172","v":0},{"$f":"Rallye!C172","v":0},{"$f":"Rallye!D172","v":0},{"$f":"Rallye!E172+$D$11","v":"00:00:00"},null,"00:00:00",0,0,null,null,null,null,null,null,null,null,null,null,null,null,null,null,"00:00:00"]
[{"$f":"Rallye!B173","v":0},{"$f":"Rallye!C173","v":0},{"$f":"Rallye!D173","v":0},{"$f":"Rallye!E173+$D$11","v":"00:00:00"},null,"00:00:00",0,0,null,null,null,null,null,null,null,null,null,null,null,null,null,null,"00:00:00"]
[{"$f":"Rallye!B174","v":0},{"$f":"Rallye!C174","v":0},{"$f":"Rallye!D174","v":0},{"$f":"Rallye!E174+$D$11","v":"00:00:00"},null,"00:00:00",0,0,null,null,null,null,null,null,null,null,null,null,null,null,null,null,"00:00:00"]
[{"$f":"Rallye!B175","v":0},{"$f":"Rallye!C175","v":0},{"$f":"Rallye!D175","v":0},{"$f":"Rallye!E175+$D$11","v":"00:00:00"},null,"00:00:00",0,0,null,null,null,null,null,null,null,null,null,null,null,null,null,null,"00:00:00"]
[{"$f":"Rallye!B176","v":0},{"$f":"Rallye!C176","v":0},{"$f":"Rallye!D176","v":0},{"$f":"Rallye!E176+$D$11","v":"00:00:00"},null,"00:00:00",0,0,null,null,null,null,null,null,null,null,null,null,null,null,null,null,"00:00:00"]
[{"$f":"Rallye!B177","v":0},{"$f":"Rallye!C177","v":0},{"$f":"Rallye!D177","v":0},{"$f":"Rallye!E177+$D$11","v":"00:00:00"},null,"00:00:00",0,0,null,null,null,null,null,null,null,null,null,null,null,null,null,null,"00:00:00"]
[{"$f":"Rallye!B178","v":0},{"$f":"Rallye!C178","v":0},{"$f":"Rallye!D178","v":0},{"$f":"Rallye!E178+$D$11","v":"00:00:00"},null,"00:00:00",0,0,null,null,null,null,null,null,null,null,null,null,null,null,null,null,"00:00:00"]
[{"$f":"Rallye!B179","v":0},{"$f":"Rallye!C179","v":0},{"$f":"Rallye!D179","v":0},{"$f":"Rallye!E179+$D$11","v":"00:00:00"},null,"00:00:00",0,0,null,null,null,null,null,null,null,null,null,null,null,null,null,null,"00:00:00"]
[{"$f":"Rallye!B180","v":0},{"$f":"Rallye!C180","v":0},{"$f":"Rallye!D180","v":0},{"$f":"Rallye!E180+$D$11","v":"00:00:00"},null,"00:00:00",0,0,null,null,null,null,null,null,null,null,null,null,null,null,null,null,"00:00:00"]
[{"$f":"Rallye!B181","v":0},{"$f":"Rallye!C181","v":0},{"$f":"Rallye!D181","v":0},{"$f":"Rallye!E181+$D$11","v":"00:00:00"},null,"00:00:00",0,0,null,null,null,null,null,null,null,null,null,null,null,null,null,null,"00:00:00"]
[{"$f":"Rallye!B182","v":0},{"$f":"Rallye!C182","v":0},{"$f":"Rallye!D182","v":0},{"$f":"Rallye!E182+$D$11","v":"00:00:00"},null,"00:00:00",0,0,null,null,null,null,null,null,null,null,null,null,null,null,null,null,"00:00:00"]
[{"$f":"Rallye!B183","v":0},{"$f":"Rallye!C183","v":0},{"$f":"Rallye!D183","v":0},{"$f":"Rallye!E183+$D$11","v":"00:00:00"},null,"00:00:00",0,0,null,null,null,null,null,null,null,null,null,null,null,null,null,null,"00:00:00"]
[{"$f":"Rallye!B184","v":0},{"$f":"Rallye!C184","v":0},{"$f":"Rallye!D184","v":0},{"$f":"Rallye!E184+$D$11","v":"00:00:00"},null,"00:00:00",0,0,null,null,null,null,null,null,null,null,null,null,null,null,null,null,"00:00:00"]
[{"$f":"Rallye!B185","v":0},{"$f":"Rallye!C185","v":0},{"$f":"Rallye!D185","v":0},{"$f":"Rallye!E185+$D$11","v":"00:00:00"},null,"00:00:00",0,0,null,null,null,null,null,null,null,null,null,null,null,null,null,null,"00:00:00"]
[{"$f":"Rallye!B186","v":0},{"$f":"Rallye!C186","v":0},{"$f":"Rallye!D186","v":0},{"$f":"Rallye!E186+$D$11","v":"00:00:00"},null,"00:00:00",0,0,null,null,null,null,null,null,null,null,null,null,null,null,null,null,"00:00:00"]
[{"$f":"Rallye!B187","v":0},{"$f":"Rallye!C187","v":0},{"$f":"Rallye!D187","v":0},{"$f":"Rallye!E187+$D$11","v":"00:00:00"},null,"00:00:00",0,0,null,null,null,null,null,null,null,null,null,null,null,null,null,null,"00:00:00"]
[{"$f":"Rallye!B188","v":0},{"$f":"Rallye!C188","v":0},{"$f":"Rallye!D188","v":0},{"$f":"Rallye!E188+$D$11","v":"00:00:00"},null,"00:00:00",0,0,null,null,null,null,null,null,null,null,null,null,null,null,null,null,"00:00:00"]
[{"$f":"Rallye!B189","v":0},{"$f":"Rallye!C189","v":0},{"$f":"Rallye!D189","v":0},{"$f":"Rallye!E189+$D$11","v":"00:00:00"},null,"00:00:00",0,0,null,null,null,null,null,null,null,null,null,null,null,null,null,null,"00:00:00"]
[{"$f":"Rallye!B190","v":0},{"$f":"Rallye!C190","v":0},{"$f":"Rallye!D190","v":0},{"$f":"Rallye!E190+$D$11","v":"00:00:00"},null,"00:00:00",0,0,null,null,null,null,null,null,null,null,null,null,null,null,null,null,"00:00:00"]
[{"$f":"Rallye!B191","v":0},{"$f":"Rallye!C191","v":0},{"$f":"Rallye!D191","v":0},{"$f":"Rallye!E191+$D$11","v":"00:00:00"},null,"00:00:00",0,0,null,null,null,null,null,null,null,null,null,null,null,null,null,null,"00:00:00"]
[{"$f":"Rallye!B192","v":0},{"$f":"Rallye!C192","v":0},{"$f":"Rallye!D192","v":0},{"$f":"Rallye!E192+$D$11","v":"00:00:00"},null,"00:00:00",0,0,null,null,null,null,null,null,null,null,null,null,null,null,null,null,"00:00:00"]
[{"$f":"Rallye!B193","v":0},{"$f":"Rallye!C193","v":0},{"$f":"Rallye!D193","v":0},{"$f":"Rallye!E193+$D$11","v":"00:00:00"},null,"00:00:00",0,0,null,null,null,null,null,null,null,null,null,null,null,null,null,null,"00:00:00"]
[{"$f":"Rallye!B194","v":0},{"$f":"Rallye!C194","v":0},{"$f":"Rallye!D194","v":0},{"$f":"Rallye!E194+$D$11","v":"00:00:00"},null,"00:00:00",0,0,null,null,null,null,null,null,null,null,null,null,null,null,null,null,"00:00:00"]
[{"$f":"Rallye!B195","v":0},{"$f":"Rallye!C195","v":0},{"$f":"Rallye!D195","v":0},{"$f":"Rallye!E195+$D$11","v":"00:00:00"},null,"00:00:00",0,0,null,null,null,null,null,null,null,null,null,null,null,null,null,null,"00:00:00"]
[{"$f":"Rallye!B196","v":0},{"$f":"Rallye!C196","v":0},{"$f":"Rallye!D196","v":0},{"$f":"Rallye!E196+$D$11","v":"00:00:00"},null,"00:00:00",0,0,null,null,null,null,null,null,null,null,null,null,null,null,null,null,"00:00:00"]
[{"$f":"Rallye!B197","v":0},{"$f":"Rallye!C197","v":0},{"$f":"Rallye!D197","v":0},{"$f":"Rallye!E197+$D$11","v":"00:00:00"},null,"00:00:00",0,0,null,null,null,null,null,null,null,null,null,null,null,null,null,null,"00:00:00"]
[{"$f":"Rallye!B198","v":0},{"$f":"Rallye!C198","v":0},{"$f":"Rallye!D198","v":0},{"$f":"Rallye!E198+$D$11","v":"00:00:00"},null,"00:00:00",0,0,null,null,null,null,null,null,null,null,null,null,null,null,null,null,"00:00:00"]
[{"$f":"Rallye!B199","v":0},{"$f":"Rallye!C199","v":0},{"$f":"Rallye!D199","v":0},{"$f":"Rallye!E199+$D$11","v":"00:00:00"},null,"00:00:00",0,0,null,null,null,null,null,null,null,null,null,null,null,null,null,null,"00:00:00"]
[{"$f":"Rallye!B200","v":0},{"$f":"Rallye!C200","v":0},{"$f":"Rallye!D200","v":0},{"$f":"Rallye!E200+$D$11","v":"00:00:00"},null,"00:00:00",0,0,null,null,null,null,null,null,null,null,null,null,null,null,null,null,"00:00:00"]
[{"$f":"Rallye!B201","v":0},{"$f":"Rallye!C201","v":0},{"$f":"Rallye!D201","v":0},{"$f":"Rallye!E201+$D$11","v":"00:00:00"},null,"00:00:00",0,0,null,null,null,null,null,null,null,null,null,null,null,null,null,null,"00:00:00"]
[{"$f":"Rallye!B202","v":0},{"$f":"Rallye!C202","v":0},{"$f":"Rallye!D202","v":0},{"$f":"Rallye!E202+$D$11","v":"00:00:00"},null,"00:00:00",0,0,null,null,null,null,null,null,null,null,null,null,null,null,null,null,"00:00:00"]
[{"$f":"Rallye!B203","v":0},{"$f":"Rallye!C203","v":0},{"$f":"Rallye!D203","v":0},{"$f":"Rallye!E203+$D$11","v":"00:00:00"},null,"00:00:00",0,0,null,null,null,null,null,null,null,null,null,null,null,null,null,null,"00:00:00"]
[{"$f":"Rallye!B204","v":0},{"$f":"Rallye!C204","v":0},{"$f":"Rallye!D204","v":0},{"$f":"Rallye!E204+$D$11","v":"00:00:00"},null,"00:00:00",0,0,null,null,null,null,null,null,null,null,null,null,null,null,null,null,"00:00:00"]
[{"$f":"Rallye!B205","v":0},{"$f":"Rallye!C205","v":0},{"$f":"Rallye!D205","v":0},{"$f":"Rallye!E205+$D$11","v":"00:00:00"},null,"00:00:00",0,0,null,null,null,null,null,null,null,null,null,null,null,null,null,null,"00:00:00"]
[{"$f":"Rallye!B206","v":0},{"$f":"Rallye!C206","v":0},{"$f":"Rallye!D206","v":0},{"$f":"Rallye!E206+$D$11","v":"00:00:00"},null,"00:00:00",0,0,null,null,null,null,null,null,null,null,null,null,null,null,null,null,"00:00:00"]
[{"$f":"Rallye!B207","v":0},{"$f":"Rallye!C207","v":0},{"$f":"Rallye!D207","v":0},{"$f":"Rallye!E207+$D$11","v":"00:00:00"},null,"00:00:00",0,0,null,null,null,null,null,null,null,null,null,null,null,null,null,null,"00:00:00"]
[{"$f":"Rallye!B208","v":0},{"$f":"Rallye!C208","v":0},{"$f":"Rallye!D208","v":0},{"$f":"Rallye!E208+$D$11","v":"00:00:00"},null,"00:00:00",0,0,null,null,null,null,null,null,null,null,null,null,null,null,null,null,"00:00:00"]
[{"$f":"Rallye!B209","v":0},{"$f":"Rallye!C209","v":0},{"$f":"Rallye!D209","v":0},{"$f":"Rallye!E209+$D$11","v":"00:00:00"},null,"00:00:00",0,0,null,null,null,null,null,null,null,null,null,null,null,null,null,null,"00:00:00"]
[{"$f":"Rallye!B210","v":0},{"$f":"Rallye!C210","v":0},{"$f":"Rallye!D210","v":0},{"$f":"Rallye!E210+$D$11","v":"00:00:00"},null,"00:00:00",0,0,null,null,null,null,null,null,null,null,null,null,null,null,null,null,"00:00:00"]
[{"$f":"Rallye!B211","v":0},{"$f":"Rallye!C211","v":0},{"$f":"Rallye!D211","v":0},{"$f":"Rallye!E211+$D$11","v":"00:00:00"},null,"00:00:00",0,0,null,null,null,null,null,null,null,null,null,null,null,null,null,null,"00:00:00"]
[null,null,null,"En Course :",null,null,{"$f":"G10-H63","v":45}]
[null,null,{"$f":"CONCATENATE(\"Abandons \",Rallye!E156)","v":"Abandons "},null,null,null,null,{"$f":"SUM(H12:H61)","v":0},"Mécanique :  ",null,null,null,{"$f":"COUNT(I12:N61)","v":0},null,"S.R. :  ",null,null,{"$f":"COUNT(O12:R61)","v":0},"H.C.",{"$f":"COUNT(S13:T61)","v":0},"R.P.",{"$f":"COUNTA(U12:V61)","v":0}]
[null,null,null,"Cumul abandons Rallye",null,null,null,{"$f":"(Etap1!H58-Etap1!H59)+(Etap2!H63-Etap2!H64)+H63","v":24}]
[]
["Observations :"]
[]
[]
[]
[]
[]
["Fait à :",null,{"$f":"Rallye!E17","v":"87500 St-YRIEX La PERCHE"},null,null,null,null,null,null,"Le Directeur de Course"]
["le :",null,{"$f":"Rallye!E33","v":"2018-09-16"}]
["à :",null,{"$f":"NOW()","v":43450.393981712965},null,null,null,null,null,null,{"$f":"Officiels!K15","v":"LORRE Joseph"}]
[null,null,null,null,null,null,null,null,null,"Lic :",{"$f":"Officiels!E15","v":"10395"}]

{"sheet":"Retap3","index":14,"n_rows":70,"n_cols":9,"rows_kept":70,"cut":false,"hidden":false,"merged":[[66,4,66,5],[46,2,46,5],[68,6,68,7],[56,1,56,9],[57,1,57,9],[58,1,58,9],[59,1,59,9],[60,1,60,9],[62,1,62,9],[63,1,63,9],[64,1,64,9],[37,2,37,5],[44,2,44,5],[61,1,61,9],[47,2,47,5],[48,2,48,5],[49,2,49,5],[50,2,50,5],[51,2,51,5],[52,2,52,5],[1,6,1,7],[4,0,4,3],[5,0,5,3],[5,4,6,8],[6,0,6,3],[54,1,54,9],[43,1,43,2],[7,0,7,3],[35,2,35,5],[36,2,36,4],[7,4,7,8],[28,4,28,5],[30,2,30,5],[32,3,32,4],[33,3,33,4],[45,2,45,5],[39,4,39,5],[41,4,41,5],[8,4,8,8],[26,1,26,3]]}
[]
[null,null,null,null,null,null,"Document n° : "]
[]
[]
[{"$f":"Rallye!E10","v":"16ème Rallye du PAYS de St-YRIEX"}]
[{"$f":"Rallye!E12","v":"15 et 16 Septembre 2018"},null,null,null,"RAPPORT DE LA DIRECTION DE COURSE "]
[{"$f":"Rallye!E14","v":"LRSA Nouvelle Aquitaine Sud"}]
[{"$f":"Rallye!E19","v":"ASA Saint Martial"},null,null,null,{"$f":"Rallye!E156","v":0}]
[null,"Permis d'Organisation :",{"$f":"Rallye!E15","v":"N 511 du 3/07/2018"},null,{"$f":"Rallye!E158","v":"00:00:00"}]
[]
[null,"w Nombre de concurrents admis au départ",null,null,null,null,{"$f":"Etap2!H66","v":45}]
[]
[null,"w Premier départ (sortie parc fermé) le ",null,null,null,null,{"$f":"Rallye!E158","v":"00:00:00"},"à : ",{"$f":"Etap3!D13","v":"00:00:00"}]
[]
[null,"w N° du 1er concurrent à prendre le départ"]
[]
[null,"w Nombre de concurrents ayant pris le départ",null,null,null,null,{"$f":"Etap3!G13","v":0}]
[]
[null,"w Premier concurrent entré en parc fermé --- ",null,null,null,"n° ",null,"à :"]
[]
[null,"w Dernier concurrent entré en parc fermé --- ",null,null,null,"n° ",null,"à :"]
[]
[null,"w Nombre de concurrents en parc fermé",null,null,null,null,{"$f":"Etap3!G62","v":45}]
[]
[null,"w Nombre de concurrents classés",null,null,null,null,{"$f":"Etap3!G62","v":45}]
[]
[null,"w Date et Heure d'affichage du classement",null,null,"du Rallye","le : ",null,"à :"]
[]
[null,null,null,null,"Pour valeur le : ",null,{"$f":"Rallye!E159","v":"00:00:00"},"à :","14:41:00"]
[]
[null,null,"Ø Nombre d’Abandons / Hors Course (Liste Jointe)",null,null,null,{"$f":"Etap3!H63","v":0},"Soit : ",{"$f":"(G31/G11)","v":0}]
[null,null,null,"Dont :","Mécanique ",null,{"$f":"Etap3!M63","v":0}]
[null,null,null,"Sortie de Route",null,null,{"$f":"Etap3!R63","v":0}]
[null,null,null,"Hors Course / Hors Temps imparti",null,null,{"$f":"Etap3!T63","v":0}]
[null,null,null,null,"Divers",null,{"$f":"Etap3!V63","v":0}]
[]
[]
[null,null,"Ø Nombre de Pénalités ( Temps )",null,null,null,null,"liste jointe"]
[]
[null,null,null,null,"Arrêts de Course :",null,null,"Durée :"]
[]
[null,null,null,null,"Annulations / Neutralisations :",null,null,"E.S. :"]
[]
[null,"Documents Joints :"]
[]
[]
[]
[]
[]
[]
[]
[]
[]
[]
[null,{"$f":"CONCATENATE(\"Commentaires  sur le déroulement de : \",Rallye!E156)","v":"Commentaires  sur le déroulement de : "}]
[]
[]
[]
[]
[]
[]
[]
[]
[]
[]
[]
[null,"Fait à : ",{"$f":"Rallye!E17","v":"87500 St-YRIEX La PERCHE"},"le :",{"$f":"Rallye!E158","v":"00:00:00"},null,"Le Directeur de Course"]
[null,null,null,"à :",{"$f":"NOW()","v":43450.393981712965}]
[null,null,null,null,null,null,{"$f":"Officiels!K15","v":"LORRE Joseph"}]
[null,null,null,null,null,"Lic :",{"$f":"Officiels!E15","v":"10395"}]

{"sheet":"Final","index":15,"n_rows":71,"n_cols":11,"rows_kept":71,"cut":false,"hidden":false,"merged":[[69,6,69,8],[67,4,67,5],[58,1,58,10],[61,1,61,10],[59,1,59,10],[62,1,62,10],[64,1,64,10],[60,1,60,10],[65,1,65,10],[63,1,63,10],[57,1,57,10],[49,2,49,5],[56,1,56,10],[55,1,55,10],[53,1,53,6],[51,2,51,5],[52,2,52,5],[43,1,43,2],[42,3,42,10],[17,8,17,11],[9,3,9,4],[40,2,40,3],[19,10,19,11],[21,10,21,11],[30,2,30,5],[40,4,40,7],[39,5,39,11],[32,2,32,6],[28,4,28,5],[46,2,46,5],[48,2,48,5],[50,2,50,5],[44,2,44,5],[45,2,45,5],[47,2,47,5],[36,2,36,5],[41,3,41,10],[1,7,1,8],[7,0,7,4],[6,5,7,11],[8,5,8,11],[8,0,8,4],[38,2,38,4],[38,5,38,11],[4,0,4,4],[5,0,5,4],[6,0,6,4],[37,2,37,4]]}
[]
[null,null,null,null,null,null,null,"Document n° : "]
[]
[]
[{"$f":"Rallye!E10","v":"16ème Rallye du PAYS de St-YRIEX"}]
[{"$f":"Rallye!E12","v":"15 et 16 Septembre 2018"}]
[{"$f":"Rallye!E19","v":"ASA Saint Martial"},null,null,null,null,"RAPPORT DE LA DIRECTION DE COURSE"]
[{"$f":"Rallye!E14","v":"LRSA Nouvelle Aquitaine Sud"}]
[{"$f":"Rallye!E21","v":"Championnat de France 2ème Div"},null,null,null,null,"RAPPORT FINAL DU RALLYE"]
[null,null,"Permis d'Organisation :",{"$f":"Rallye!E15","v":"N 511 du 3/07/2018"}]
[]
[null,"w Nombre de concurrents admis au départ",null,null,null,null,{"$f":"Verifs_mod!K71+Verifs_VHC!I38+Verifs_TT!K49","v":69}]
[]
[null,"w Premier départ (sortie parc Départ ) le :",null,null,null,null,{"$f":"Rallye!E50","v":"2018-09-15"},"à :",{"$f":"Etap1!E14","v":"14:59:00"}]
[]
[null,"w N° du 1er concurrent à prendre le départ",null,null,null,null,1]
[]
[null,"w Nombre de concurrents ayant pris le départ",null,null,null,null,{"$f":"Etap1!G14","v":69}]
[]
[null,"w Premier concurrent entré en parc fermé Final --- ",null,null,null,"n° ",1,"à","15:45:00","le :","2018-09-16"]
[]
[null,"w Dernier concurrent entré en parc fermé Final ---",null,null,null,"n° ",47,"à","16:29:00","le :","2018-09-16"]
[]
[null,"w Nombre de concurrents en parc fermé Final",null,null,null,null,{"$f":"Etap3!G62","v":45}]
[]
[null,"w Nombre de concurrents classés à l'issue du Rallye",null,null,null,null,{"$f":"Etap3!G62","v":45}]
[]
[null,"w Date et Heure d'affichage du classement ",null,null,null,"le : ","2018-09-19","à :","16:45:00"]
[null,null,null,null,"Pour Valeur le :",null,{"$f":"Rallye!E42","v":"2018-09-16"},null,"16:45:00"]
[]
[null,null,"Ø Nombre d’Abandons (Liste Jointe),",null,null,null,{"$f":"(REtap1!G31-REtap1!G37)+(REtap2!G31-REtap2!G37)+Retap3!G31","v":24},"Soit :",{"$f":"(G31/G12)","v":0.34782608695652173}]
[]
[null,null,"Voir Détails sur Rapports Etapes"]
[]
[]
[]
[null,null,"Ø Nombre de Pénalités en Temps (Liste jointe) :",null,null,null,9]
[]
[]
[]
[null,null,"Ø Vérifications finales n° ",null,"1 - 2 - 5"]
[null,null,null,"Tous les concurrents sont conformes sur les points contrôlés"]
[]
[null,"Documents Joints :"]
[null,null,"Rapport Vérifications Techniques en cours d'épreuve "]
[null,null,"Liste des Pénalisations et Abandons"]
[null,null,"Rapport Commissaire"]
[null,null,"Main courante DC "]
[null,null,"Rapport juges de faits"]
[null,null,"Classement Final Provisoire sous réserves"]
[null,null,"Rapport Vérifications Techniques Finales"]
[null,null,"Rapport Médical"]
[]
[null,"Commentaires sur le Déroulement du Rallye :"]
[]
[]
[]
[]
[]
[]
[]
[]
[" "]
[]
[]
[]
[]
[null,"Fait à : ",{"$f":"Rallye!E17","v":"87500 St-YRIEX La PERCHE"},"le :",{"$f":"TODAY()","v":"2018-12-16"},null,"Le Directeur de Course"]
[null,null,null,"à :",{"$f":"NOW()","v":43450.393981712965}]
[null,null,null,null,null,null,{"$f":"Officiels!K15","v":"LORRE Joseph"}]
[null,null,null,null,null,"Lic :",{"$f":"Officiels!E15","v":"10395"}]

{"sheet":"Main-Courante","index":16,"n_rows":10,"n_cols":5,"rows_kept":10,"cut":false,"hidden":false,"merged":[[4,1,4,4],[1,1,1,3],[2,1,2,3]]}
[]
[null,{"$f":"Rallye!E10","v":"16ème Rallye du PAYS de St-YRIEX"},null,null,"E.S. :  "]
[null,{"$f":"Rallye!E12","v":"15 et 16 Septembre 2018"},null,null,"SUIVI   DOCUMENTS P.C."]
[]
[null,"MAIN COURANTE"]
[]
[null,"Heure","N°","LIEU - DEST","Observations"]
[]
[null," "," "]
[null," "," ",null," "]

{"sheet":"Suivi-ES","index":17,"n_rows":49,"n_cols":12,"rows_kept":49,"cut":false,"hidden":false,"merged":[[0,0,0,10],[4,2,4,4],[43,1,43,5],[43,6,43,7],[6,0,6,1],[7,0,7,1],[8,0,8,1],[10,0,10,3],[12,0,12,3],[48,6,48,7],[43,9,43,11],[1,4,1,7],[44,6,44,7],[45,6,45,7],[47,6,47,7],[46,6,46,7],[48,8,48,11]]}
[{"$f":"Rallye!E10","v":"16ème Rallye du PAYS de St-YRIEX"}]
[null,null,null,null,"SUIVI E.S"]
["ES N° :",null," ",null,null,null,null,null,null," ","Km"]
[]
["DC Délégué ES :",null,null,null,null,null,null,null,"Date :"]
[]
["HORAIRES",null,"M.E.P","TRICO","INFO","OOO","OO","O","1° Voit","Dernier","Balai"]
["Théoriques",null,"h","h","h","h","h","h","h"]
["Réels",null,"h","h","h","h","h","h","h","h","h"]
[]
["Nombre de concurrents avant ES :",null,null,null,null,null,null,null,null," "]
[]
["Abandons avant le départ de l' ES    ",null,null,null,null,"N°",null,null," "]
[]
[]
[1,null,null,null,null,null,null,null,null,null,null,10]
[]
[11,null,null,null,null,null,null,null,null,null,null,20]
[]
[21,null,null,null,null,null,null,null,null,null,null,30]
[]
[31,null,null,null,null,null,null,null,null,null,null,40]
[]
[41,null,null,null,null,null,null,null,null,null,null,50]
[]
[51,null,null,null,null,null,null,null,null,null,null,60]
[]
[61,null,null,null,null,null,null,null,null,null,null,70]
[]
[71,null,null,null,null,null,null,null,null,null,null,80]
[]
[81,null,null,null,null,null,null,null,null,null,null,90]
[]
[91,null,null,null,null,null,null,null,null,null,null,100]
[]
[101,null,null,null,null,null,null,null,null,null,null,110]
[]
[111,null,null,null,null,null,null,null,null,null,null,120]
[]
[121,null,null,null,null,null,null,null,null,null,null,130]
[]
[131,null,null,null,null,null,null,null,null,null,null,140]
[]
[null,"ARRET DE COURSE",null,null,null,null,"Suivi d'épreuve",null,"Nombre","N° abandons"]
[null,"N°","Heure","ARRET","Heure","N°"]
[null,null,null,null,null,null,"DEPART   ES"]
[null,null,null,null,null,null,"ABANDONS"]
[null,null,null,null,null,null,"ARRIVEE   ES"]
[null,null,null,null,null,null,"DC Délégué PC :"]

{"sheet":"Péna Etp 1","index":18,"n_rows":61,"n_cols":23,"rows_kept":61,"cut":false,"hidden":false,"merged":[[60,19,60,20],[60,21,60,22],[60,9,60,10],[60,11,60,12],[60,13,60,14],[60,15,60,16],[60,17,60,18],[60,7,60,8],[59,7,59,8],[59,9,59,10],[59,1,59,2],[59,3,59,4],[59,5,59,6],[60,1,60,2],[60,3,60,4],[60,5,60,6],[59,19,59,20],[59,21,59,22],[13,15,13,16],[13,17,13,18],[13,19,13,20],[13,21,13,22],[59,15,59,16],[59,17,59,18],[1,8,1,10],[13,1,13,2],[13,3,13,4],[13,5,13,6],[13,7,13,8],[13,9,13,10],[7,1,7,5],[6,1,6,5],[5,6,5,13],[13,13,13,14],[3,1,3,5],[4,1,4,5],[5,1,5,5],[14,1,14,2],[59,13,59,14],[59,11,59,12],[13,11,13,12],[7,6,7,13]]}
[]
[null,null,null,null,null,null,null,null,"Document n° :"]
[]
[null,{"$f":"Rallye!E10","v":"16ème Rallye du PAYS de St-YRIEX"}]
[null,{"$f":"Rallye!E50","v":"2018-09-15"}]
[null,{"$f":"Rallye!E19","v":"ASA Saint Martial"},null,null,null,null,"Pénalités "]
[null,{"$f":"Rallye!E14","v":"LRSA Nouvelle Aquitaine Sud"}]
[null,{"$f":"Rallye!E21","v":"Championnat de France 2ème Div"},null,null,null,null,{"$f":"Rallye!E48","v":"1ère Etape  Sections  1 - 2"}]
[]
[]
[null,null,null,"CH","DEP",null,"MISE"," 15' par secteur entre 2 CH ou Parc Départ"]
[null,null,"Avance",{"$f":"Rallye!E44","v":"1 mnt"},null,null,"HORS"," 20' par section"]
[null,null,"Retard  ",{"$f":"Rallye!E45","v":"10 s"},{"$f":"Rallye!G44","v":"10 s"},null,"COURSE"," 30' pour l'ensemble du rallye"]
[null,"N° Concurrent :"]
[null,"Point de Contrôle",null,"Motif ","Pénalité","Motif ","Pénalité","Motif ","Pénalité","Motif ","Pénalité","Motif ","Pénalité","Motif ","Pénalité","Motif ","Pénalité","Motif ","Pénalité","Motif ","Pénalité","Motif ","Pénalité"]
[null,{"$f":"Rallye!B55","v":"C.H. :"},{"$f":"Rallye!C55","v":"0"}]
[null,{"$f":"Rallye!B56","v":"C.H. :"},{"$f":"Rallye!C56","v":"0A"}]
[null,{"$f":"Rallye!B57","v":"C.H. :"},{"$f":"Rallye!C57","v":"0B"}]
[null,{"$f":"Rallye!B58","v":"C.H. :"},{"$f":"Rallye!C58","v":"1"}]
[null,{"$f":"Rallye!B59","v":"Départ E.S. :"},{"$f":"Rallye!C59","v":"1"}]
[null,{"$f":"Rallye!B60","v":"Arriv. E.S. :"},{"$f":"Rallye!C60","v":"1"}]
[null,{"$f":"Rallye!B61","v":"C.H. :"},{"$f":"Rallye!C61","v":"2"}]
[null,{"$f":"Rallye!B62","v":"Départ E.S. :"},{"$f":"Rallye!C62","v":"2"}]
[null,{"$f":"Rallye!B63","v":"Arriv. E.S. :"},{"$f":"Rallye!C63","v":"2"}]
[null,{"$f":"Rallye!B64","v":"C.H. :"},{"$f":"Rallye!C64","v":"3"}]
[null,{"$f":"Rallye!B65","v":"Départ E.S. :"},{"$f":"Rallye!C65","v":"3"}]
[null,{"$f":"Rallye!B66","v":"Arriv. E.S. :"},{"$f":"Rallye!C66","v":"3"}]
[null,{"$f":"Rallye!B67","v":"C.H. :"},{"$f":"Rallye!C67","v":"3A"}]
[null,{"$f":"Rallye!B68","v":0},{"$f":"Rallye!C68","v":"2ème"}]
[null,{"$f":"Rallye!B69","v":"C.H. :"},{"$f":"Rallye!C69","v":"3B"}]
[null,{"$f":"Rallye!B70","v":"C.H. :"},{"$f":"Rallye!C70","v":"3C"}]
[null,{"$f":"Rallye!B71","v":"C.H. :"},{"$f":"Rallye!C71","v":"3D"}]
[null,{"$f":"Rallye!B72","v":"C.H. :"},{"$f":"Rallye!C72","v":"4"}]
[null,{"$f":"Rallye!B73","v":"Départ E.S. :"},{"$f":"Rallye!C73","v":"4"}]
[null,{"$f":"Rallye!B74","v":"Arriv. E.S. :"},{"$f":"Rallye!C74","v":"4"}]
[null,{"$f":"Rallye!B75","v":"C.H. :"},{"$f":"Rallye!C75","v":"5"}]
[null,{"$f":"Rallye!B76","v":"Départ E.S. :"},{"$f":"Rallye!C76","v":"5"}]
[null,{"$f":"Rallye!B77","v":"Arriv. E.S. :"},{"$f":"Rallye!C77","v":"5"}]
[null,{"$f":"Rallye!B78","v":"C.H. :"},{"$f":"Rallye!C78","v":"6"}]
[null,{"$f":"Rallye!B79","v":"Départ E.S. :"},{"$f":"Rallye!C79","v":"6"}]
[null,{"$f":"Rallye!B80","v":"Arriv. E.S. :"},{"$f":"Rallye!C80","v":"6"}]
[null,{"$f":"Rallye!B81","v":"C.H. :"},{"$f":"Rallye!C81","v":"6A"}]
[null,{"$f":"Rallye!B82","v":0},{"$f":"Rallye!C82","v":0}]
[null,{"$f":"Rallye!B83","v":0},{"$f":"Rallye!C83","v":0}]
[null,{"$f":"Rallye!B84","v":0},{"$f":"Rallye!C84","v":0}]
[null,{"$f":"Rallye!B85","v":0},{"$f":"Rallye!C85","v":0}]
[null,{"$f":"Rallye!B86","v":0},{"$f":"Rallye!C86","v":0}]
[null,{"$f":"Rallye!B87","v":0},{"$f":"Rallye!C87","v":0}]
[null,{"$f":"Rallye!B88","v":0},{"$f":"Rallye!C88","v":0}]
[null,{"$f":"Rallye!B89","v":0},{"$f":"Rallye!C89","v":0}]
[null,{"$f":"Rallye!B90","v":0},{"$f":"Rallye!C90","v":0}]
[null,{"$f":"Rallye!B91","v":0},{"$f":"Rallye!C91","v":0}]
[null,{"$f":"Rallye!B92","v":0},{"$f":"Rallye!C92","v":0}]
[null,{"$f":"Rallye!B93","v":0},{"$f":"Rallye!C93","v":0}]
[null,{"$f":"Rallye!B94","v":0},{"$f":"Rallye!C94","v":0}]
[null,{"$f":"Rallye!B95","v":0},{"$f":"Rallye!C95","v":0}]
[null,{"$f":"Rallye!B96","v":0},{"$f":"Rallye!C96","v":0}]
[null,{"$f":"Rallye!B97","v":0},{"$f":"Rallye!C97","v":0}]
[null,null,{"$f":"Rallye!C98","v":0}]
[null,"N° Concurrent :",null,{"$f":"D14","v":0},null,{"$f":"F14","v":0},null,{"$f":"H14","v":0},null,{"$f":"J14","v":0},null,{"$f":"L14","v":0},null,{"$f":"N14","v":0},null,{"$f":"P14","v":0},null,{"$f":"R14","v":0},null,{"$f":"T14","v":0},null,{"$f":"V14","v":0}]
[null,"Total Pénalités : ",null,{"$f":"SUM( E16:E59)/(24*3600)","v":"00:00:00"},null,{"$f":"SUM(G16:G59)/(24*3600)","v":"00:00:00"},null,{"$f":"SUM(I16:I59)/(24*3600)","v":"00:00:00"},null,{"$f":"SUM(K16:K59)/(24*3600)","v":"00:00:00"},null,{"$f":"SUM(M16:M59)/(24*3600)","v":"00:00:00"},null,{"$f":"SUM(O16:O59)/(24*3600)","v":"00:00:00"},null,{"$f":"SUM(Q16:Q59)/(24*3600)","v":"00:00:00"},null,{"$f":"SUM(S16:S59)/(24*3600)","v":"00:00:00"},null,{"$f":"SUM(U16:U59)/(24*3600)","v":"00:00:00"},null,{"$f":"SUM(W16:W59)/(24*3600)","v":"00:00:00"}]

{"sheet":"Péna Etp 2","index":19,"n_rows":65,"n_cols":23,"rows_kept":65,"cut":false,"hidden":false,"merged":[[12,21,12,22],[63,21,63,22],[12,19,12,20],[12,17,12,18],[64,11,64,12],[64,13,64,14],[64,21,64,22],[64,17,64,18],[63,19,63,20],[64,19,64,20],[63,17,63,18],[64,15,64,16],[63,15,63,16],[64,1,64,2],[64,3,64,4],[64,5,64,6],[64,7,64,8],[64,9,64,10],[63,7,63,8],[6,7,6,15],[63,9,63,10],[12,11,12,12],[12,13,12,14],[12,15,12,16],[12,7,12,8],[63,11,63,12],[63,13,63,14],[12,9,12,10],[6,1,6,6],[63,5,63,6],[13,1,13,2],[12,1,12,2],[7,1,7,6],[63,1,63,2],[12,3,12,4],[12,5,12,6],[63,3,63,4],[1,12,1,13],[1,9,1,11],[4,7,5,15],[5,1,5,6],[3,1,3,6],[4,1,4,6]]}
[]
[null,null,null,null,null,null,null,null,null,"Document n° :"]
[]
[null,{"$f":"Rallye!E10","v":"16ème Rallye du PAYS de St-YRIEX"}]
[null,{"$f":"Rallye!E101","v":"2018-09-16"},null,null,null,null,null,"Pénalités "]
[null,{"$f":"Rallye!E19","v":"ASA Saint Martial"}]
[null,{"$f":"Rallye!E14","v":"LRSA Nouvelle Aquitaine Sud"},null,null,null,null,null,{"$f":"Rallye!E99","v":"2ème Etape Sections 3 - 4 - 5"}]
[null,{"$f":"Rallye!E21","v":"Championnat de France 2ème Div"}]
[]
[null,null,null,"CH","DEP",null,"MISE"," 15' par secteur entre 2 CH ou Parc Départ"]
[null,null,"Avance",{"$f":"Rallye!E44","v":"1 mnt"},null,null,"HORS"," 20' par section"]
[null,null,"Retard  ",{"$f":"Rallye!E45","v":"10 s"},{"$f":"Rallye!G44","v":"10 s"},null,"COURSE"," 30' pour l'ensemble du rallye"]
[null,"N° Concurrent :",null,67]
[null,"Point de Contrôle",null,"Motif ","Pénalité","Motif ","Pénalité","Motif ","Pénalité","Motif ","Pénalité","Motif ","Pénalité","Motif ","Pénalité","Motif ","Pénalité","Motif ","Pénalité","Motif ","Pénalité","Motif ","Pénalité"]
[null,{"$f":"Rallye!B106","v":"C.H. :"},{"$f":"Rallye!C106","v":"6B"}]
[null,{"$f":"Rallye!B107","v":"C.H. :"},{"$f":"Rallye!C107","v":"6C"}]
[null,{"$f":"Rallye!B108","v":"C.H. :"},{"$f":"Rallye!C108","v":"6D"},"7 mnt Retd",70]
[null,{"$f":"Rallye!B109","v":"C.H. :"},{"$f":"Rallye!C109","v":"7"}]
[null,{"$f":"Rallye!B110","v":"Départ E.S. :"},{"$f":"Rallye!C110","v":"7"}]
[null,{"$f":"Rallye!B111","v":"Arriv. E.S. :"},{"$f":"Rallye!C111","v":"7"}]
[null,{"$f":"Rallye!B112","v":"C.H. :"},{"$f":"Rallye!C112","v":"8"}]
[null,{"$f":"Rallye!B113","v":"Départ E.S. :"},{"$f":"Rallye!C113","v":"8"}]
[null,{"$f":"Rallye!B114","v":"Arriv. E.S. :"},{"$f":"Rallye!C114","v":"8"}]
[null,{"$f":"Rallye!B115","v":"C.H. :"},{"$f":"Rallye!C115","v":"8A"}]
[null,{"$f":"Rallye!B116","v":0},{"$f":"Rallye!C116","v":"4ème"}]
[null,{"$f":"Rallye!B117","v":"C.H. :"},{"$f":"Rallye!C117","v":"8B"}]
[null,{"$f":"Rallye!B118","v":"C.H. :"},{"$f":"Rallye!C118","v":"8C"}]
[null,{"$f":"Rallye!B119","v":"C.H. :"},{"$f":"Rallye!C119","v":"8D"}]
[null,{"$f":"Rallye!B120","v":"C.H. :"},{"$f":"Rallye!C120","v":"9"}]
[null,{"$f":"Rallye!B121","v":"Départ E.S. :"},{"$f":"Rallye!C121","v":"9"}]
[null,{"$f":"Rallye!B122","v":"Arriv. E.S. :"},{"$f":"Rallye!C122","v":"9"}]
[null,{"$f":"Rallye!B123","v":"C.H. :"},{"$f":"Rallye!C123","v":"10"}]
[null,{"$f":"Rallye!B124","v":"Départ E.S. :"},{"$f":"Rallye!C124","v":"10"}]
[null,{"$f":"Rallye!B125","v":"Arriv. E.S. :"},{"$f":"Rallye!C125","v":"10"}]
[null,{"$f":"Rallye!B126","v":"C.H. :"},{"$f":"Rallye!C126","v":"10A"}]
[null,{"$f":"Rallye!B127","v":0},{"$f":"Rallye!C127","v":"5ème"}]
[null,{"$f":"Rallye!B128","v":"C.H. :"},{"$f":"Rallye!C128","v":"10B"}]
[null,{"$f":"Rallye!B129","v":"C.H. :"},{"$f":"Rallye!C129","v":"10C"}]
[null,{"$f":"Rallye!B130","v":"C.H. :"},{"$f":"Rallye!C130","v":"10 D"}]
[null,{"$f":"Rallye!B131","v":"C.H. :"},{"$f":"Rallye!C131","v":"11"}]
[null,{"$f":"Rallye!B132","v":"Départ E.S. :"},{"$f":"Rallye!C132","v":"11"}]
[null,{"$f":"Rallye!B133","v":"Arriv. E.S. :"},{"$f":"Rallye!C133","v":"11"}]
[null,{"$f":"Rallye!B134","v":"C.H. :"},{"$f":"Rallye!C134","v":"12"}]
[null,{"$f":"Rallye!B135","v":"Départ E.S. :"},{"$f":"Rallye!C135","v":"12"}]
[null,{"$f":"Rallye!B136","v":"Arriv. E.S. :"},{"$f":"Rallye!C136","v":"12"}]
[null,{"$f":"Rallye!B137","v":"C.H. :"},{"$f":"Rallye!C137","v":"12A"}]
[null,{"$f":"Rallye!B138","v":"C.H. :"},{"$f":"Rallye!C138","v":"12B"}]
[null,{"$f":"Rallye!B139","v":"C.H. :"},{"$f":"Rallye!C139","v":"12C"}]
[null,{"$f":"Rallye!B140","v":0},{"$f":"Rallye!C140","v":0}]
[null,{"$f":"Rallye!B141","v":0},{"$f":"Rallye!C141","v":0}]
[null,{"$f":"Rallye!B142","v":0},{"$f":"Rallye!C142","v":0}]
[null,{"$f":"Rallye!B143","v":0},{"$f":"Rallye!C143","v":0}]
[null,{"$f":"Rallye!B144","v":0},{"$f":"Rallye!C144","v":0}]
[null,{"$f":"Rallye!B145","v":0},{"$f":"Rallye!C145","v":0}]
[null,{"$f":"Rallye!B146","v":0},{"$f":"Rallye!C146","v":0}]
[null,{"$f":"Rallye!B147","v":0},{"$f":"Rallye!C147","v":0}]
[null,{"$f":"Rallye!B148","v":0},{"$f":"Rallye!C148","v":0}]
[null,{"$f":"Rallye!B149","v":0},{"$f":"Rallye!C149","v":0}]
[null,{"$f":"Rallye!B150","v":0},{"$f":"Rallye!C150","v":0}]
[null,{"$f":"Rallye!B151","v":0},{"$f":"Rallye!C151","v":0}]
[null,{"$f":"Rallye!B152","v":0},{"$f":"Rallye!C152","v":0}]
[null,{"$f":"Rallye!B153","v":0},{"$f":"Rallye!C153","v":0}]
[null,{"$f":"Rallye!B154","v":0},{"$f":"Rallye!C154","v":0}]
[null,"N° Concurrent :",null,{"$f":"D13","v":67},null,{"$f":"F13","v":0},null,{"$f":"H13","v":0},null,{"$f":"J13","v":0},null,{"$f":"L13","v":0},null,{"$f":"N13","v":0},null,{"$f":"P13","v":0},null,{"$f":"R13","v":0},null,{"$f":"T13","v":0},null,{"$f":"V13","v":0}]
[null,"Total Pénalités : ",null,{"$f":"SUM( E15:E63)/(24*3600)","v":"00:01:10"},null,{"$f":"SUM(G15:G63)/(24*3600)","v":"00:00:00"},null,{"$f":"SUM(I15:I63)/(24*3600)","v":"00:00:00"},null,{"$f":"SUM(K15:K63)/(24*3600)","v":"00:00:00"},null,{"$f":"SUM(M15:M63)/(24*3600)","v":"00:00:00"},null,{"$f":"SUM(O15:O63)/(24*3600)","v":"00:00:00"},null,{"$f":"SUM(Q15:Q63)/(24*3600)","v":"00:00:00"},null,{"$f":"SUM(S15:S63)/(24*3600)","v":"00:00:00"},null,{"$f":"SUM(U15:U63)/(24*3600)","v":"00:00:00"},null,{"$f":"SUM(W15:W63)/(24*3600)","v":"00:00:00"}]

{"sheet":"Péna Etp 3","index":20,"n_rows":65,"n_cols":23,"rows_kept":65,"cut":false,"hidden":false,"merged":[[64,7,64,8],[64,9,64,10],[64,19,64,20],[64,11,64,12],[64,13,64,14],[64,15,64,16],[64,17,64,18],[13,1,13,2],[63,1,63,2],[63,3,63,4],[63,5,63,6],[64,1,64,2],[64,3,64,4],[64,5,64,6],[63,19,63,20],[63,7,63,8],[63,11,63,12],[63,13,63,14],[63,15,63,16],[63,9,63,10],[64,21,64,22],[6,1,6,6],[6,7,6,15],[7,1,7,6],[12,1,12,2],[12,3,12,4],[12,5,12,6],[12,7,12,8],[12,9,12,10],[12,11,12,12],[63,21,63,22],[12,15,12,16],[12,17,12,18],[12,19,12,20],[12,21,12,22],[63,17,63,18],[12,13,12,14],[1,9,1,11],[1,12,1,13],[3,1,3,6],[4,1,4,6],[4,7,5,15],[5,1,5,6]]}
[]
[null,null,null,null,null,null,null,null,null,"Document n° :"]
[]
[null,{"$f":"Rallye!E10","v":"16ème Rallye du PAYS de St-YRIEX"}]
[null,{"$f":"Rallye!E158","v":"00:00:00"},null,null,null,null,null,"Pénalités "]
[null,{"$f":"Rallye!E19","v":"ASA Saint Martial"}]
[null,{"$f":"Rallye!E14","v":"LRSA Nouvelle Aquitaine Sud"},null,null,null,null,null,{"$f":"Rallye!E156","v":0}]
[null,{"$f":"Rallye!E21","v":"Championnat de France 2ème Div"}]
[]
[null,null,null,"CH","DEP",null,"MISE"," 15' par secteur entre 2 CH ou Parc Départ"]
[null,null,"Avance",{"$f":"Rallye!E44","v":"1 mnt"},null,null,"HORS"," 20' par section"]
[null,null,"Retard  ",{"$f":"Rallye!E45","v":"10 s"},{"$f":"Rallye!G44","v":"10 s"},null,"COURSE"," 30' pour l'ensemble du rallye"]
[null,"N° Concurrent :"]
[null,"Point de Contrôle",null,"Motif ","Pénalité","Motif ","Pénalité","Motif ","Pénalité","Motif ","Pénalité","Motif ","Pénalité","Motif ","Pénalité","Motif ","Pénalité","Motif ","Pénalité","Motif ","Pénalité","Motif ","Pénalité"]
[null,{"$f":"Rallye!B163","v":0},{"$f":"Rallye!C163","v":0}]
[null,{"$f":"Rallye!B164","v":0},{"$f":"Rallye!C164","v":0}]
[null,{"$f":"Rallye!B165","v":0},{"$f":"Rallye!C165","v":0}]
[null,{"$f":"Rallye!B166","v":0},{"$f":"Rallye!C166","v":0}]
[null,{"$f":"Rallye!B167","v":0},{"$f":"Rallye!C167","v":0}]
[null,{"$f":"Rallye!B168","v":0},{"$f":"Rallye!C168","v":0}]
[null,{"$f":"Rallye!B169","v":0},{"$f":"Rallye!C169","v":0}]
[null,{"$f":"Rallye!B170","v":0},{"$f":"Rallye!C170","v":0}]
[null,{"$f":"Rallye!B171","v":0},{"$f":"Rallye!C171","v":0}]
[null,{"$f":"Rallye!B172","v":0},{"$f":"Rallye!C172","v":0}]
[null,{"$f":"Rallye!B173","v":0},{"$f":"Rallye!C173","v":0}]
[null,{"$f":"Rallye!B174","v":0},{"$f":"Rallye!C174","v":0}]
[null,{"$f":"Rallye!B175","v":0},{"$f":"Rallye!C175","v":0}]
[null,{"$f":"Rallye!B176","v":0},{"$f":"Rallye!C176","v":0}]
[null,{"$f":"Rallye!B177","v":0},{"$f":"Rallye!C177","v":0}]
[null,{"$f":"Rallye!B178","v":0},{"$f":"Rallye!C178","v":0}]
[null,{"$f":"Rallye!B179","v":0},{"$f":"Rallye!C179","v":0}]
[null,{"$f":"Rallye!B180","v":0},{"$f":"Rallye!C180","v":0}]
[null,{"$f":"Rallye!B181","v":0},{"$f":"Rallye!C181","v":0}]
[null,{"$f":"Rallye!B182","v":0},{"$f":"Rallye!C182","v":0}]
[null,{"$f":"Rallye!B183","v":0},{"$f":"Rallye!C183","v":0}]
[null,{"$f":"Rallye!B184","v":0},{"$f":"Rallye!C184","v":0}]
[null,{"$f":"Rallye!B185","v":0},{"$f":"Rallye!C185","v":0}]
[null,{"$f":"Rallye!B186","v":0},{"$f":"Rallye!C186","v":0}]
[null,{"$f":"Rallye!B187","v":0},{"$f":"Rallye!C187","v":0}]
[null,{"$f":"Rallye!B188","v":0},{"$f":"Rallye!C188","v":0}]
[null,{"$f":"Rallye!B189","v":0},{"$f":"Rallye!C189","v":0}]
[null,{"$f":"Rallye!B190","v":0},{"$f":"Rallye!C190","v":0}]
[null,{"$f":"Rallye!B191","v":0},{"$f":"Rallye!C191","v":0}]
[null,{"$f":"Rallye!B192","v":0},{"$f":"Rallye!C192","v":0}]
[null,{"$f":"Rallye!B193","v":0},{"$f":"Rallye!C193","v":0}]
[null,{"$f":"Rallye!B194","v":0},{"$f":"Rallye!C194","v":0}]
[null,{"$f":"Rallye!B195","v":0},{"$f":"Rallye!C195","v":0}]
[null,{"$f":"Rallye!B196","v":0},{"$f":"Rallye!C196","v":0}]
[null,{"$f":"Rallye!B197","v":0},{"$f":"Rallye!C197","v":0}]
[null,{"$f":"Rallye!B198","v":0},{"$f":"Rallye!C198","v":0}]
[null,{"$f":"Rallye!B199","v":0},{"$f":"Rallye!C199","v":0}]
[null,{"$f":"Rallye!B200","v":0},{"$f":"Rallye!C200","v":0}]
[null,{"$f":"Rallye!B201","v":0},{"$f":"Rallye!C201","v":0}]
[null,{"$f":"Rallye!B202","v":0},{"$f":"Rallye!C202","v":0}]
[null,{"$f":"Rallye!B203","v":0},{"$f":"Rallye!C203","v":0}]
[null,{"$f":"Rallye!B204","v":0},{"$f":"Rallye!C204","v":0}]
[null,{"$f":"Rallye!B205","v":0},{"$f":"Rallye!C205","v":0}]
[null,{"$f":"Rallye!B206","v":0},{"$f":"Rallye!C206","v":0}]
[null,{"$f":"Rallye!B207","v":0},{"$f":"Rallye!C207","v":0}]
[null,{"$f":"Rallye!B208","v":0},{"$f":"Rallye!C208","v":0}]
[null,{"$f":"Rallye!B209","v":0},{"$f":"Rallye!C209","v":0}]
[null,{"$f":"Rallye!B210","v":0},{"$f":"Rallye!C210","v":0}]
[null,{"$f":"Rallye!B211","v":0},{"$f":"Rallye!C211","v":0}]
[null,"N° Concurrent :",null,{"$f":"D13","v":0},null,{"$f":"F13","v":0},null,{"$f":"H13","v":0},null,{"$f":"J13","v":0},null,{"$f":"L13","v":0},null,{"$f":"N13","v":0},null,{"$f":"P13","v":0},null,{"$f":"R13","v":0},null,{"$f":"T13","v":0},null,{"$f":"V13","v":0}]
[null,"Total Pénalités : ",null,{"$f":"SUM( E15:E63)/(24*3600)","v":"00:00:00"},null,{"$f":"SUM(G15:G63)/(24*3600)","v":"00:00:00"},null,{"$f":"SUM(I15:I63)/(24*3600)","v":"00:00:00"},null,{"$f":"SUM(K15:K63)/(24*3600)","v":"00:00:00"},null,{"$f":"SUM(M15:M63)/(24*3600)","v":"00:00:00"},null,{"$f":"SUM(O15:O63)/(24*3600)","v":"00:00:00"},null,{"$f":"SUM(Q15:Q63)/(24*3600)","v":"00:00:00"},null,{"$f":"SUM(S15:S63)/(24*3600)","v":"00:00:00"},null,{"$f":"SUM(U15:U63)/(24*3600)","v":"00:00:00"},null,{"$f":"SUM(W15:W63)/(24*3600)","v":"00:00:00"}]

{"sheet":"Fic_Abd","index":21,"n_rows":117,"n_cols":8,"rows_kept":117,"cut":false,"hidden":false,"merged":[[116,6,116,7],[99,6,99,8],[100,6,103,8],[94,2,94,5],[94,6,94,8],[113,1,113,4],[31,6,31,8],[32,0,32,2],[61,2,61,7],[96,0,96,8],[112,1,112,2],[65,0,65,8],[75,3,75,8],[78,1,78,2],[66,0,66,2],[80,4,81,9],[82,1,82,4],[85,6,85,7],[106,1,106,2],[109,1,109,2],[97,0,97,2],[69,6,72,8],[69,1,72,2],[80,1,81,2],[78,3,78,8],[33,0,33,2],[4,0,4,2],[8,7,9,7],[37,7,38,7],[93,2,93,7],[0,2,0,7],[1,2,1,7],[29,2,29,7],[30,2,30,7],[3,0,3,2],[80,3,81,3],[62,2,62,7],[75,1,75,2],[63,2,63,5],[63,6,63,8],[92,2,92,7],[68,6,68,8]]}
[null,null,{"$f":"Rallye!E10","v":"16ème Rallye du PAYS de St-YRIEX"}]
[null,null,{"$f":"Rallye!E11","v":"3ème Rallye VHC du PAYS de St-YRIEX"}]
[null,null,null,null,{"$f":"Rallye!E12","v":"15 et 16 Septembre 2018"},null,null,{"$f":"Rallye!E14","v":"LRSA Nouvelle Aquitaine Sud"}]
[{"$f":"Rallye!E19","v":"ASA Saint Martial"},null,null,null,"A B A N D O N"]
[]
[]
[null,"VEHICULE","N°",null,null,null,null,"HEURE"]
[]
[null,null,null,null,null,null,null,"H"]
[]
[]
[]
["LIEU     :","C.H.  N°",null,"E.S."," N°","POSTE  N°",null,"       AUTRE"]
[]
[null,null,"ou",null,null,null,"ou"]
[]
[]
["MOTIF  :","Mécanique",null,"       Sortie de Route",null,null,null,"Autre"]
[null,null,null,"         Sans Gravité"]
[null,null,"ou",null,null,"ou"]
[]
[]
[null,null,null,null,"OUI","ou","NON"]
["CARNET   DE   BORD   RECUPERE     :"]
[]
[]
[]
[]
[]
[null,null,{"$f":"Rallye!E10","v":"16ème Rallye du PAYS de St-YRIEX"}]
[null,null,{"$f":"Rallye!E11","v":"3ème Rallye VHC du PAYS de St-YRIEX"}]
[null,null,null,null,{"$f":"Rallye!E12","v":"15 et 16 Septembre 2018"},null,{"$f":"Rallye!E14","v":"LRSA Nouvelle Aquitaine Sud"}]
[{"$f":"Rallye!E19","v":"ASA Saint Martial"},null,null,null,"A B A N D O N"]
[]
[]
[null,"VEHICULE","N°",null,null,null,null,"HEURE"]
[]
[null,null,null,null,null,null,null,"H"]
[]
[]
[]
["LIEU     :","C.H.  N°",null,"E.S."," N°","POSTE  N°",null,"       AUTRE"]
[]
[null,null,"ou",null,null,null,"ou"]
[]
[]
["MOTIF  :","Mécanique",null,"       Sortie de Route",null,null,null,"Autre"]
[null,null,null,"         Sans Gravité"]
[null,null,"ou",null,null,"ou"]
[]
[]
[null,null,null,null,"OUI","ou","NON"]
["CARNET   DE   BORD   RECUPERE     :"]
[]
[]
[]
[]
[]
[]
[]
[]
[null,null,{"$f":"Rallye!E10","v":"16ème Rallye du PAYS de St-YRIEX"}]
[null,null,{"$f":"Rallye!E11","v":"3ème Rallye VHC du PAYS de St-YRIEX"}]
[null,null,{"$f":"Rallye!E12","v":"15 et 16 Septembre 2018"},null,null,null,{"$f":"Rallye!E14","v":"LRSA Nouvelle Aquitaine Sud"}]
[]
["FICHE de PENALITE"]
[]
[]
[null,"VEHICULE","N°",null,null,null,"Lieu"]
[]
[]
[]
[]
[]
[]
[null,"PENALITE : "]
[]
[]
[null,"MOTIF :"]
[]
[null,"ARTICLE N° :",null,null,{"$f":"IF(ISERROR(VLOOKUP(D81,PENALITES,2,FALSE)),,(VLOOKUP(D81,PENALITES,2,FALSE)))","v":0}]
[]
[null,"Du Règlement Standard des Rallyes"]
[]
[]
[null,"Visa DC : ",null,null,null,null,"Visa Classements :"]
[]
[]
[]
[]
[]
[]
[null,null,{"$f":"Rallye!E10","v":"16ème Rallye du PAYS de St-YRIEX"}]
[null,null,{"$f":"Rallye!E11","v":"3ème Rallye VHC du PAYS de St-YRIEX"}]
[null,null,{"$f":"Rallye!E12","v":"15 et 16 Septembre 2018"},null,null,null,{"$f":"Rallye!E14","v":"LRSA Nouvelle Aquitaine Sud"}]
[]
["FICHE de PENALITE"]
[]
[]
[null,"VEHICULE","N°",null,null,null,"Lieu"]
[]
[]
[]
[]
[]
[]
[null,"PENALITE : "]
[]
[]
[null,"MOTIF :"]
[]
[]
[null,"ARTICLE N° :"]
[null,"Du Règlement Standard des Rallyes"]
[]
[]
[null,"Visa DC : ",null,null,null,null,"Visa Classements :"]

{"sheet":"Abandons","index":22,"n_rows":73,"n_cols":10,"rows_kept":73,"cut":false,"hidden":false,"merged":[[26,7,26,11],[15,7,15,11],[20,7,20,11],[18,7,18,11],[19,7,19,11],[16,7,16,11],[17,7,17,11],[28,7,28,11],[32,7,32,11],[30,7,30,11],[29,7,29,11],[27,7,27,11],[64,7,64,11],[63,7,63,11],[50,7,50,11],[51,7,51,11],[45,7,45,11],[49,7,49,11],[59,7,59,11],[58,7,58,11],[56,7,56,11],[60,7,60,11],[61,7,61,11],[53,7,53,11],[48,7,48,11],[47,7,47,11],[72,2,72,3],[67,1,67,3],[68,1,68,3],[69,1,69,3],[70,2,70,3],[65,7,65,11],[54,7,54,11],[71,1,71,3],[71,6,71,7],[66,7,66,11],[62,7,62,11],[55,7,55,11],[57,7,57,11],[52,7,52,11],[13,7,13,11],[3,1,3,5],[4,1,4,5],[5,1,5,5],[6,1,6,5],[12,7,12,11],[8,7,8,11],[44,7,44,11],[23,7,23,11],[39,7,39,11],[43,7,43,11],[41,7,41,11],[7,7,7,11],[14,7,14,11],[21,7,21,11],[46,7,46,11],[24,7,24,11],[9,7,9,11],[10,7,10,11],[11,7,11,11],[22,7,22,11],[42,7,42,11],[36,7,36,11],[38,7,38,11],[37,7,37,11],[35,7,35,11],[34,7,34,11],[40,7,40,11],[31,7,31,11],[33,7,33,11],[25,7,25,11],[3,6,4,9],[5,6,5,8],[1,9,1,10],[1,6,2,8],[6,6,6,7]]}
[]
[null,null,null,null,null,null,{"$f":"NOW()","v":43450.393981712965},null,null,"Document n°"]
[]
[null,{"$f":"Rallye!E10","v":"16ème Rallye du PAYS de St-YRIEX"},null,null,null,null,"A B A N D O N S"]
[null,{"$f":"Rallye!E12","v":"15 et 16 Septembre 2018"}]
[null,{"$f":"Rallye!E19","v":"ASA Saint Martial"},null,null,null,null,"Etape :",null,null,1]
[null,{"$f":"Rallye!E14","v":"LRSA Nouvelle Aquitaine Sud"},null,null,null,null,"Reste en Course :",null,{"$f":"Etap3!G62","v":45}]
[null,"n°ord","N°","Date","Heure","Lieu","Poste","Cause"]
[null,{"$f":"IF(C9=\"\",0,1)","v":0}]
[null,{"$f":"IF(C10=\"\",\"\",B9+1)","v":""}]
[null,{"$f":"IF(C11=\"\",\"\",B10+1)","v":""}]
[null,""]
[null,""]
[null,""]
[null,""]
[null,""]
[null,""]
[null,""]
[null,""]
[null,""]
[null,""]
[null,""]
[null,""]
[null,""]
[null,""]
[null,""]
[null,""]
[null,""]
[null,""]
[null,""]
[null,""]
[null,""]
[null,""]
[null,""]
[null,""]
[null,""]
[null,""]
[null,""]
[null,""]
[null,""]
[null,""]
[null,""]
[null,""]
[null,""]
[null,""]
[null,""]
[null,""]
[null,""]
[null,""]
[null,""]
[null,""]
[null,""]
[null,""]
[null,""]
[null,""]
[null,""]
[null,""]
[null,""]
[null,""]
[null,""]
[null,""]
[null,""]
[null,""]
[null,""]
[null,""]
[null,""]
[]
[null,"Mécanique : ",null,null,{"$f":"COUNTIF(H9:H67,\"Mécanique\")","v":0}]
[null,"Sortie de Route avec Blessé :",null,null,{"$f":"COUNTIF(H9:H67,\"Sortie de Route avec équipage Blessé\")","v":0}]
[null,"Sortie de Route sans Gravité : ",null,null,{"$f":"COUNTIF(H9:H67,\"Sortie de Route sans Gravité\")","v":0}]
[null,null,"Divers / Raison Personnelle : ",null,{"$f":"(COUNTIF(H9:H67,\"Raison Personnelle\"))+((COUNTIF(H9:H67,\"Absent du Parc Fermé Départ\")))","v":0}]
[null,"Mise Hors Course : ",null,null,{"$f":"(COUNTIF(H11:H69,\"Mise Hors Course par D.C.\"))+(COUNTIF(H11:H69,\"Mise Hors Course par Collège\"))","v":0},"n° :"]
[null,null,"TOTAL : ",null,{"$f":"COUNT(C9:C66)","v":0}]

{"sheet":"Notif-DC","index":23,"n_rows":51,"n_cols":7,"rows_kept":51,"cut":false,"hidden":false,"merged":[[5,0,5,4],[6,2,6,4],[35,4,35,6],[21,1,22,6],[39,1,39,6],[46,1,46,6],[26,1,27,6],[28,1,29,6],[30,1,31,6],[43,1,43,6],[44,1,44,6],[45,1,45,6],[40,1,40,6],[6,0,6,1],[3,0,3,4],[41,1,41,6],[42,1,42,6],[12,6,12,7],[10,1,10,3],[12,2,12,3],[13,2,13,3],[13,6,13,7],[15,1,15,6],[17,1,18,6],[19,1,20,6],[8,0,8,1],[8,3,8,6],[24,1,24,6],[4,0,4,4]]}
[]
[null,null,null,null,null,"Document n° :"]
[]
[{"$f":"Rallye!E10","v":"16ème Rallye du PAYS de St-YRIEX"}]
[{"$f":"Rallye!E12","v":"15 et 16 Septembre 2018"}]
[{"$f":"Rallye!E19","v":"ASA Saint Martial"}]
["Permis d'Organisation :",null,{"$f":"Rallye!E15","v":"N 511 du 3/07/2018"}]
[]
["NOTIFICATION n°",null,1,"DE LA DIRECTION DE COURSE"]
[]
[null,"A L'EQUIPAGE n°   ",null,null,75]
[]
[null,"CONCURRENT","PORTEFAIX Lucas",null,null,"1er CONDUCTEUR",{"$f":"C13","v":"PORTEFAIX Lucas"}]
[null,"LICENCE N°","252373/1017",null,null,"LICENCE N°",{"$f":"C14","v":"252373/1017"}]
[]
[null,"DECISION :"]
[]
[]
[]
[null,"1 minute de pénalité"]
[]
[]
[]
[]
[null,"MOTIF :"]
[]
[null,"Entrée Agglomération de Coussac Bonneval"]
[]
[null,"Mouvement anormal de la voiture (1ère infraction)"]
[]
[null,"Application Article : 6.4.7 Page 23 France Auto Rallye 2018."]
[]
[]
[null,"NOTIFIE AU CONCURRENT",null,null,null,null,"Le Directeur de Course"]
[]
[null,{"$f":"Rallye!E17","v":"87500 St-YRIEX La PERCHE"},"Le :",{"$f":"TODAY()","v":"2018-12-16"},{"$f":"Officiels!K15","v":"LORRE Joseph"}]
[null,null,"à :",null,null,"Licence : ",{"$f":"Officiels!E15","v":"10395"}]
[]
[]
[]
[null,"ACCUSE DE RECEPTION :"]
[null,"Le soussigné certifie avoir été informé, au lieu, à la date"]
[null,"et à l'heure indiqué ci-dessus, des décisions prises,"]
[null,"ainsi que des motifs les justifiants. "]
[null,"Il certifie avoir été informé,  des voies de recours."]
[]
[]
[]
[null,"Date :",null,null,null,"Heure :"]
[]
[null,"Le Concurrent",null,null,null,"Le 1er Conducteur"]

{"sheet":"Not-DC-Final","index":24,"n_rows":51,"n_cols":10,"rows_kept":51,"cut":false,"hidden":false,"merged":[[52,2,53,2],[52,3,53,5],[52,6,52,8],[53,6,53,8],[27,4,27,5],[32,6,32,8],[30,3,30,8],[34,6,34,8],[32,3,32,5],[41,3,42,5],[49,2,49,9],[50,2,50,9],[1,7,1,8],[12,2,12,9],[13,2,13,9],[17,2,17,9],[14,2,14,9],[3,1,3,7],[4,1,4,7],[9,1,9,3],[7,1,7,3],[5,1,5,7],[6,1,6,7],[7,4,7,7],[9,5,9,8],[15,2,15,3],[15,5,15,7],[40,6,40,8],[37,6,37,8],[35,6,35,8],[35,2,36,2],[22,3,22,7],[26,1,26,3],[21,3,21,7],[24,3,24,7],[23,3,23,7],[48,3,48,8],[39,2,40,2],[39,3,40,5],[37,2,38,2],[43,2,45,2],[43,3,45,5],[46,2,47,2],[46,3,47,5],[46,6,46,8],[47,6,47,8],[35,3,36,5],[41,2,42,2],[37,3,38,5],[36,6,36,8],[39,6,39,8],[33,2,34,2],[41,6,42,8],[43,6,45,8],[38,6,38,8],[43,9,45,9],[33,6,33,8],[33,3,34,5]]}
[]
[null,null,null,null,null,null,null,"Document n° :"]
[]
[null,{"$f":"Rallye!E10","v":"16ème Rallye du PAYS de St-YRIEX"}]
[null,{"$f":"Rallye!E12","v":"15 et 16 Septembre 2018"}]
[null,{"$f":"Rallye!E19","v":"ASA Saint Martial"}]
[null,{"$f":"Rallye!E14","v":"LRSA Nouvelle Aquitaine Sud"}]
[null,"Permis d'Organisation :",null,null,{"$f":"Rallye!E15","v":"N 511 du 3/07/2018"}]
[]
[null,"NOTIFICATION n°",null,null,1,"DE LA DIRECTION DE COURSE"]
[]
[]
[null,null,"Le Directeur de Course, conformément aux instructions reçues des Commissaires Sportifs,"]
[null,null,"informe les concurrents suivants qu’ils devront mettre leur voiture à disposition des "]
[null,null,"Commissaires Techniques pour le contrôle final "]
[null,null,"conformément à l’article ",null,"1.3.12","de la réglementation générale des rallyes ",null,null,2018]
[]
[null,null,"Ils devront aussi informer immédiatement leurs mécaniciens (2 maxi) de se rendre à :"]
[]
[]
[]
[null,null,null,{"$f":"Rallye!E37","v":"Garage VERSAVEAU"}]
[null,null,null,{"$f":"Rallye!E38","v":"Avenue de Coussac"}]
[null,null,null,{"$f":"Rallye!E39","v":"87500 St-YRIEX La PERCHE"}]
[null,null,null,{"$f":"Rallye!E40","v":"Se munir de moyens pour vider les réservoirs"}]
[]
[null,"Notifié aux Concurents à :",null,null,{"$f":"Rallye!E17","v":"87500 St-YRIEX La PERCHE"},null,null,null,"Le Directeur de Course"]
[null,null,null,"le :",{"$f":"TODAY()","v":"2018-12-16"},null,null,null,{"$f":"Officiels!K15","v":"LORRE Joseph"}]
[null,null,null,"à :",null,null,null,"Lic :",{"$f":"Officiels!E15","v":"10395"}]
[]
[null,null,null,"ACCUSES  DE  RECEPTION"]
[]
[null,null,"N°","Concurrents",null,null,"Emargements",null,null,"Heure"]
[null,null,2,"VAILLANT Benoit"]
[]
[null,null,1,"BEAUBELIQUE J-Charles"]
[]
[null,null,5,"LONGEPE Bruno"]
[]
[]
[]
[]
[]
[]
[]
[]
[]
[]
[]
[null,null,"L'équipe peut également assiter à ces contrôles ainsi qu'un responsable technique,"]
[null,null,"LE DEPLACEMENT S'EFFECTUERA SOUS REGIME DU PARC FERME."]

{"sheet":"Not-Tech","index":25,"n_rows":50,"n_cols":9,"rows_kept":50,"cut":false,"hidden":false,"merged":[[49,1,49,5],[26,2,26,5],[41,0,41,3],[21,1,21,8],[17,0,17,8],[22,1,22,8],[24,1,24,8],[41,7,41,8],[23,1,23,8],[18,0,18,8],[25,1,25,8],[1,6,1,7],[13,0,13,8],[16,0,16,8],[3,0,3,5],[4,0,4,5],[5,0,5,5],[8,5,8,8],[9,1,9,8],[15,0,15,8],[8,1,8,3],[14,0,14,8],[6,0,6,5]]}
[]
[null,null,null,null,null,null,"Document n° :"]
[]
[{"$f":"Rallye!E10","v":"16ème Rallye du PAYS de St-YRIEX"}]
[{"$f":"Rallye!E12","v":"15 et 16 Septembre 2018"}]
[{"$f":"Rallye!E19","v":"ASA Saint Martial"}]
[{"$f":"Rallye!E14","v":"LRSA Nouvelle Aquitaine Sud"}]
[]
[null,"NOTIFICATION n°",null,null,1,"DE LA DIRECTION DE COURSE"]
[null,"AUX COMMISSAIRES TECHNIQUES"]
[]
[null,null,null,null,"La Direction de Course vous demande d'effectuer les vérifications techniques suivantes :"]
[]
["En cours d'Epreuve : "]
[]
[]
[]
[]
[]
[]
["Fin Epreuve :"]
[null,"Tous Groupes sur classement à l'issue de l'ES 11"]
[null,"Pesée à vide des 3 premiers scratch (réservoirs vides)"]
[null,"Présence catalyseurs des 3 premiers scratch"]
[]
[]
[null,null,"Ces vérifications devront être effectuées "]
[]
[null,"En cours d'épreuve",null,null,null,null,"A l ' arrivée de l ' épreuve"]
[]
[null,"C.H.  N°",null,null,null,null,"Au Parc fermé"]
[]
[null,"STOP  E.S.  N°",null,null,null,null,"Au garage "]
[]
[null,"Parc de regroupement C.H.  "]
[]
[null,"Fait  à",{"$f":"Rallye!E17","v":"87500 St-YRIEX La PERCHE"},null,"le : ",{"$f":"TODAY()","v":"2018-12-16"},null,"à","H"]
[]
[null,null,null,null,null,null,null,"Le Directeur de Course"]
[]
[null,"Accusé de réception",null,null,null,null,null,{"$f":"Officiels!K15","v":"LORRE Joseph"}]
["du Commissaire Technique Responsable",null,null,null,null,null,"Licence N°",{"$f":"Officiels!E15","v":"10395"}]
[]
["M.",{"$f":"Officiels!K49","v":"PHELIPEAU Jean-Luc"},"Licence N°",{"$f":"Officiels!E49","v":"9060"}]
[]
["le",null,"à            H"]
[]
[]
[]
[null,"!!!   ATTENTION ce Document est CONFIDENTIEL"]

{"sheet":"Médical","index":26,"n_rows":70,"n_cols":11,"rows_kept":70,"cut":false,"hidden":false,"merged":[[59,8,60,9],[49,2,49,4],[42,1,43,4],[24,1,24,5],[25,1,25,5],[50,1,50,4],[47,5,47,7],[49,5,49,7],[47,3,47,4],[14,1,14,2],[25,10,25,11],[24,6,24,9],[18,1,18,3],[17,6,17,8],[18,6,18,8],[23,1,23,5],[2,1,3,11],[12,4,12,6],[5,4,5,10],[7,10,7,11],[4,4,4,6],[10,2,10,3],[10,4,10,6],[10,8,10,10],[12,1,12,3],[13,5,13,7],[71,1,71,6],[66,7,67,11],[62,8,63,11],[12,7,12,10],[19,1,19,7],[66,1,67,4],[42,8,43,11],[44,8,44,11],[47,8,47,10],[22,6,22,9],[23,6,23,9],[17,4,17,5],[20,1,21,5],[20,6,21,9],[20,10,21,11],[17,1,17,3],[15,1,15,2],[31,7,31,8],[24,10,24,11],[15,3,15,10],[23,10,23,11],[17,9,17,11],[18,4,18,5],[22,1,22,5],[27,1,27,10],[28,1,28,11],[29,1,29,11],[31,10,31,11],[25,6,25,9],[22,10,22,11],[14,5,14,7],[19,9,19,11],[36,10,36,11],[36,7,36,8],[42,5,43,7],[45,5,45,7],[47,1,47,2],[50,8,50,11],[68,1,68,3],[68,7,68,11],[69,4,69,10],[61,1,61,11],[59,10,60,10],[59,5,60,6],[59,7,60,7],[52,10,52,11],[62,1,63,4],[64,1,64,3],[62,6,63,7],[52,1,52,9],[54,1,56,11],[57,1,58,11],[59,1,60,4]]}
[]
[]
[null," RAPPORT MEDICAL D'EPREUVE FFSA"]
[]
[null,"NUMERO DE VISA :",null,null,{"$f":"Rallye!E15","v":"N 511 du 3/07/2018"},null,null,"LIGUE :",null,null,"CODE ASA :"]
[null,"NOM DE L'EPREUVE :",null,null,{"$f":"Rallye!E10","v":"16ème Rallye du PAYS de St-YRIEX"}]
[]
[null,"DISCIPLINE :",null,"Circuit        Rallye       Course de Côte       Karting         Autre",null,null,null,null,null,null,"COURSE         ESSAI "]
[]
[]
[null,"ES N° :","PK :",null,"PC N° :",null,null,null,"DATE :                    Heure :"]
[]
[null,"Concurrent N° :",null,null,"Pilote/Copilote/ Officiel ",null,null,"Spectateur/Autre (préciser) :"]
[null,"Nom :",null,null,null,"Prénom :",null,null,null,null,"N° de Licence :"]
[null,"Né(e) le :",null,null,null,"Nationalité :",null,null,null,null,"Tél. :"]
[null,"ADRESSE :"]
[]
[null,"TM  CONDITION(S) :",null,null,"Collision",null,"Problème mécanique",null,null,"Evitement d'un obstacle"]
[null,"Collision personne",null,null,"Tonneau",null,"Choc (arbre-mur-poteau)"]
[null,"Choc dans protections souples (Pneus - Tecpro - Mousse - Paille)",null,null,null,null,null,null,null,"Choc latéral - 3/4 - frontal - arrière"]
[null,"BILAN HEMODYNAMIQUE",null,null,null,null,"BILAN RESPIRATOIRE",null,null,null,"NEURO"]
[]
[null,"TA :",null,null,null,null,"FREQUENCE :",null,null,null,"TC : non      oui       durée :"]
[null,"POULS :",null,null,null,null,"COLORATION :",null,null,null,"PCI :"]
[null,"AUTRE :",null,null,null,null,"LESIONS COSTALES :",null,null,null,"GLASGOW :"]
[null,null,null,null,null,null,"SAO2 :",null,null,null,"AUTRE :"]
[]
[null,"§ LOCALISATION(S) APPARENTE(S), TYPE(S) DE BLESSURE(S) ET CAT :"]
[null,"INDIQUER PAR UNE LETTRE LE TYPE DE BLESSURE DANS LA CASE OU LES CASES CORRESPONDANTES :"]
[null,"(C : CONTUSION) (D : DERMABRASION) (E : ENTORSE) ( F : FRACTURE) ( H : HEMATOME) ( L : LUXATION) ( P : PLAIE) (B : BRULURE)"]
[]
[null,"MBRE SUP","D","G","MBRE INF","D","G","RACHIS",null,null,"NEURO (cocher la case)"]
[null,"Clavicule",null,null,"Hanche",null,null,"Cervical",null,null,"TC"]
[null,"Epaule",null,null,"Fémur",null,null,"Dorsal",null,null,"PCI"]
[null,"Humérus",null,null,"Genou",null,null,"Lombaire",null,null,"Trouble conscience"]
[null,"Coude",null,null,"Rotule",null,null,"Bassin",null,null,"Anomalie neurologique"]
[null,"Radius",null,null,"Tibia",null,null,"AUTRES",null,null,"CAT (cocher la case)"]
[null,"Cubitus",null,null,"Péroné",null,null,"Abdomen",null,null,"Ttt sur place"]
[null,"Poignet",null,null,"Cheville",null,null,"Thorax / Côtes",null,null,"Evacuation Urgente"]
[null,"Scaphoïde",null,null,"Pied",null,null,"Face / Crâne",null,null,"Evacuation non urgente"]
[null,"Main / Doigts",null,null,"Orteils",null,null,"Œil",null,null,"Imagerie"]
[]
[null,"SOINS SUR PLACE :",null,null,null,"CENTRE MEDICAL :",null,null,"EVACUATION :"]
[]
[null,null,null,null,null,null,null,null,"Ambulance / VSAB :"]
[null,"GESTES FAITS :",null,null,null,"PERFUSIONS :"]
[]
[null,"DESINCARCERATION : ",null,"oui / non",null,"VENTILATION :",null,null,"Médicalisation : oui / non     "]
[]
[null,"EXTRACTION :","non             oui",null,null,"IMAGERIE :",null,null," SMUR ",null,"HELICO"]
[null,"Rapide     semi rapide        Ked         Autre"]
[]
[null,"Hôpital / Clinique de destination :",null,null,null,null,null,null,null,null,"Téléphone :"]
[]
[null,"DIAGNOSTIC(S) EVOQUE(S) :"]
[]
[]
[null,"TRAITEMENT(S) :"]
[]
[null,"CLASSIFICATION            1",null,null,null,"2              3",null,3,4]
[]
[null,"1 : pas d'hospitalisation  2 : contrôle hospitalier   3 : intervention ou soins de plus de 21 jours à prévoir   4 décès"]
[null,"INAPTE COMPETITION :         OUI",null,null,null,null,"NON              APTE",null,"A REPRENDRE     (Pas de rétention de licence)"]
[]
[null,"(Rétention de licence)"]
[]
[null,"Nom du Médecin(s) Chef :",null,null,null,null,null,"Nom, adresse, téléphone et signature du Médecin intervenant."]
[]
[null,"N° de licence :",null,null,null,null,null,"          N° inscription Conseil de l'Ordre :                                                              "]
[null,"Version du 16/12/2015",null,null,"Rapport médical à envoyer au Service Médical sous pli confidentiel."]

{"sheet":"Moyenne","index":27,"n_rows":30,"n_cols":7,"rows_kept":30,"cut":false,"hidden":false,"merged":[[2,2,2,5],[1,2,1,6]]}
[]
[null,null,{"$f":"Rallye!E10","v":"16ème Rallye du PAYS de St-YRIEX"}]
[null,null,{"$f":"Rallye!E12","v":"15 et 16 Septembre 2018"}]
[]
[null,null,"Calcul de Moyenne sur une Spéciale"]
[]
[null,"Es n° : 2","Longueur Spéciale en Métres",null,null,13500,"métres"]
[]
[]
[]
[null,null,"Num","Temps Spéciale","Temps en secondes","Moyenne Calculée"]
[null,null,2,"00:07:13",{"$f":"( MINUTE(D12)*60)+SECOND(D12)","v":433},{"$f":"(((F7/E12)*3600)/1000)","v":112.24018475750577}]
[null,null,3,"00:07:18",{"$f":"( MINUTE(D13)*60)+SECOND(D13)","v":438},{"$f":"(((F7/E13)*3600)/1000)","v":110.95890410958904}]
[null,null,null,null,0,{"$f":"(((F7/E14)*3600)/1000)","v":{"$error":"#DIV/0!"}}]
[null,null,null,null,0,{"$f":"(((F7/E15)*3600)/1000)","v":{"$error":"#DIV/0!"}}]
[null,null,null,null,0,{"$f":"(((F7/E16)*3600)/1000)","v":{"$error":"#DIV/0!"}}]
[null,null,null,null,0,{"$f":"(((F7/E17)*3600)/1000)","v":{"$error":"#DIV/0!"}}]
[null,null,null,null,0,{"$f":"(((F7/E18)*3600)/1000)","v":{"$error":"#DIV/0!"}}]
[null,null,null,null,0,{"$f":"(((F7/E19)*3600)/1000)","v":{"$error":"#DIV/0!"}}]
[null,null,null,null,0,{"$f":"(((F7/E20)*3600)/1000)","v":{"$error":"#DIV/0!"}}]
[null,null,null,null,0,{"$f":"(((F7/E21)*3600)/1000)","v":{"$error":"#DIV/0!"}}]
[null,null,null,"00:00:00",0,{"$f":"(((F7/E22)*3600)/1000)","v":{"$error":"#DIV/0!"}}]
[null,null,null,"00:00:00",0,{"$f":"(((F7/E23)*3600)/1000)","v":{"$error":"#DIV/0!"}}]
[null,null,null,"00:00:00",0,{"$f":"(((F7/E24)*3600)/1000)","v":{"$error":"#DIV/0!"}}]
[null,null,null,"00:00:00",0,{"$f":"(((F7/E25)*3600)/1000)","v":{"$error":"#DIV/0!"}}]
[null,null,null,"00:00:00",0,{"$f":"(((F7/E26)*3600)/1000)","v":{"$error":"#DIV/0!"}}]
[null,null,null,"00:00:00",0,{"$f":"(((F7/E27)*3600)/1000)","v":{"$error":"#DIV/0!"}}]
[null,null,null,"00:00:00",0,{"$f":"(((F7/E28)*3600)/1000)","v":{"$error":"#DIV/0!"}}]
[null,null,null,"00:00:00",0,{"$f":"(((F7/E29)*3600)/1000)","v":{"$error":"#DIV/0!"}}]
[null,null,null,"00:00:00",0,{"$f":"(((F7/E30)*3600)/1000)","v":{"$error":"#DIV/0!"}}]

{"sheet":"Recos","index":28,"n_rows":54,"n_cols":8,"rows_kept":54,"cut":false,"hidden":false,"merged":[[30,1,30,7],[31,1,32,7],[33,1,34,7],[53,4,53,5],[46,1,46,3],[6,4,7,8],[4,0,4,3],[6,0,6,3],[7,0,7,3],[8,0,8,3],[16,1,16,8],[37,1,38,7],[39,1,40,7],[5,0,5,3],[41,1,42,7],[43,1,44,7],[29,1,29,8],[15,1,15,8],[35,1,36,7]]}
[]
[]
[]
[]
[{"$f":"Rallye!E10","v":"16ème Rallye du PAYS de St-YRIEX"}]
[{"$f":"Rallye!E11","v":"3ème Rallye VHC du PAYS de St-YRIEX"}]
[{"$f":"Rallye!E12","v":"15 et 16 Septembre 2018"},null,null,null,"RAPPORT sur les RECONNAISSANCES"]
[{"$f":"Rallye!E19","v":"ASA Saint Martial"}]
[{"$f":"Rallye!E14","v":"LRSA Nouvelle Aquitaine Sud"}]
[]
[]
[]
[]
[]
[]
[null,"Les reconnaissances se sont déroulées dans les Horaires définis au règlement de l'épreuve soit :"]
[]
[null,{"$f":"Rallye!E28","v":"2018-08-08"},"de  :",{"$f":"Rallye!G28","v":"09:00:00"},"à :",{"$f":"Rallye!I28","v":"11:30:00"}]
[null,null,"et de  :",{"$f":"Rallye!K28","v":"14:00:00"},"à :",{"$f":"Rallye!M28","v":"19:00:00"}]
[]
[null,{"$f":"Rallye!E29","v":"2018-09-09"},"de : ",{"$f":"Rallye!G29","v":"09:00:00"},"à :",{"$f":"Rallye!I29","v":"11:30:00"}]
[null,null,"et de  :",{"$f":"Rallye!K29","v":"14:00:00"},"à :",{"$f":"Rallye!M29","v":"19:00:00"}]
[]
[null,{"$f":"Rallye!E30","v":"2018-09-13"},"de : ",{"$f":"Rallye!G30","v":"09:00:00"},"à :",{"$f":"Rallye!I30","v":"12:00:00"}]
[null,null,"et de  :",{"$f":"Rallye!K30","v":"14:00:00"},"à :",{"$f":"Rallye!M30","v":"21:15:00"}]
[]
[null,{"$f":"Rallye!E31","v":"2018-09-14"},"de : ",{"$f":"Rallye!G31","v":"09:00:00"},"à :",{"$f":"Rallye!I31","v":"12:00:00"}]
[null,null,"et de  :",{"$f":"Rallye!K31","v":"14:00:00"},"à :",{"$f":"Rallye!M31","v":"21:15:00"}]
[]
[null,"Conformément à la Réglementation, des contrôles ont été effectués au cours des reconnaissances."]
[]
[null,"Les contrôles mis en place par l'organisation et les autorités de Gendarmerie pendant et hors des jours "]
[]
[null,"et horaires prévus, n'ont révélé aucune infraction nécessitant un rapport de la Direction de Course."]
[]
[]
[]
[]
[]
[]
[]
[]
[]
[]
[]
[]
[null,"PJ : Statistiques des Reconnaissances,"]
[]
[null,"Fait  à : ",{"$f":"Rallye!E17","v":"87500 St-YRIEX La PERCHE"},null,"le",{"$f":"NOW()","v":"2018-12-16T09:27:20.020"},"à","H"]
[]
[]
[null,"L'Organisateur Technique :",null,null,"Le Directeur de Course:"]
[]
[null,{"$f":"Rallye!J37","v":"MAZAUD Laurent"},null,null,{"$f":"Officiels!K15","v":"LORRE Joseph"}]

{"sheet":"Tp-Forfait","index":29,"n_rows":43,"n_cols":7,"rows_kept":43,"cut":false,"hidden":false,"merged":[[1,1,1,5],[2,1,2,4],[14,4,14,5]]}
[]
[null,{"$f":"Rallye!E10","v":"16ème Rallye du PAYS de St-YRIEX"}]
[null,{"$f":"Rallye!E12","v":"15 et 16 Septembre 2018"}]
[]
[null,"TEMPS DE REFERENCE APRES ES N°",null,null,5,null,"00:19:23.900"]
[]
[null,"TEMPS DE REFERENCE DANS ES N°",null,null,5,null,"00:04:31.700"]
[]
[]
[]
[]
[null,"N° VOITURES","TEMPS","POURCENTAGE","TEMPS IMPARTI",null,"N° VOITURES"]
[null,null,"\"00:00:00,0\""]
[]
[null,1,"00:19:52.800",{"$f":"IF(C15=\"\",\"\",C15/$G$5)","v":1.024830311882464},{"$f":"G7*D15","v":"00:04:38.446"},null,{"$f":"IF(C15=\"\",\"\",B15)","v":1}]
[null,2,"00:19:55.500",{"$f":"IF(C16=\"\",\"\",C16/$G$5)","v":1.0271500988057392},{"$f":"G7*D16","v":"00:04:39.077"},null,{"$f":"IF(C16=\"\",\"\",B16)","v":2}]
[null,null,null,{"$f":"IF(C17=\"\",\"\",C17/$G$5)","v":""},{"$f":"G7*D17","v":{"$error":"#VALUE!"}},null,""]
[null,null,null,{"$f":"IF(C18=\"\",\"\",C18/$G$5)","v":""},{"$f":"G7*D18","v":{"$error":"#VALUE!"}},null,""]
[null,null,null,{"$f":"IF(C19=\"\",\"\",C19/$G$5)","v":""},{"$f":"G7*D19","v":{"$error":"#VALUE!"}},null,""]
[null,null,null,"",{"$f":"G7*D20","v":{"$error":"#VALUE!"}},null,""]
[null,null,null,"",{"$f":"G7*D21","v":{"$error":"#VALUE!"}},null,""]
[null,null,null,"",{"$f":"G7*D22","v":{"$error":"#VALUE!"}},null,""]
[null,null,null,"",{"$f":"G7*D23","v":{"$error":"#VALUE!"}},null,""]
[null,null,null,"",{"$f":"G7*D24","v":{"$error":"#VALUE!"}},null,""]
[null,null,null,"",{"$f":"G7*D25","v":{"$error":"#VALUE!"}},null,""]
[null,null,null,"",{"$f":"G7*D26","v":{"$error":"#VALUE!"}},null,""]
[null,null,null,"",{"$f":"G7*D27","v":{"$error":"#VALUE!"}},null,""]
[null,null,null,"",{"$f":"G7*D28","v":{"$error":"#VALUE!"}},null,""]
[null,null,null,"",{"$f":"G7*D29","v":{"$error":"#VALUE!"}},null,""]
[null,null,null,"",{"$f":"G7*D30","v":{"$error":"#VALUE!"}},null,""]
[null,null,null,"",{"$f":"G7*D31","v":{"$error":"#VALUE!"}},null,""]
[null,null,null,"",{"$f":"G7*D32","v":{"$error":"#VALUE!"}},null,""]
[null,null,null,"",{"$f":"G7*D33","v":{"$error":"#VALUE!"}},null,""]
[null,null,null,"",{"$f":"G7*D34","v":{"$error":"#VALUE!"}},null,""]
[null,null,null,"",{"$f":"G7*D35","v":{"$error":"#VALUE!"}},null,""]
[null,null,null,"",{"$f":"G7*D36","v":{"$error":"#VALUE!"}},null,""]
[null,null,null,"",{"$f":"G7*D37","v":{"$error":"#VALUE!"}},null,""]
[null,null,null,"",{"$f":"G7*D38","v":{"$error":"#VALUE!"}},null,""]
[null,null,null,"",{"$f":"G7*D39","v":{"$error":"#VALUE!"}},null,""]
[null,null,null,"",{"$f":"G7*D40","v":{"$error":"#VALUE!"}},null,""]
[null,null,null,"",{"$f":"G7*D41","v":{"$error":"#VALUE!"}},null,""]
[null,null,null,"",{"$f":"G7*D42","v":{"$error":"#VALUE!"}},null,""]
[null,null,null,"",{"$f":"G7*D43","v":{"$error":"#VALUE!"}},null,""]

{"sheet":"Cons_Ouvr","index":30,"n_rows":35,"n_cols":12,"rows_kept":35,"cut":false,"hidden":false,"merged":[[33,1,34,2],[33,3,33,5],[33,6,33,7],[33,8,33,10],[34,3,34,5],[34,6,34,7],[34,8,34,10],[35,1,36,2],[35,3,35,5],[35,6,35,7],[35,8,35,10],[36,3,36,5],[36,6,36,7],[36,8,36,10],[29,1,30,2],[29,3,29,5],[29,6,29,7],[29,8,29,10],[30,3,30,5],[30,6,30,7],[30,8,30,10],[31,1,32,2],[31,3,31,5],[31,6,31,7],[31,8,31,10],[32,3,32,5],[32,6,32,7],[32,8,32,10],[25,1,26,2],[25,3,25,5],[25,6,25,7],[25,8,25,10],[26,3,26,5],[26,6,26,7],[26,8,26,10],[27,1,28,2],[27,3,27,5],[27,6,27,7],[27,8,27,10],[28,3,28,5],[28,6,28,7],[28,8,28,10],[21,1,22,2],[21,3,21,5],[21,6,21,7],[21,8,21,10],[22,3,22,5],[22,6,22,7],[22,8,22,10],[23,1,24,2],[23,3,23,5],[23,6,23,7],[23,8,23,10],[24,3,24,5],[24,6,24,7],[24,8,24,10],[17,1,18,2],[17,3,17,5],[17,6,17,7],[17,8,17,10],[18,3,18,5],[18,6,18,7],[18,8,18,10],[19,1,20,2],[19,3,19,5],[19,6,19,7],[19,8,19,10],[20,3,20,5],[20,6,20,7],[20,8,20,10],[13,6,13,7],[13,8,13,10],[14,3,14,5],[14,6,14,7],[14,8,14,10],[15,1,16,2],[15,3,15,5],[15,6,15,7],[15,8,15,10],[16,3,16,5],[16,6,16,7],[16,8,16,10],[6,11,6,12],[7,1,8,2],[7,3,7,5],[8,3,8,5],[7,6,7,7],[8,6,8,7],[7,8,7,10],[8,8,8,10],[9,1,10,2],[9,3,9,5],[9,6,9,7],[9,8,9,10],[10,3,10,5],[10,6,10,7],[10,8,10,10],[37,1,38,2],[37,3,37,5],[37,6,37,7],[37,8,37,10],[38,3,38,5],[38,6,38,7],[38,8,38,10],[2,0,2,4],[3,5,3,10],[3,0,3,4],[4,0,4,4],[6,1,6,2],[6,3,6,5],[6,6,6,7],[6,8,6,10],[11,1,12,2],[11,3,11,5],[11,6,11,7],[11,8,11,10],[12,3,12,5],[12,6,12,7],[12,8,12,10],[13,1,14,2],[13,3,13,5],[41,1,42,2],[41,3,41,5],[41,6,41,7],[41,8,41,10],[42,3,42,5],[42,6,42,7],[42,8,42,10],[39,1,40,2],[39,3,39,5],[39,6,39,7],[39,8,39,10],[40,3,40,5],[40,6,40,7],[40,8,40,10]]}
[]
[]
[{"$f":"Rallye!E10","v":"16ème Rallye du PAYS de St-YRIEX"}]
[{"$f":"Rallye!E12","v":"15 et 16 Septembre 2018"},null,null,null,null,"LISTE des VEHICULES D' ENCADREMENT"]
[{"$f":"Rallye!E19","v":"ASA Saint Martial"}]
[]
[null,"FONCTION",null,"Nom des Occupants",null,null,"N° Licence",null,"N° Portable Embarqué",null,null,"Signature"]
[null,"TRICO",null,"CONDEMINE Bernard",null,null,6916,null,614700321]
[null,null,null,"BAPPEL Cyril",null,null,197033]
[null,"Autorité",null,"MAZAUD Laurent",null,null,8500]
[null,null,null,"DAUBIGNE Jannick",null,null,6560]
[null,"INFO",null,"DENEUVY Bernard",null,null,18191]
[null,null,null,"DENEUVY Katia",null,null,212740]
[null,"Promo 1"]
[]
[null,"Promo 2"]
[]
[null,"Observ",null,"DUBOIS Jacques"]
[null,null,null,"PAOLI Jacques",null,null,2692]
[null,"Info-Sono",null,"BIZARD Didier",null,null,17651]
[null,null,null,"BIZARD Florian",null,null,222097]
[null,"000 B",null,"LACAZE Pierre",null,null,151694]
[null,null,null,"CHAZOT Jean-François",null,null,36790]
[null,"000 A",null,"BOISSEUILH Gérard",null,null,241073]
[null,null,null,"BATTE Vivianne",null,null,159274]
[null,"00 B",null,"BOSSELUT Alain",null,null,58100]
[null,null,null,"BRISSET Jean-Yves",null,null,3244]
[null,"00 A",null,"FABREGUE Emmanuel",null,null,20353]
[null,null,null,"MASSY Pierre",null,null,13599]
[null,"0 VH",null,"CHABASSIER Jean-Pierre",null,null,47720]
[null,null,null,"VALERY Gérard",null,null,8513]
[null,"0 Mod",null,"DEMARS Laurent",null,null,167077]
[null,null,null,"L'OFFICIAL Yves"]
[null,"Balai",null,"SAMBART Gérard"]
[null,null,null,"SENAMAUD Frédéric"]

{"sheet":"Brieff_Ouvr","index":31,"n_rows":80,"n_cols":4,"rows_kept":80,"cut":false,"hidden":false,"merged":[[2,1,2,7],[10,1,13,10],[8,3,8,6],[0,3,0,9],[79,1,80,10],[14,1,27,10],[28,1,31,10],[32,1,39,10],[40,1,45,10],[46,1,53,10],[54,1,57,10],[58,1,65,10],[66,1,78,10]]}
[null,null,null,{"$f":"Rallye!E10","v":"16ème Rallye du PAYS de St-YRIEX"}]
[]
[null,{"$f":"Rallye!E12","v":"15 et 16 Septembre 2018"}]
[]
[]
[]
[]
[]
[null,null,null,{"$f":"Rallye!E35","v":555004997}]
[]
[null,"Votre mission est primordiale : VOIR ET RENDRE COMPTE\nINTERDICTION de dépasser une voiture Ouvreuse qui vous précède. \nEn cas de Retard sur votre Timing, votre départ sera refusé."]
[]
[]
[]
[null,"RAPPEL\nREGLEMENT STANDARD DES RALLYES 2017\nL'attention des Organisateurs est attirée sur la nécessité de sélectionner les pilotes et les officiels des voitures d'Encadrement pour\n leur sérieux et leur connaissance du Rallye.Toute voiture ne respectant pas les consignes de Sécurité sera arrêtée par le Directeur de Course.\nL'organisateur devra impérativement prévoir avant le départ un Briefing pour le équipages des voitures allant des VIP à la Balai. L'absence à \nce Briefing pourra entrainer le refus de la mission.\n\nAssurance des voitures d'encadrement :\nElle est comprise dans l'assurance RC prise par l'Organisateur : manifestations sportives de véhicules terrestres à moteur, tous dommages causés aux tiers + dommages aux véhicules de services d'ordre. La couverture dommage des voitures d'encadrement n'est pas comprise dans la RC manifestations sportives.\nSi un contrat est souscrit auprès d'un assureur, le contrat doit stipuler les immatriculations et les noms de l'équipage et soit fait avec l'utilisation réelle de la voiture ( les contrats habituels excluent la participation à des compétitions, entraînements, assistance, etc...).\n\n"]
[]
[]
[]
[]
[]
[]
[]
[]
[]
[]
[]
[]
[]
[null,"PROMOTION  :\n-Vous permettez à l'Organisateur de faire découvrir d'une manière priviligiée le Rallye aux médias, partenaires invités,,, Pas de notes embarquées\n- Deux personnes par voiture, Vous n'êtes pas en course, vous roulez prudemment,\n\n"]
[]
[]
[]
[null,"Voiture Tricolore et Autorité (Validation des ES) :\n- vérifier le parcours de liaison (problèmes sur le parcours routier)\n- vérifier la mise en place des personnels et matériels (parcs, ES)\n- vérifier la mise en place des éléments de sécurité (rubalisage, zones public, commissaires sécurités et inters Radio) conformément à l’arrêté préfectoral.\n- S’assurer que le public ne soit pas dans les zones interdites\nSi Problèmes rendre compte à tout moment du parcours à la DC (téléphone, radio, …)\n"]
[]
[]
[]
[]
[]
[]
[]
[null,"Info - Sono - Sécurité :\nVérifier le parcours de liaison, (problème sur le routier)\nSur les ES informer le public sur le déroulement de l’épreuve et donner les consignes de sécurité\nS’arrêter aux endroits sensibles ou surpeuplés \nRendre compte à la DC à chaque Point stop\n"]
[]
[]
[]
[]
[]
[null,"000 - 00 : ( Voitures de Série uniquement)\nVérifier le parcours de liaison, (problème sur le routier) Pas de Notes embarquées\nPréparer les équipes sportives avant l’arrivée du 1° concurrent \nVérification : \n - que tous les personnels sont en place \n - que le public n’est pas dans les zones interdites\nRendre compte à la DC à chaque Point stop\n\n"]
[]
[]
[]
[]
[]
[]
[]
[null,"0 :  ( En Conditions de Course ou de série)\nDernière vérification.\nVotre passage informe le public de l’imminence de la course et montre la trajectoire que suivront les concurrents.\nRendre compte Point stop uniquement en cas de problème qui fera le relais sur la DC\n\n"]
[]
[]
[]
[null,"Damiers :  \nOuvre la route de course après son passage,\nInforme la D.C. des abandons sur le parcours de liaison et dans les parcs,\nPart immédiatement après le dernier concurrent sur les ES, interdiction de le dépasser ( sauf si 15mn retd )\nRécupère les documents de course (rapports commissaires, bandes chrono, feuilles CH, …) ainsi que le carnet de bord et d'infraction des concurrents ayant abandonné, les ramener le plus vite possible au PC Course,\nRendre compte à la DC à chaque Point stop (abandon, incident, sortie route, …).\n"]
[]
[]
[]
[]
[]
[]
[]
[null,"Consignes Générales : \n- 2 Occupants maximum par véhicule\n- Pas de changement d'équipage autorisé,\n- Votre rôle est de contribuer à la sécurité de l'ensemble de l'épreuve, Pas de notes,\n- Respect des Horaires, ( un retard pourra entraîner un refus de départ ),\n- Toujours être à la disposition de la Direction de course, vous pouvez être utilisé pour relancer une épreuve après un blocage ou faire un convoi, Prévoyez toujours assez de carburant pour une boucle de plus.\n- En cas de panne sur une ES, vous devez ranger la voiture afin de dégager la spéciale, informer immédiatement le PC et ne pas repartir avant la Balai.\n- Des spectateurs peuvent être sur la route lors de votre passage, adaptez votre vitesse afin de pouvoir rapidement stopper votre  véhicule. Vous n'êtes pas en course.                                                                                      \n"]
[]
[]
[]
[]
[]
[]
[]
[]
[]
[]
[]
[]
[null,"Bon RALLYE et Merci de votre Participation"]

{"sheet":"Communique","index":32,"n_rows":52,"n_cols":8,"rows_kept":52,"cut":false,"hidden":false,"merged":[[26,1,27,8],[34,1,35,8],[30,1,31,8],[32,1,33,8],[36,1,37,8],[1,6,1,7],[11,2,11,4],[3,0,3,5],[4,0,4,5],[5,0,5,5],[6,0,6,5],[50,5,50,6],[8,1,8,3],[8,5,8,8],[9,1,9,8],[13,0,13,4],[12,5,13,5],[18,1,19,8],[20,1,21,8],[22,1,23,8],[42,1,43,8],[38,1,39,8],[40,1,41,8],[28,1,29,8],[44,1,45,8],[46,1,47,8],[24,1,25,8]]}
[]
[null,null,null,null,null,null,"Document n° :"]
[]
[{"$f":"Rallye!E10","v":"16ème Rallye du PAYS de St-YRIEX"}]
[{"$f":"Rallye!E12","v":"15 et 16 Septembre 2018"}]
[{"$f":"Rallye!E19","v":"ASA Saint Martial"}]
[{"$f":"Rallye!E14","v":"LRSA Nouvelle Aquitaine Sud"}]
[]
[null,"Odre de mission",null,null,1]
[]
[]
[null,"De :","Direction de Course"]
[]
["aux Juges de Faits"]
[]
[]
[null,"Objet :"]
[]
[]
[]
[null,"Missions :"]
[]
[]
[]
[null,"- Contrôler le déplacement anormal des véhicules (ART 4.3.5)"]
[]
[]
[]
[null,"- Contrôler l'assistance interdite (ART 4.3.3)"]
[]
[]
[]
[null,"- Contrôler la présence des Bâches et Extincteurs (ART 4.3.2.3)"]
[]
[]
[]
[null,"- Contrôler Plaques Rallyes et identifications (ART 4.6)"]
[]
[]
[]
[null,"- Contrôler le port du Casque sur le routier (ART 3.2.9)"]
[]
[]
[]
[null,"- Contrôler la présence des Rétroviseurs (ART 6.4.6)"]
[]
[]
[]
[]
[]
[null,null,null,null,null,"Le Directeur de Course :",null,{"$f":"Officiels!K15","v":"LORRE Joseph"}]
[null,null,null,null,null,null,"Lic :",{"$f":"Officiels!E15","v":"10395"}]

{"sheet":"Brieff_Conc","index":33,"n_rows":67,"n_cols":12,"rows_kept":67,"cut":false,"hidden":false,"merged":[[7,0,7,1],[65,9,65,10],[14,4,14,6],[29,1,29,14],[30,1,30,14],[31,1,31,14],[58,1,58,14],[33,1,33,14],[34,1,34,14],[51,1,51,14],[53,1,53,14],[62,1,62,14],[59,1,59,14],[40,1,40,14],[15,0,17,0],[35,1,35,14],[3,0,3,4],[4,0,4,4],[5,0,5,4],[6,0,6,4],[4,5,4,9],[9,1,9,12],[10,1,10,13],[11,1,11,12],[23,1,23,14],[24,1,24,14],[16,1,17,14],[14,1,14,3],[13,1,13,13],[43,1,43,14],[44,1,44,14],[45,1,45,14],[50,1,50,14],[39,1,39,14],[41,1,41,14],[36,1,36,14],[37,1,37,14],[38,1,38,14],[55,1,55,14],[56,1,56,14],[47,1,47,14],[48,1,48,14],[61,1,61,14],[57,1,57,14],[60,1,60,14]]}
[]
[]
[]
[{"$f":"Rallye!E10","v":"16ème Rallye du PAYS de St-YRIEX"}]
[{"$f":"Rallye!E12","v":"15 et 16 Septembre 2018"},null,null,null,null,"BRIEFING CONCURRENTS"]
[{"$f":"Rallye!E19","v":"ASA Saint Martial"}]
[{"$f":"Rallye!E14","v":"LRSA Nouvelle Aquitaine Sud"}]
["Permis d'Organisation :",null,{"$f":"Rallye!E15","v":"N 511 du 3/07/2018"}]
[]
[null,"L'organisateur et la Direction de Course vous souhaitent la bienvenue."]
[null,"Ce Briefing écrit à pour but de vous rappeller les points essentiels et sensibles de l'épreuve et vous préciser la conduite à tenir en cas d'accident ou d'incident"]
[null,"confoemément à la réglementation générale des rallyes,"]
[]
[null,"En cas d’abandon, que ce soit sur une ES ou sur un secteur de liaison, vous devez impérativement prévenir le plus rapidement possible le PC Course  sur le n° de Téléphone ci-contre :"]
[null,null,null,null,{"$f":"Rallye!E35","v":555004997}]
[]
[null,"Pour votre sécurité, nous vous demandons de bien vouloir prévenir un Chargé des Relations avec les Concurrents si vous avez changé de numéro de portable par rapport à celui inscrit sur le bulletin d’engagement. En effet, la Direction de Course pourrait avoir besoin de vous contacter pendant toute la durée de l’épreuve."]
[]
[]
[null,"® CODE DE LA ROUTE  "]
[null,"-Plus que n’importe quel usager, vous devez respecter scrupuleusement le code de la route, notamment les limitations de vitesse et le respect des panneaux « STOP ». "]
[null,"RAPPEL DE QUELQUES ARTICLES DU REGLEMENT STANDARD DES RALLYES 2018 :"]
[null," - Le port du casque est interdit en dehors des épreuves spéciales (art 3.2.9). Respectez les panneaus Zones Casques."]
[null,"- Il est interdit, sur les liaisons, de « chauffer les pneus » par déplacement anormal de la voiture ou par tout autre moyen. Ce qui veut dire que faire des zigzags ou conduire par à coups est strictement interdit. Les juges de faits seront très attentifs sur ce point (art 6.4.7)."]
[null,"-  Identification des voitures : Conforme aux nouvelles dispositions d’identification des voitures de rallyes (décret n°2012-312 du 5 mars 2012 qui modifie l’article R.411-29 du code de la route et arrêtés du 14 mars 2012 etdu 28 mars 2012), l’identification des voitures se fera par l'apposition de deux numéros (210mm x 140mm), l’un situé à l’avant de la voiture, et l’autre à l’arrière. Vous devez conserver cette identification durent tout le Rallye. Sa validité est limitée à la durée du Rallye et  à l'itinéraire prévu pour le rallye. "]
[null,"® ARRET SUR UNE ES  "]
[null,"Si vous devez vous arrêter sur une ES ou effectuez une sortie de route, ayez les réflexes suivants :"]
[null,"-Garer le mieux possible votre voiture pour ne pas gêner les concurrents suivants."]
[null,"-Mettre votre triangle de sécurité en amont et suffisamment loin de votre voiture."]
[null,"-Présenter le panneau OK vert si tout va bien ou la Croix Rouge si vous avez besoin d’une assistance médicale urgente. Ne demander du secours que si cela est utile, car dans le cas contraire, vous mobilisez des secours qui pourraient être plus utiles ailleurs. Téléphonez au PC course dés que possible au numéro indiqué ci-dessus. Vous avez toujours la possibilité de consulter le médecin chef qui est au PC Course ou attendre le passage de la voiture balai pour exprimer votre souhait d’être examiné."]
[null,"-Règle impérative : à partir du moment où un passage est possible, même au ralenti ou dans le bas côté, vous devez passer et continuer votre course. Il est interdit de bloquer la course et vous risquez de gêner les secours éventuels."]
[null,"-Si le passage est impossible, essayez de débloquer la situation. Voyez ensuite le Chargé des Relations avec les Concurrents pour expliquer la situation et éventuellement revoir votre temps."]
[null,"® CONDUITE A TENIR EN CAS D’ACCIDENT  "]
[null,"-Si vous arrivez sur une sortie de route d’un pilote qui vous précède vous devez continuer votre route pour prévenir un poste de commissaire équipé d’une radio ou le point stop."]
[null,"-Si la voiture gêne, si elle constitue un danger, la décision de faire intervenir la dépanneuse appartient au Directeur de Course. La seule obligation de l’organisateur est de mettre à disposition une dépanneuse pour dégager la route de course."]
[null,"- NE PAS Appeler les secours médicaux sans raison urgente et valable. Vous pourriez mobiliser les moyens de secours qui pourraient être plus utiles sur une intervention plus grave. Vous avez toujours la possibilité de consulter le médecin chef qui est au PC Course ou attendre le passage de la voiture balai pour exprimer votre souhait d’être examiné."]
[null,"-Si vous avez un accident impliquant du public. Vous devez impérativement rester sur place en attendant les services de police ou de gendarmerie."]
[null,"® RESTITUTION de LICENCE  "]
[null,"Vous devez toujours être porteur de votre licence sportive. "]
[null,"Tout Licencié - Blessé ou Non - dont l'accident  lors  d'une épreuve a entrainé l'intervention des secours est désormais tenu de restituer sa licence à la FFSA. Cette mesure s'applique indistinctement que l'intervention des secours ait été demandée par les officiels, l'équipage, leurs ayant droits ou leurs accompagnateurs."]
[null,"En cas de refus, des sanctions pourront être appliquées par le pouvoir sportif. "]
[null,"La licence sera suspendua Administrativement jusqu'à réception à la FFSA d'un certificat médical attestant de l'absence de contre indication à la reprise de la partique, de la guérison ou de la consolidation du licencié, Ce certificat sera adressé à la FFSA par lettre recommandé avec accusé de réception."]
[null,"® DEPANNAGES "]
[null,"Les dépanneuses mises à la disposition de la Direction de Course par l’organisation ont pour seule mission de dégager la route de course en cas d’obstruction totale et ce pour rétablir un passage. Si une voiture est arrêtée dans le bas côté, si elle gêne ou est en trajectoire elle ne sera pas obligatoirement dépannée."]
[null,"En aucun cas un concurrent ne peut exiger le déplacement de sa voiture, y compris entre deux passages. "]
[null,"Les concurrents devront faire leurs affaires des dépannages et transports divers qui peuvent être négociés avec les dépanneurs du rallye mais à la fin de l’épreuve."]
[null,"® EXTINCTEURS ( Art 4.7) "]
[null,"Les extincteurs installés conformes à la liste n°16 devront être obligatoirement dégoupîllés et/ou armés à partir des vérifications techniques jusqu'à la sortie du Parc Fermé d'arrivé."]
[null,"En cas de non respect : Avante le départ du rallye : Mise en conformité, Pandant le Rallye : pénalité pouvant aller jusqu'à l'exclusion."]
[null,"® ASSISTANCE "]
[null,"Dans le parc d’assistance il est obligatoire de respecter l’article 4.3.2.1 du règlement standard des rallyes (extincteur de 5 kg visible , bâche étanche et enlèvement des ordures)."]
[null,"La bonne observation de ces obligations sera vérifiée par des juges de faits."]
[null,"® ACCIDENT SUR UN SECTEUR DE LIAISON"]
[null,"Faire un constat amiable. En tant que concurrents, vous êtes assurés par l’organisateur du rallye pour les dégâts causés à des tiers. A la place de l’assuré, noter l’intitulé du rallye, et à la place du conducteur mettre vos coordonnées en n’oubliant pas votre numéro de course. Remettre ce constat amiable à la direction de course."]
[null,"® RAPPELS IMPORTANTS"]
[null,"Un triangle signale une gêne sur la route  RALENTIR soyez vigilant. "]
[null,"Un drapeau jaune agité signale un danger sur ou au bord de la route â réduisez votre vitesse et soyez prêts à changer de Direction voir Vous arrèter."]
[null,"Un drapeau blanc signale une voiture au ralenti ou une voiture d’intervention de sécurité du rallye. PRUDENCE. "]
[null,"Il est possible que vous rattrapiez une voiture d’intervention. Dans ce cas, celle-ci a pour consigne de vous laisser passer dès que possible. Elle est signalée par la présentation aux postes de commissaires par un drapeau blanc et vous aurez une information au départ."]
[null,"Il se peut que l'ES soit interompue ou prenne du retard. Dans ce cas, les voitures doivent attendre les consignes de la Direction de Course. Les concurrents doivent faire leur affaire des conditions dans lesquelles le départ sera redonné (température des pneus et/ou du moteur et des freins)."]
[null,"Sur les secteurs de liaison, vous êtres soumis au respect du code de la route. Toute infraction relevée à votre encontre peut être aggravée par le pouvoir sportif."]
[null,"Vous êtes responsable des pointages et indications portés sur votre carnet de bord."]
[null,"Vous devez impérativement faire connaître à la Direction de Course les dommages que vous avez pu commettre à des biens (poteaux renversés, clôture, parapets détériorés, etc…)"]
[null,null,null,null,null,null," BON RALLYE"]
[]
[null,null,null,null,null,null,null,null,null,"Le Directeur de Course :",null,{"$f":"Officiels!K15","v":"LORRE Joseph"}]
[null,null,null,null,null,null,null,null,null,null,"Lic :",{"$f":"Officiels!E15","v":"10395"}]

{"sheet":"Service","index":34,"n_rows":48,"n_cols":10,"rows_kept":48,"cut":false,"hidden":false,"merged":[[46,9,46,10],[46,4,46,8],[30,8,30,10],[31,8,31,10],[32,8,32,10],[13,0,13,3],[12,5,12,6],[13,5,13,6],[12,7,12,10],[13,7,13,10],[33,8,33,10],[23,1,23,2],[22,4,22,7],[23,4,23,7],[34,1,34,2],[33,4,33,7],[31,1,31,2],[19,4,19,7],[24,4,24,7],[34,4,34,7],[31,4,31,7],[32,4,32,7],[30,4,30,7],[32,1,32,2],[29,4,29,7],[21,1,21,2],[22,1,22,2],[23,8,23,10],[21,4,21,7],[24,1,24,2],[24,8,24,10],[20,1,20,2],[21,8,21,10],[1,8,1,9],[3,0,3,8],[4,0,4,8],[5,0,5,8],[6,0,6,8],[29,8,29,10],[33,1,33,2],[30,1,30,2],[27,0,27,10],[8,0,8,10],[10,5,10,10],[20,4,20,7],[11,5,11,10],[16,0,16,10],[14,0,14,4],[19,8,19,10],[20,8,20,10],[14,5,14,10],[17,0,17,10],[12,0,12,3],[22,8,22,10],[44,1,44,2],[44,4,44,7],[44,8,44,10],[42,1,42,2],[42,4,42,7],[42,8,42,10],[10,0,10,3],[41,1,41,2],[41,4,41,7],[41,8,41,10],[43,1,43,2],[43,4,43,7],[43,8,43,10],[36,0,36,10],[37,0,37,10],[39,4,39,7],[39,8,39,10],[40,1,40,2],[40,4,40,7],[40,8,40,10],[26,0,26,10],[34,8,34,10]]}
[]
[]
[]
[{"$f":"Rallye!E10","v":"16ème Rallye du PAYS de St-YRIEX"}]
[{"$f":"Rallye!E12","v":"15 et 16 Septembre 2018"}]
[{"$f":"Rallye!E19","v":"ASA Saint Martial"}]
[{"$f":"Rallye!E14","v":"LRSA Nouvelle Aquitaine Sud"}]
[]
["Tableau de Service Direction de Course"]
[null,null,null,null,"Heure :"]
["BRIEFING DC ES ",null,null,null,"11:00:00","LORRE Joseph"]
["BRIEFING Voit Encadrement ",null,null,null,"10:30:00","LORRE Joseph"]
["VERIFS Administratives",null,null,null,{"$f":"Rallye!E23","v":"2018-09-15"},{"$f":"Rallye!G23","v":"08:00:00"},null,"FAUVEL serge"]
["VERIFS Techniques",null,null,null,{"$f":"Rallye!E25","v":"2018-09-15"},{"$f":"Rallye!G25","v":"08:30:00"},null,"GHIGO Gérard"]
["Délégué au Rallye 2",null,null,null,null,"BATTE Pascal"]
[]
[{"$f":"Rallye!E48","v":"1ère Etape  Sections  1 - 2"}]
[{"$f":"Rallye!E50","v":"2018-09-15"}]
[]
[null,null,null,"Mise en Place","DC Terrain",null,null,null,"DC - PC"]
["ES :","1 - 4",null,"13:30:00","ISNARD Christian"]
["ES :","2 - 5",null,"14:15:00","DESMOULINS Roger"]
["ES :","3 - 6",null,"15:00:00","PERROT José"]
["ES :"]
["ES :"]
[]
[{"$f":"Rallye!E99","v":"2ème Etape Sections 3 - 4 - 5"}]
[{"$f":"Rallye!E101","v":"2018-09-16"}]
[]
[null,null,null,"Mise en Place","DC Terrain",null,null,null,"DC - PC"]
["ES :","7 - 9 - 11",null,"06:45:00","DESMOULINS Roger"]
["ES :","8 - 10 - 12",null,"07:00:00","ISNARD Christian"]
["ES :","Inter",null,"07:00:00","PERROT José"]
["ES :"]
["ES :"]
[]
[{"$f":"Rallye!E156","v":0}]
[{"$f":"Rallye!E158","v":"00:00:00"}]
[]
[null,null,null,"Mise en Place","DC Terrain",null,null,null,"DC - PC"]
["ES :"]
["ES :"]
["ES :"]
["ES :"]
["ES :"]
[]
[null,null,null,null,"Le Directeur de Course :",null,null,null,null,{"$f":"Officiels!K15","v":"LORRE Joseph"}]
[null,null,null,null,null,null,null,null,"Lic :",{"$f":"Officiels!E15","v":"10395"}]

{"sheet":"Brieff_Com","index":35,"n_rows":144,"n_cols":10,"rows_kept":144,"cut":false,"hidden":false,"merged":[[17,1,17,11],[11,3,11,5],[142,7,142,8],[9,1,9,10],[1,8,1,9],[3,1,3,7],[8,1,8,10],[4,1,4,7],[12,1,14,12],[6,1,6,12]]}
[]
[]
[]
[null,{"$f":"Rallye!E10","v":"16ème Rallye du PAYS de St-YRIEX"}]
[null,{"$f":"Rallye!E11","v":"3ème Rallye VHC du PAYS de St-YRIEX"}]
[]
[null,"Briefing Commissaire"]
[]
[null,"La  direction  de  course  vous  souhaite  la  bienvenue. Vous  voudrez  bien  prendre connaissance avec  attention  de  ce  document, très  important."]
[null,"Votre  rôle  est  très important et indispensable, vous devez faire preuve de sérieux et de compétence."]
[]
[null,null,null,{"$f":"Rallye!E35","v":555004997},null,null,"Notez ce numéro et, mieux, enregistrez le dans votre téléphone."]
[null,"ATTENTION : Ce numéro ne doit être utilisé qu'en cas d'absolue nécessité, en cas de problème grave et si vous n'arrivez pas à joindre le directeur de course de votre ES."]
[]
[]
[null,"CONSIGNES GENERALES :"]
[]
[null,"NE VOUS EXPOSEZ PAS, NE PRENEZ AUCUN RISQUE, PORTEZ VOTRE CHASUBLE."]
[]
[null,"Affectation des postes"]
[null,null,"L’organisateur s’engage, lors de la présentation de son dossier en Préfecture, à ce que TOUS LES POSTES référencés soient couverts par des  "]
[null,null,"commissaires formés.Cette obligation le contraint à faire les affectations AVANT le rallye et il est impossible de modifier cette liste, "]
[null,null,"sauf cas de force majeure décidé par le directeur de course."]
[null,null,"Vous aurez au bout de la ligne le Directeur de Course ou un Adjoint. N’appeler que pour des cas urgents, et/ou sérieux. "]
[null,null,"Notez ce numéro et enregistrez-le sur votre portable pour la durée de l’épreuve."]
[null," "]
[null,"RADIOS :"]
[null,null,"Votre poste est pourvu d’une radio VHF. Cette radio vous met en liaison avec votre directeur de course de l’ES et le P.C. "]
[null,"Quelques règles impératives :"]
[null,null,"- Pour parler, appuyez sur la «pédale», attendre une ou deux secondes et parlez."]
[null,null,"- Parlez calmement, lentement et sans crier."]
[null,null,"- Toujours vous identifier : « Ici poste n°…. Dans l’ES n°….  Appelle le PC ». Et attendre que le PC réponde pour engager la conversation. "]
[null,null,"- Soyez clairs et précis."]
[null,null,"- Vérifiez dès votre arrivée au poste, que vous êtres sur le bon canal et faire un appel au PC. Sinon appelez le PC par téléphone pour avoir le bon canal."]
[null,null,"- Attention de bien recharger votre radio."]
[]
[null,"IMPORTANT : De H -90’ jusqu’au passage de votre directeur de course de l’ES après l’épreuve, "]
[null,"vous devez être constamment à l’écoute de votre radio et en mesure de répondre aux appels."]
[]
[null,"HORAIRES :"]
[null,"Soyez à l’heure, c’est indispensable. Votre retard pourrait entrainer une annulation de l’ES si votre poste n’est pas couvert."]
[null,null,"Vous  devez, sauf avis contraire, fermer les routes à H-90’ (mettre en place les rubalises) interdire toute circulation et rester à votre poste pendant "]
[null,null,"toute la durée de l’Épreuve. "]
[null,null,"Les cas particuliers (riverain près de chez lui, service d’urgence tels que médecin, infirmier(e), etc.…) devront faire l’objet d’une demande"]
[null,null,"auprès la direction de course."]
[]
[null,"Ne jamais laisser remonter en sens inverse de la course"]
[]
[null,"CONDUITE A TENIR :"]
[null,"Pour tous les cas suivants, vous devez prévenir le P.C. COURSE, soit :"]
[null,null,"- En utilisant votre radio ou votre téléphone portable (enregistrez le numéro de téléphone du P.C.)"]
[null,null,"- En l'absence d'autres moyens de communication et pour les cas graves seulement, en arrêtant brièvement une voiture de course et en lui demandant "]
[null,null,"de prévenir le Point STOP."]
[]
[null,"REGLES DE BASE :"]
[null,"En aucun cas, sauf absolue impossibilité, vous ne pouvez ou ne devez arrêter les voitures."]
[null,null,"Au contraire, vous devez faire le nécessaire pour faire passer les concurrents."]
[null,null,"Vous n’avez absolument pas le droit de vous servir d’un drapeau autre que les jaunes, le bleu (épreuves en boucle) "]
[null,null,"ou le blanc (voiture d’un concurrent ou d’intervention au ralenti)."]
[]
[null,"IMPORTANT"]
[null,null,"Le choix des moyens d’une intervention éventuelle reste du seul ressort du directeur de course du rallye, "]
[null,null,"le quel trvaille en concertation avec le directeur de course délégué sur l’ES."]
[null,null,"Un commissaire ne peut donc être tenu comme responsable d’un événement découlant de la seule responsabilité du directeur de course, "]
[null,null,"sauf si celui-ci ne respecte pas les consignes et les ordres de la direction de course."]
[null,null,"Vous ne devez pas prendre de responsabilité à ce niveau, car en cas d’erreur ou de mauvaise appréciation, vous pourriez être mis en cause."]
[]
[null,"ARRET D’UNE VOITURE AUX ENVIRONS DE VOTRE POSTE SUR PANNE ou SORTIE DE ROUTE SANS GRAVITE :"]
[null,null,"- Mettre en place la signalisation (drapeau jaune),"]
[null,null,"- Demander au concurrent de se garer le mieux possible, "]
[null,null,"- Demander au concurrent de mettre son triangle de sécurité, "]
[null,null,"- Si Abandon Récupérer le carnet de bord et le carnet d’infraction,"]
[null,null,"-  Prévenir le P.C."]
[]
[null,"LA VOITURE GENE :"]
[null,null,"-  Garder la signalisation en place."]
[null,null,"-  Prévenir la direction de course qui avertit les concurrents suivants"]
[null,null,"-  En aucun cas les concurrents ne peuvent être arrêtés  si un passage reste possible,  même au ralenti, même dans les bas côtés. "]
[null,null,"   Essayez de garer le véhicule du mieux possible."]
[]
[null,"EN AUCUN CAS, quand un passage est possible, la course sera arrêtée pour faire intervenir la dépanneuse."]
[]
[null,"LA VOITURE BLOQUE VRAIMENT L’ES"]
[null,null,"- Essayer de la dégager avec les moyens à votre disposition et éventuellement avec l’aide des pilotes bloqués, en toute sécurité."]
[null,null,"- Noter les numéros des voitures qui ont été arrêtées, les faire repartir très vite dès que possible et prévenir le P.C."]
[null,null,"- Si impossible de dégager la route, Prévenir le PC (Cas exceptionnels) et suivre les consignes."]
[]
[null,"OCCUPANTS BLESSES :"]
[null,null,"- Prévenir le PC course en donnant si possible, la gravité selon-vous des blessures : blessures graves, blessures légères etc…et qui est blessé."]
[null,null,"- Utiliser les moyens de transmission de l’information pour prévenir votre direction de course."]
[null,null,"- Ne pas arrêter la course, vous n’en n’avez pas le droit et suivre les directives du P.C. "]
[null,null,"Il vaut mieux que les concurrents aillent vers la fin de l’ES pour que l’accès des secours soit plus facile au lieu de l’accident."]
[null,null,"- Si les blessures ne sont que légères, dire aux concurrents qu’ils seront vus par le médecin de l’épreuve après le passage de la voiture balai."]
[]
[null,"SPECTATEURS BLESSES"]
[null,null,"- Le concurrent qui a causé les blessures doit être maintenu sur place, dans l’attente de la décision de la direction de course et des autorités. "]
[null,null,"Il sera entendu par les forces de l’ordre, soit sur place, soit à la brigade."]
[null,null,"- Sa voiture doit être garée le mieux possible"]
[null,null,"- La signalisation doit être mise en place (triangle et drapeau) "]
[null,null,"- Prévenir la direction de course en faisant un état des lieux rapide."]
[null,null,"- Faire appel à témoin pour des vidéos."]
[]
[null,"Dépannages :"]
[null,null,"- Lorsqu’un concurrent s’arrête ou est accidenté à proximité de votre poste, vous allez très certainement subir des pressions de ce pilote qui estime "]
[null,null,"que sa voiture est en trajectoire et qu’il faut la dégager et faire venir la dépanneuse."]
[null,null,"- Si vous refusez, il va se trouver quelque peu blessé (mal au dos ou au cou).   Ne tombez pas dans le piège :"]
[null,null,"- Nous  ne  pouvons  pas  intervenir sur les examens légers, car les secours peuvent être demandés ailleurs sur un accident plus grave."]
[null,null,"- Vous appréciez les blessures. En cas de doute, vous appelez la direction de course. Il est possible de faire intervenir le médecin pendant la course, "]
[null,null,"sans que celle-ci soit arrêtée, mais une intervention médicale ne veut pas dire un dépannage pour un motif futile, il pourrait y avoir des poursuites."]
[null,null,"En effet, mobiliser des secours inutilement peut empêcher d’intervenir sur un accident beaucoup plus grave."]
[null,null,"Vous prévenez le concurrent que si l’intervention médicale est demandée "]
[]
[null,null,"L’obligation d’un organisateur (c’est écrit dans le France-Auto) est de prévoir une dépanneuse pour DEGAGER la route de course et pas les bas côtés. "]
[null,null,"Nous ne sommes pas un service de dépannage. Si après l’épreuve, un concurrent veut se faire dépanner, il négocie le coût avec le dépanneur."]
[null,null,"La voiture doit cependant être balisée (triangle, drapeau). Si un autre concurrent vient taper dans la voiture arrêtée alors que la signalisation est en place,"]
[null,null," il sera tenu pour responsable, avec les conséquences que cela peut avoir."]
[]
[null,"Rapports :"]
[null,null,"- Dans tous les cas, vous devez faire des rapports précis et circonstanciés. Pour cela, utiliser les rapports donnés par l’organisation."]
[null,null,"- Essayez de noter les identités des tiers lésés (adresse et n° de téléphone)."]
[null,null,"- En cas d’accident grave, vous tenir à la disposition de la direction de course."]
[null,null,"- Le rapport doit comporter votre nom, le n° de licence, votre numéro de poste, l’heure, les explications de ce que vous avez vu, un croquis pour expliquer."]
[]
[null,"Les RTS :"]
[null,null,"- Le commissaire ou le chef de poste est en possession du plan de la zone visuelle dans laquelle ils évoluent, "]
[null,null,"de manière à bien comprendre et visualiser les éventuelles zones autorisées au public, et donc, toutes celles qui par opposition ne le sont pas."]
[null,null,"- Il est du ressort du commissaire ou du chef de poste de notifier à la direction de course la présence de public en zone non autorisée."]
[]
[null,"GESTION DU PUBLIC"]
[null,null,"- Votre mission sportive (pointage des voitures, intervention en cas d’accident,  …etc) est doublée d’une mission de gestion du public. "]
[null,null,"Cette gestion du public peut aussi être votre mission principale."]
[null,null,"- Dans tous les cas vous devez bien connaître les règles de base, afin de pouvoir les rappeler au public :"]
[null,null,"- Le public est autorisé UNIQUEMENT DERRIERE les filets verts ou les rubalises Vertes."]
[null,null,"- En dehors de ces zones autorisées, Le public est INTERDIT PARTOUT, même si cette interdiction n'est pas matérialisée "]
[null,null," par des panneaux d'interdiction, par de la rubalise rouge, etc …"]
[null,null,"- Rappel : vous ne devez jamais tolérer du public derrière une rubalise rouge puisque celle-ci ne fait que renforcer la visualisation "]
[null,null,"d'une zone particulièrement dangereuse déjà interdite !"]
[]
[null,"DISTRIBUTION – RESTITUTION du MATERIEL "]
[null,"N’oubliez pas, à la fin de votre mission de rendre le matériel qui vous a été confié."]
[null,"BON RALLYE – NE VOUS EXPOSEZ PAS – PORTEZ VOTRE CHASUBLE"]
[]
[null,null,null,null,null,null,null,"Le Directeur de Course :",null,{"$f":"Officiels!K15","v":"LORRE Joseph"}]
[null,null,null,null,null,null,null,null,"Lic :",{"$f":"Officiels!E15","v":"10395"}]

{"sheet":"V_Encd","index":36,"n_rows":68,"n_cols":8,"rows_kept":68,"cut":false,"hidden":false,"merged":[[56,1,56,9],[59,1,59,9],[67,3,67,4],[39,1,39,2],[43,1,43,2],[21,1,21,2],[31,1,31,2],[58,1,58,9],[67,6,67,7],[37,1,37,2],[31,6,31,7],[61,1,61,9],[25,1,25,2],[65,1,65,2],[67,1,67,2],[63,1,63,7],[60,1,60,9],[52,1,52,4],[55,1,55,9],[15,3,15,4],[45,1,45,2],[8,1,8,9],[49,1,49,2],[49,6,49,7],[34,1,34,4],[35,1,35,2],[27,1,27,2],[12,7,12,9],[19,1,19,2],[54,1,54,9],[10,1,10,3],[9,1,9,9],[6,0,6,5],[12,1,12,2],[1,6,1,7],[3,0,3,5],[4,0,4,5],[5,0,5,5],[15,1,15,2],[12,5,12,6],[12,3,12,4],[17,1,17,2],[15,5,15,6]]}
[]
[]
[]
[{"$f":"Rallye!E10","v":"16ème Rallye du PAYS de St-YRIEX"}]
[{"$f":"Rallye!E12","v":"15 et 16 Septembre 2018"}]
[{"$f":"Rallye!E19","v":"ASA Saint Martial"}]
[{"$f":"Rallye!E14","v":"LRSA Nouvelle Aquitaine Sud"}]
[]
[null,"ENGAGEMENT VEHICULE D'ENCADREMENT"]
[null,"PRESENCE au BRIEFING Direction de Course"]
[null,"Identification de la Voiture :"]
[]
[null,"Voiture ( Fonction ) :",null,null,null,"Marque et Type :"]
[]
[]
[null,"Immatriculation :",null,null,null,"Couleur : "]
[]
[null,"PILOTE :"]
[]
[null,"Nom et Prénom : "]
[]
[null,"Adresse : "]
[]
[]
[]
[null,"Code Postal : ",null,null,null,"Ville : "]
[]
[null,"Permis de Conduire "]
[]
[null,null,"Numéro :",null,null,"Délivré le :   ",null,"à : "]
[]
[null,"Licence FFSA ",null,"Numéro : ",null,null,"Code Comité/ASA : "]
[]
[]
[null,"N° Portable pendant le Rallye : "]
[null,"CO - PILOTE :"]
[]
[null,"Nom et Prénom : "]
[]
[null,"Adresse : "]
[]
[]
[]
[null,"Code Postal : ",null,null,null,"Ville : "]
[]
[null,"Permis de Conduire "]
[]
[null,null,"Numéro :",null,null,"Délivré le :   ",null,"à : "]
[]
[null,"Licence FFSA ",null,"Numéro : ",null,null,"Code Comité/ASA : "]
[]
[]
[null,"N° Portable pendant le Rallye : "]
[]
[null,"L'équipage déclare connaître les règlements de la FFSA pour ce qui concerne sa fonction et il s'engage à les respecter."]
[]
[null,"Le non respect des règles pourra entrainer l'interdiction par le Directeur de course de poursuivre la mission."]
[]
[null,"Il est rappelé aux pilotes des voitures  d'encadrement qu'ils ne doivent prendre aucun risque sur les ES et qu'ils doivent assumer"]
[null,"totalement leur fonction. Sur les secteurs de liaison, le respect du code de la route est impératif. "]
[]
[null,"En cas de NON Respect de la mission, la fonction pourra être suspendue."]
[]
[null,"Nous confirmons notre présence au Briefing de la Direction de Course"]
[]
[null,"Fait à : ",null,null,null,null,"Le :  "]
[]
[null,"Signatures",null,"PILOTE",null,null,"CO-PILOTE"]

{"sheet":"R_Licence","index":37,"n_rows":46,"n_cols":8,"rows_kept":46,"cut":false,"hidden":false,"merged":[[26,1,26,9],[28,1,28,9],[45,1,54,9],[30,1,30,9],[32,1,32,9],[34,8,34,9],[38,1,38,3],[38,6,38,9],[20,1,20,9],[22,1,22,3],[15,1,15,3],[15,4,15,9],[24,1,24,2],[11,4,11,9],[13,1,13,3],[13,4,13,9],[11,1,11,3],[18,1,18,9],[9,1,9,9],[1,6,1,7],[4,0,4,5],[5,0,5,5],[6,0,6,5],[8,1,8,9],[3,0,3,6]]}
[]
[]
[]
[{"$f":"Rallye!E10","v":"16ème Rallye du PAYS de St-YRIEX"}]
[{"$f":"Rallye!E12","v":"15 et 16 Septembre 2018"}]
[{"$f":"Rallye!E19","v":"ASA Saint Martial"}]
[{"$f":"Rallye!E14","v":"LRSA Nouvelle Aquitaine Sud"}]
[]
[null,"FORMULAIRE DE RESTITUTION DE LA LICENCE"]
[null,"APRES ACCIDENT"]
[]
[null,"Nom de l'Officiel :"]
[]
[null,"Numéro de Licence :"]
[]
[null,"Fonction sur l'Epreuve :"]
[]
[]
[null,"Je soussigné (ci-dessus) déclare avoir procédé au retrait de la licence du concurrent"]
[]
[null,"n°               conformément à l'article 1.5 de la règlementation médicale F.F.S.A."]
[]
[null,"Nom du Concurrent :"]
[]
[null,"Licence n° :"]
[]
[null,"En cas d'impossibilité de procéder au retrait, précisez les motifs : gravité de l'accident "]
[]
[null,"et / ou les blessures / refus du concurrent de restituer sa licence / autres :"]
[]
[]
[]
[]
[]
[null,null,null,null,"Fait le (Date)  :   ",null,null,"à (Heure) :"]
[]
[null,null,null,null,"A(Lieu) :"]
[]
[null,"Signature du Concurrent ",null,null,null,null,"Signature de l'Officiel"]
[]
[]
[]
[]
[]
[]
[null,"IMPORTANT : Le concurrent est informé que sa licence sera suspendue administrativement jusqu'à la réception par la FFSA d'un certificat médical attestant de l'absence de contre indication à la reprise de la pratique, de la guérison ou de la consolidation du licencié. Ce certificat sera adressé à la FFSA par lettre recommandée avec avis de réception (A l'intention du Pôle Haut Niveau - Mme Sylvie SALGUES). Le cas échéant et après consultation soit de la commission médicale, soit du médecin fédéral national, la FFSA se réserve le droit de soumettre l'intéressé à une nouvelle visite médicale qui devra être effectuée suivant les modalités de contrôle médical annuel.                                                                                                                                                                                                     Les licenciés sont tenus d'indiquer à la commission médicale de la FFSA toute modification qui surviendrait dans leur état de santé."]

{"sheet":"Att_Acc","index":38,"n_rows":37,"n_cols":10,"rows_kept":37,"cut":false,"hidden":false,"merged":[[1,6,1,7],[3,0,3,5],[4,0,4,5],[5,0,5,5],[6,0,6,5],[17,2,17,4],[15,2,15,3],[31,2,31,3],[11,1,11,9],[17,5,17,9],[15,4,15,6],[19,5,19,7],[12,1,12,8],[36,5,36,7],[19,2,19,4],[25,4,25,8],[33,3,33,6],[31,7,31,8],[23,2,23,9],[21,5,21,8],[31,4,31,5]]}
[]
[]
[]
[{"$f":"Rallye!E10","v":"16ème Rallye du PAYS de St-YRIEX"}]
[{"$f":"Rallye!E12","v":"15 et 16 Septembre 2018"}]
[{"$f":"Rallye!E19","v":"ASA Saint Martial"}]
[{"$f":"Rallye!E14","v":"LRSA Nouvelle Aquitaine Sud"}]
[]
[]
[]
[]
[null,"ATTESTATION"]
[]
[]
[]
[null,null,"Je soussigné ",null,{"$f":"Officiels!K15","v":"LORRE Joseph"}]
[]
[null,null,"Directeur de Course de l'épreuve : ",null,null,{"$f":"Rallye!E10","v":"16ème Rallye du PAYS de St-YRIEX"}]
[]
[null,null,"Certifie que le Concurrent : ",null,null,"Paul PETIT",null,null,"n° :",6]
[]
[null,null,null,null,"Pilote :"]
[]
[null,null,"régulièrement engagé sur cette épreuve a abandonné sur raison mécanique suite sortie de route."]
[]
[null,null,"dans l'ES :",1,"de la première étape."]
[]
[]
[]
[]
[]
[null,null,"Fait à :",null,{"$f":"Rallye!E17","v":"87500 St-YRIEX La PERCHE"},null,"le : ",{"$f":"TODAY()","v":"2018-12-16"}]
[]
[null,null,null,"pour valoir ce que de droit."]
[]
[]
[null,null,null,null,null,{"$f":"Officiels!K15","v":"LORRE Joseph"}]

{"sheet":"A_Video","index":39,"n_rows":46,"n_cols":8,"rows_kept":46,"cut":false,"hidden":false,"merged":[[44,5,44,6],[16,2,16,9],[19,1,19,9],[21,1,21,9],[24,1,24,4],[26,1,26,4],[28,1,28,4],[30,1,30,4],[32,1,32,4],[11,1,11,9],[12,1,12,8],[6,0,6,5],[1,6,1,7],[3,0,3,5],[4,0,4,5],[5,0,5,5]]}
[]
[]
[]
[{"$f":"Rallye!E10","v":"16ème Rallye du PAYS de St-YRIEX"}]
[{"$f":"Rallye!E12","v":"15 et 16 Septembre 2018"}]
[{"$f":"Rallye!E19","v":"ASA Saint Martial"}]
[{"$f":"Rallye!E14","v":"LRSA Nouvelle Aquitaine Sud"}]
[]
[]
[]
[]
[null,"AUTORISATION TV"]
[]
[]
[]
[]
[null,"La Société "]
[]
[]
[null,"est autorisée à pénétrer dans les différents parcs afin d'installer ou de démonter des caméras sur"]
[]
[null,"les véhicules des concurrents suivants :"]
[]
[]
[]
[]
[]
[]
[]
[]
[]
[]
[]
[]
[]
[]
[]
[]
[]
[]
[]
[]
[]
[]
[null,null,null,null,null,"Le Directeur de Course :",null,{"$f":"Officiels!K15","v":"LORRE Joseph"}]
[null,null,null,null,null,null,"Lic :",{"$f":"Officiels!E15","v":"10395"}]

{"sheet":"Officiels","index":40,"n_rows":65,"n_cols":11,"rows_kept":65,"cut":false,"hidden":false,"merged":[[62,10,62,11],[63,10,63,11],[64,10,64,11],[35,10,35,11],[36,10,36,11],[37,10,37,11],[38,10,38,11],[59,10,59,11],[60,10,60,11],[30,10,30,11],[31,10,31,11],[32,10,32,11],[34,10,34,11],[61,10,61,11],[50,6,50,7],[55,10,55,11],[49,10,49,11],[50,10,50,11],[51,10,51,11],[52,10,52,11],[53,10,53,11],[54,10,54,11],[49,6,49,7],[57,6,57,7],[52,6,52,7],[54,6,54,7],[51,6,51,7],[53,6,53,7],[55,6,55,7],[64,6,64,7],[59,6,59,7],[60,6,60,7],[61,6,61,7],[62,6,62,7],[63,6,63,7],[20,6,20,7],[44,6,44,7],[29,6,29,7],[30,6,30,7],[37,6,37,7],[31,6,31,7],[27,6,27,7],[24,6,24,7],[43,6,43,7],[32,6,32,7],[42,6,42,7],[40,6,40,7],[41,6,41,7],[19,6,19,7],[1,7,1,8],[3,0,3,6],[4,0,4,6],[5,0,5,6],[6,0,6,6],[10,1,10,7],[11,1,11,9],[13,6,13,7],[14,6,14,7],[15,6,15,7],[16,6,16,7],[22,10,22,11],[23,10,23,11],[24,10,24,11],[23,6,23,7],[13,10,13,11],[21,10,21,11],[14,10,14,11],[15,10,15,11],[16,10,16,11],[17,10,17,11],[18,10,18,11],[19,10,19,11],[21,6,21,7],[22,6,22,7],[17,6,17,7],[18,6,18,7],[26,10,26,11],[48,10,48,11],[25,6,25,7],[26,6,26,7],[25,10,25,11],[34,6,34,7],[35,6,35,7],[36,6,36,7],[38,6,38,7],[28,6,28,7],[46,6,46,7],[45,6,45,7],[47,6,47,7],[48,6,48,7],[28,10,28,11],[29,10,29,11]]}
[]
[]
[]
[{"$f":"Rallye!E10","v":"16ème Rallye du PAYS de St-YRIEX"}]
[{"$f":"Rallye!E12","v":"15 et 16 Septembre 2018"}]
[{"$f":"Rallye!E19","v":"ASA Saint Martial"}]
[{"$f":"Rallye!E14","v":"LRSA Nouvelle Aquitaine Sud"}]
[]
[]
[]
[null,"OFFICIELS"]
[]
[]
[null,null,"NOM","Prénom","N° Licence","Code ASA","Téléphone"]
[null,"Directeur de Course Général :","LORRE","Joseph","10395",1202,null,null,null,null,{"$f":"CONCATENATE(C15,\" \",D15)","v":"LORRE Joseph"}]
[null,"Directeur de Course Adjt P.C. :","BATTE","Pascal","28230",805,null,null,null,null,"BATTE Pascal"]
[null,"Adjoints à la Direction de Course","GHIGO","Gérard","1967",729,null,null,null,null,"GHIGO Gérard"]
[null,null,"FAUVEL","serge","2517",1507,null,null,null,null,"FAUVEL serge"]
[null,null,null,null,null,null,null,null,null,null," "]
[null,"Responsable Rallye 2","BATTE","Pascal","28230",805,null,null,null,null,"BATTE Pascal"]
[]
[null,"Directeurs de Course E.S. :","DESMOULINS","Roger","4799",1110,null,null,null,null,{"$f":"CONCATENATE(C22,\" \",D22)","v":"DESMOULINS Roger"}]
[null,null,"ISNARD","Christian","210777",1202,null,null,null,null,"ISNARD Christian"]
[null,null,"PERROT","José","6570",1504,null,null,null,null,"PERROT José"]
[null,null,"BRIAT","Jean-Michel","110768",1018,null,null,null,null,"BRIAT Jean-Michel"]
[null,null,"VAURIE","Michel","1059",1017,null,null,null,null,"VAURIE Michel"]
[null,null,"PERROT","Elisabeth","6567",1504,null,null,null,null,"PERROT Elisabeth"]
[]
[null,"Juges de Faits","LAVERGNE","Roland","7041",1001,null,null,null,null,{"$f":"CONCATENATE(C29,\" \",D29)","v":"LAVERGNE Roland"}]
[null,null,"BLANC","Michel","207721",1001,null,null,null,null,{"$f":"CONCATENATE(C30,\" \",D30)","v":"BLANC Michel"}]
[null,null,null,null,null,null,null,null,null,null,{"$f":"CONCATENATE(C31,\" \",D31)","v":" "}]
[null,null,null,null,null,null,null,null,null,null,{"$f":"CONCATENATE(C32,\" \",D32)","v":" "}]
[null,null,null,null,null,null,null,null,null,null,{"$f":"CONCATENATE(C33,\" \",D33)","v":" "}]
[]
[null,"Chargés des Relations Concurrents","CONDEMINE","Cathy","56617",1110,null,null,null,null,{"$f":"CONCATENATE(C35,\" \",D35)","v":"CONDEMINE Cathy"}]
[null,null,"SEGOUIN","Jean-Marrc","3352",1507,null,null,null,null,{"$f":"CONCATENATE(C36,\" \",D36)","v":"SEGOUIN Jean-Marrc"}]
[null,null,"DUMOND","Rémy","3808",1507,null,null,null,null,{"$f":"CONCATENATE(C37,\" \",D37)","v":"DUMOND Rémy"}]
[null,null,null,null,null,null,null,null,null,null,{"$f":"CONCATENATE(C38,\" \",D38)","v":" "}]
[null,"Stagiaire",null,null,null,null,null,null,null,null,{"$f":"CONCATENATE(C39,\" \",D39)","v":" "}]
[]
[null,"Chronométreurs"]
[]
[]
[]
[]
[]
[null,"Stagiaire"]
[]
[null,"Commissaire Technique (Responsable)","PHELIPEAU","Jean-Luc","9060",1110,null,null,null,null,{"$f":"CONCATENATE(C49,\" \",D49)","v":"PHELIPEAU Jean-Luc"}]
[null,"Commissaires Techniques","RATEL","Ghislain","28760",1202,null,null,null,null,{"$f":"CONCATENATE(C50,\" \",D50)","v":"RATEL Ghislain"}]
[null,null,"FOURCADE","Alexandre","28760",1006,null,null,null,null,"FOURCADE Alexandre"]
[null,null,"GENRIES","Didier","228242",902,null,null,null,null,"GENRIES Didier"]
[null,null,"KRUGER","Guillaume","183231",1017,null,null,null,null,"KRUGER Guillaume"]
[null,"Rallye 2",null,null,null,null,null,null,null,null," "]
[null,null,null,null,null,null,null,null,null,null," "]
[null,"Responsable VHC",null,null,null,null,null,null,null,null," "]
[]
[null,"Médecin","CUEILLE","Jean-François"]
[]
[null,"Commissaires Sportifs (Président)","RASORI","Jean","2320",605,null,null,null,null,{"$f":"CONCATENATE(C60,\" \",D60)","v":"RASORI Jean"}]
[null,"Membres","GUILLIER","Gilles","2504",1507,null,null,null,null,"GUILLIER Gilles"]
[null,null,"GHIGO","Denise","1968",729,null,null,null,null,"GHIGO Denise"]
[null,null,null,null,null,null,null,null,null,null," "]
[null,"Secrétaire",null,null,null,null,null,null,null,null," "]
[null,null,null,null,null,null,null,null,null,null," "]

{"sheet":"MC_PC","index":41,"n_rows":321,"n_cols":8,"rows_kept":321,"cut":false,"hidden":false,"merged":[[8,7,9,9],[7,0,7,3],[4,4,6,6],[4,7,6,9],[3,0,3,3],[4,0,4,3],[5,0,5,3],[6,0,6,3],[7,7,7,9]]}
[]
[null,null,null,null,"Document n° :"]
[]
[{"$f":"Rallye!E10","v":"16ème Rallye du PAYS de St-YRIEX"}]
[{"$f":"Rallye!E12","v":"15 et 16 Septembre 2018"},null,null,null,"MAIN COURANTE P.C. ",null,null,{"$f":"Intro!K3","v":43450.393981712965}]
[{"$f":"Rallye!E14","v":"LRSA Nouvelle Aquitaine Sud"}]
[{"$f":"Rallye!E19","v":"ASA Saint Martial"}]
[{"$f":"Rallye!E21","v":"Championnat de France 2ème Div"},null,null,null,"Page : ",3,null,"Reste en Course :"]
[null,null,null,null,null,null,null,{"$f":"Etap3!G62","v":45}]
[null,"Heure","Lieu / Poste","N° Voit.","EVENEMENT","Heure Fin","Durée"]
[null,null,null,null,"Samedi 15 Septembre 2018",null,{"$f":"F11-B11","v":"00:00:00"}]
[null,"07:30:00","PC","DC","Ouverture",null,-0.3125]
[null,"08:00:00","Centre Culturel JPF",null,"Ouverture vérifs Administratives attendus 74 Mod 4 VHC",null,-0.33333333333333331]
[null,"08:30:00","Garage Renault",null,"Ouverture vérifs Techniques",null,-0.35416666666666669]
[null,"11:15:00","Centre Culturel JPF",null,"Fermeture vérifs Administratives 69 Mod 4 VHC",null,-0.46875]
[null,"11:30:00","Garage Renault",null,"Fermeture vérifs Techniques 69 Mod 4 VHC",null,-0.47916666666666669]
[null,"12:45:00","Réunion Collège",null,"Validation liste des partants et ordre et heuresde départ",null,-0.53125]
[null,"13:00:00","PC","DC","Affichage liste des partants et ordre et heures de déparet",null,-0.54166666666666663]
[null,"14:19:00","Stop ES1","Autorité","Validation ES",null,-0.59652777777777777]
[null,"14:40:00","Parc Départ",201,"Sorti du parc 1ère VHC",null,-0.61111111111111105]
[null,"14:59:00","Parc Départ",1,"Sorti du parc 1ère Moderne",null,-0.62430555555555556]
[null,"15:02:00","Stop ES2","Autorité","Validation ES",null,-0.62638888888888888]
[null,"15:15:00","Départ ES 1",201,"Parti dans ES 1ère VHC",null,-0.63541666666666663]
[null,"15:34:00","Départ ES 1",1,"Parti dans ES 1ère Moderne",null,-0.64861111111111114]
[null,"15:45:00","ES 1 Pk 78",null,"SR sur toit demande médical",null,-0.65625]
[null,"15:48:00","Départ ES 1",16,"Arrèt des départs, DC et médecin partis",{"$f":"NOW()","v":43450.393981712965},43449.735648379632]
[null,"15:55:00","ES 1 Pk 78","DC + Médecin","Sur Place",null,-0.66319444444444442]
[null,"15:58:00","Médecin ES 1",6,"Pilote refuse de se faire examiner, co-pilote se plaint du dos évacuation",null,-0.66527777777777775]
[null,null,null,null,"Concurrents génés : 7 - 8 - 9 - 10 - 11 -12 - 15",null,"00:00:00"]
[null,"16:10:00","PC","DC","Retard des départs des modernes sur ES2 de 20 minutes",null,-0.67361111111111116]
[null,"16:16:00","ES 1 Pk 78",null,"Départ ambulance vers centre hospitalier",null,-0.6777777777777777]
[null,"16:18:00","PC","DC","Envoir de l'autorité au départ ES 1 pour ouverture",null,-0.6791666666666667]
[null,"16:33:00","CH 0B",33,"Abandon : Mécanique",null,-0.68958333333333333]
[null,"16:40:00","PC","DC","Décision de neutraliser la spéciale 1",null,-0.69444444444444453]
[null,"17:07:00","Départ ES 2",1,"Parti dans ES 1ère Moderne",null,-0.71319444444444446]
[null,"17:15:00","ES 2 Pk 66",4,"Coupe poteau téléphonique, gène pas",null,-0.71875]
[null,"17:42:00","ES 2 Pk 51",32,"Abandon : Mécanique",null,-0.73749999999999993]
[null,"17:50:00","Départ ES 3",1,"Parti dans ES 1ère Moderne",null,-0.74305555555555547]
[null,"17:51:00","ES 2 Pk 77",40,"Sorti de Route- Gène",null,-0.74375000000000002]
[null,"17:53:00","Départ ES 2","DC","Arrèt des départs, DC et médecin partis","18:21:00","00:28:00"]
[null,"18:15:00","Stop ES 4","Autorité","Validation ES ",null,-0.76041666666666663]
[null,"18:21:00","Départ ES 2",45,"Relance des départs",null,-0.76458333333333339]
[null,"18:40:00","ES 2 Pk ",64,"Abandon : Sortie de route sans Gravité",null,-0.77777777777777779]
[null,"19:06:00","CH 3",50,"Abandon : Mécanique",null,-0.79583333333333339]
[null,"19:11:00","Départ ES 4",201,"Parti dans ES 1ère VHC",null,-0.7993055555555556]
[null,"19:12:00","Stop ES 5","Autorité","Validation ES",null,-0.79999999999999993]
[null,"19:30:00","Départ ES 4",1,"Parti dans ES 1ère Moderne",null,-0.8125]
[null,"19:27:00","ES 3 Pk 16",68,"Abandon : Sortie de route sans Gravité",null,-0.81041666666666667]
[null,"19:37:00","CH 3D",23,"Abandon : Mécanique",null,-0.81736111111111109]
[null,"19:57:00","Stop ES 6","Autorité","Validation ES 4",null,-0.83124999999999993]
[null,"19:54:00","Départ ES 5",201,"Parti dans ES 1ère VHC",null,-0.82916666666666661]
[null,"20:13:00","Départ ES 5",1,"Parti dans ES 1ère Moderne",null,-0.84236111111111101]
[null,"20:32:00","CH 3C",53,"Abandon : Raison Personnelle",null,-0.85555555555555562]
[null,"20:35:00","ES 4 Pk 10",48,"Abandon : Mécanique",null,-0.85763888888888884]
[null,"20:37:00","Départ ES 6",201,"Parti dans ES 1ère VHC",null,-0.85902777777777783]
[null,"20:54:00","Parc Fin Etape",201,"Entré en parc 1ère VHC",null,-0.87083333333333324]
[null,"20:56:00","Départ ES 6",1,"Parti dans ES 1ère Moderne",null,-0.87222222222222223]
[null,"20:54:00","ES 5 Pk 51",36,"Abandon : Mécanique",null,-0.87083333333333324]
[null,"21:06:00","CH 5",57,"Abandon : Mécanique",null,-0.87916666666666676]
[null,"21:12:00","Parc Fin Etape",1,"Entré en parc 1ère Moderne",null,-0.8833333333333333]
[null,"22:33:00","Parc Fin Etape",75,"Entré en parc - 57 en parc",null,-0.93958333333333333]
[null,"23:30:00","PC","DC","Réunion Collège",null,-0.97916666666666663]
[null,"23:35:00","PC","DC","Signature Classements Etape 1 et Ordres de départ Etape 2 (valeur 24h00)",null,-0.98263888888888884]
[null,1,"PC","DC","Fermeture",null,-1]
[null,null,null,null,"2ème Etape Sections 3 - 4 - 5 (Dimanche 16/09/2018)",null,"00:00:00"]
[null,"06:15:00","PC","DC","Ouverture",null,-0.26041666666666669]
[null,"06:15:00","Parc Etape","Trico","Sorti du Parc",null,-0.26041666666666669]
[null,"07:30:00","Parc Etape",203,"Sorti du parc 1ère VHC",null,-0.3125]
[null,"07:46:00","Stop ES 7","Autorité","Validation ES",null,-0.32361111111111113]
[null,"07:45:00","PC","Médecin","SAMU + pompiers prévenus départ Rallye",null,-0.32291666666666669]
[null,"07:45:00","Parc Etape","Techq","Aucun R2 présenté (64-65-32-36-48-57)",null,-0.32291666666666669]
[null,"07:48:00","Parc Etape",1,"Aucun R2 présenté (64-65-32-36-48-57)",null,-0.32500000000000001]
[null,"08:00:00","ES 8 Pk 10,7","Autorité","Manque 1 botte paille chicane  OK sécurisé",null,-0.33333333333333331]
[null,"08:23:00","Départ ES 7",203,"Parti dans ES 1ère VHC",null,-0.34930555555555554]
[null,"08:46:00","Départ ES 8",203,"Parti dans ES 1ère VHC",null,-0.36527777777777781]
[null,"08:41:00","Dépert ES 7",1,"Parti dans ES 1ère Moderne",null,-0.36180555555555555]
[null,"09:04:00","Départ ES 8",1,"Parti dans ES 1ère Moderne",null,-0.37777777777777777]
[null,"08:54:00","ES 7 Pk 14",17,"Abandon : Mécanique",null,-0.37083333333333335]
[null,"09:04:00","ES 7 Pk 22",39,"Arrèt Mécanique",null,-0.37777777777777777]
[null,"09:26:00","ES 8 Pk 153",33,"SRSG équipage OK, gène un peu mais cela passe : Jaune : Abandon",null,-0.39305555555555555]
[null,"09:04:00","ES 7 Pk  22",39,"Abandon : Mécanique",null,-0.37777777777777777]
[null,"09:45:00","CH 8 A",8,"Abandon : Raison Personnelle",null,-0.40625]
[null,"09:59:00","ES 8 Pk 44",58,"Arrèt Mécanique, reparti à 10h04",null,-0.41597222222222219]
[null,"10:06:00","Parc Regrouppement",203,"Sorti du Parc 1ère VHC",null,-0.42083333333333334]
[null,"10:15:00","CH 6 D",67,"7 mnt Retd",null,-0.42708333333333331]
[null,"10:24:00","Parc Regrouppement",1,"Sorti du parc 1ère VHC",null,-0.43333333333333335]
[null,"10:18:00","Stop ES 9","Autorité","Validation ES",null,-0.4291666666666667]
[null,"10:55:00","Stop ES 10","Autorité","Validation ES",null,-0.4548611111111111]
[null,"11:19:00","Départ ES 9",203,"Parti dans ES 1ère VHC",null,-0.47152777777777777]
[null,"11:25:00","CH 8 D",19,"Abandon : Mécanique",null,-0.47569444444444442]
[null,"11:37:00","Départ ES 9",1,"Parti dans ES 1ère Moderne",null,-0.48402777777777778]
[null,"11:42:00","Départ ES 10",203,"Parti dans ES 1ère VHC",null,-0.48749999999999999]
[null,"12:00:00","Départ ES 10",1,"Parti dans ES 1ère Moderne",null,-0.5]
[null,"12:06:00","ES 9 Pk 80",44,"Abandon : Mécanique",null,-0.50416666666666665]
[null,"12:17:00","CH 10",51,"Abandon : Mécanique",null,-0.51180555555555551]
[null,"12:22:00","ES 10 Pk 6",29,"Abandon : Mécanique",null,-0.51527777777777783]
[null,"12:43:00","ES 10 Pk  81",41,"Abandon : Mécanique",null,-0.52986111111111112]
[null,"12:52:00","ES 10",37,"Sorti piste au Pk 169 repris la piste au pk172 dégats cloture et cultures",null,-0.53611111111111109]
[null,"13:00:00","CH 10 A",12,"Abandon : Mécanique",null,-0.54166666666666663]
[null,"13:28:00","PC - Collège",63,"Disqualification par le collège",null,-0.56111111111111112]
[null,"13:21:00","Stop ES 11","Autorité","Validation ES",null,-0.55625000000000002]
[null,"13:45:00","Stop ES 12","Autorité","Validation ES",null,-0.57291666666666663]
[null,"14:15:00","Départ ES 11",203,"Parti dans ES 1ère VHC",null,-0.59375]
[null,"14:33:00","Départ ES 11",1,"Parti dans ES 1ère Moderne",null,-0.60625000000000007]
[null,"14:40:00","CH 12",202,"Abandon : Mécanique",null,-0.61111111111111105]
[null,"14:38:00","Départ ES 12",203,"Parti dans ES 1ère VHC",null,-0.60972222222222217]
[null,"14:56:00","Départ ES 12",1,"Parti dans ES 1ère Moderne",null,-0.62222222222222223]
[null,"15:24:00","ES 12 Pk ??",46,"Géné du 147 à l'arrivée",null,-0.64166666666666672]
[null,"15:25:00","ES 12 Pk ??",38,"Abandon : Mécanique",null,-0.64236111111111105]
[null,"15:45:00","Parc Arrivée",1,"Entré en parc 1ère Moderne",null,-0.65625]
[null,"15:45:00","ES 11 ","DC","Réouverture à la circulation ES",null,-0.65625]
[null,"16:17:00","ES 12","DC","Réouverture à la circulation ES",null,-0.67847222222222225]
[null,"16:45:00","PC","DC","Signature Classements Rallye et Affichage (valeur 16h45)",null,-0.69791666666666663]
[null,"16:45:00","PC","DC","Réunion Collège",null,-0.69791666666666663]
[null,null,null,null,null,null,"00:00:00"]
[null,null,null,null,null,null,"00:00:00"]
[null,null,null,null,null,null,"00:00:00"]
[null,null,null,null,null,null,"00:00:00"]
[null,null,null,null,null,null,"00:00:00"]
[null,null,null,null,null,null,"00:00:00"]
[null,null,null,null,null,null,"00:00:00"]
[null,null,null,null,null,null,"00:00:00"]
[null,null,null,null,null,null,"00:00:00"]
[null,null,null,null,null,null,"00:00:00"]
[null,null,null,null,null,null,"00:00:00"]
[null,null,null,null,null,null,"00:00:00"]
[null,null,null,null,null,null,"00:00:00"]
[null,null,null,null,null,null,{"$f":"F128-B128","v":"00:00:00"}]
[null,null,null,null,null,null,"00:00:00"]
[null,null,null,null,null,null,"00:00:00"]
[null,null,null,null,null,null,"00:00:00"]
[null,null,null,null,null,null,"00:00:00"]
[null,null,null,null,null,null,"00:00:00"]
[null,null,null,null,null,null,"00:00:00"]
[null,null,null,null,null,null,"00:00:00"]
[null,null,null,null,null,null,"00:00:00"]
[null,null,null,null,null,null,"00:00:00"]
[null,null,null,null,null,null,"00:00:00"]
[null,null,null,null,null,null,"00:00:00"]
[null,null,null,null,null,null,"00:00:00"]
[null,null,null,null,null,null,"00:00:00"]
[null,null,null,null,null,null,"00:00:00"]
[null,null,null,null,null,null,"00:00:00"]
[null,null,null,null,null,null,"00:00:00"]
[null,null,null,null,null,null,"00:00:00"]
[null,null,null,null,null,null,"00:00:00"]
[null,null,null,null,null,null,"00:00:00"]
[null,null,null,null,null,null,"00:00:00"]
[null,null,null,null,null,null,"00:00:00"]
[null,null,null,null,null,null,"00:00:00"]
[null,null,null,null,null,null,"00:00:00"]
[null,null,null,null,null,null,"00:00:00"]
[null,null,null,null,null,null,"00:00:00"]
[null,null,null,null,null,null,"00:00:00"]
[null,null,null,null,null,null,"00:00:00"]
[null,null,null,null,null,null,"00:00:00"]
[null,null,null,null,null,null,"00:00:00"]
[null,null,null,null,null,null,"00:00:00"]
[null,null,null,null,null,null,"00:00:00"]
[null,null,null,null,null,null,"00:00:00"]
[null,null,null,null,null,null,"00:00:00"]
[null,null,null,null,null,null,"00:00:00"]
[null,null,null,null,null,null,"00:00:00"]
[null,null,null,null,null,null,"00:00:00"]
[null,null,null,null,null,null,"00:00:00"]
[null,null,null,null,null,null,"00:00:00"]
[null,null,null,null,null,null,"00:00:00"]
[null,null,null,null,null,null,"00:00:00"]
[null,null,null,null,null,null,"00:00:00"]
[null,null,null,null,null,null,"00:00:00"]
[null,null,null,null,null,null,"00:00:00"]
[null,null,null,null,null,null,"00:00:00"]
[null,null,null,null,null,null,"00:00:00"]
[null,null,null,null,null,null,"00:00:00"]
[null,null,null,null,null,null,"00:00:00"]
[null,null,null,null,null,null,"00:00:00"]
[null,null,null,null,null,null,"00:00:00"]
[null,null,null,null,null,null,"00:00:00"]
[null,null,null,null,null,null,"00:00:00"]
[null,null,null,null,null,null,"00:00:00"]
[null,null,null,null,null,null,"00:00:00"]
[null,null,null,null,null,null,"00:00:00"]
[null,null,null,null,null,null,"00:00:00"]
[null,null,null,null,null,null,"00:00:00"]
[null,null,null,null,null,null,"00:00:00"]
[null,null,null,null,null,null,"00:00:00"]
[null,null,null,null,null,null,"00:00:00"]
[null,null,null,null,null,null,"00:00:00"]
[null,null,null,null,null,null,"00:00:00"]
[null,null,null,null,null,null,"00:00:00"]
[null,null,null,null,null,null,"00:00:00"]
[null,null,null,null,null,null,{"$f":"F192-B192","v":"00:00:00"}]
[null,null,null,null,null,null,"00:00:00"]
[null,null,null,null,null,null,"00:00:00"]
[null,null,null,null,null,null,"00:00:00"]
[null,null,null,null,null,null,"00:00:00"]
[null,null,null,null,null,null,"00:00:00"]
[null,null,null,null,null,null,"00:00:00"]
[null,null,null,null,null,null,"00:00:00"]
[null,null,null,null,null,null,"00:00:00"]
[null,null,null,null,null,null,"00:00:00"]
[null,null,null,null,null,null,"00:00:00"]
[null,null,null,null,null,null,"00:00:00"]
[null,null,null,null,null,null,"00:00:00"]
[null,null,null,null,null,null,"00:00:00"]
[null,null,null,null,null,null,"00:00:00"]
[null,null,null,null,null,null,"00:00:00"]
[null,null,null,null,null,null,"00:00:00"]
[null,null,null,null,null,null,"00:00:00"]
[null,null,null,null,null,null,"00:00:00"]
[null,null,null,null,null,null,"00:00:00"]
[null,null,null,null,null,null,"00:00:00"]
[null,null,null,null,null,null,"00:00:00"]
[null,null,null,null,null,null,"00:00:00"]
[null,null,null,null,null,null,"00:00:00"]
[null,null,null,null,null,null,"00:00:00"]
[null,null,null,null,null,null,"00:00:00"]
[null,null,null,null,null,null,"00:00:00"]
[null,null,null,null,null,null,"00:00:00"]
[null,null,null,null,null,null,"00:00:00"]
[null,null,null,null,null,null,"00:00:00"]
[null,null,null,null,null,null,"00:00:00"]
[null,null,null,null,null,null,"00:00:00"]
[null,null,null,null,null,null,"00:00:00"]
[null,null,null,null,null,null,"00:00:00"]
[null,null,null,null,null,null,"00:00:00"]
[null,null,null,null,null,null,"00:00:00"]
[null,null,null,null,null,null,"00:00:00"]
[null,null,null,null,null,null,"00:00:00"]
[null,null,null,null,null,null,"00:00:00"]
[null,null,null,null,null,null,"00:00:00"]
[null,null,null,null,null,null,"00:00:00"]
[null,null,null,null,null,null,"00:00:00"]
[null,null,null,null,null,null,"00:00:00"]
[null,null,null,null,null,null,"00:00:00"]
[null,null,null,null,null,null,"00:00:00"]
[null,null,null,null,null,null,"00:00:00"]
[null,null,null,null,null,null,"00:00:00"]
[null,null,null,null,null,null,"00:00:00"]
[null,null,null,null,null,null,"00:00:00"]
[null,null,null,null,null,null,"00:00:00"]
[null,null,null,null,null,null,"00:00:00"]
[null,null,null,null,null,null,"00:00:00"]
[null,null,null,null,null,null,"00:00:00"]
[null,null,null,null,null,null,"00:00:00"]
[null,null,null,null,null,null,"00:00:00"]
[null,null,null,null,null,null,"00:00:00"]
[null,null,null,null,null,null,"00:00:00"]
[null,null,null,null,null,null,"00:00:00"]
[null,null,null,null,null,null,"00:00:00"]
[null,null,null,null,null,null,"00:00:00"]
[null,null,null,null,null,null,"00:00:00"]
[null,null,null,null,null,null,"00:00:00"]
[null,null,null,null,null,null,"00:00:00"]
[null,null,null,null,null,null,"00:00:00"]
[null,null,null,null,null,null,{"$f":"F256-B256","v":"00:00:00"}]
[null,null,null,null,null,null,"00:00:00"]
[null,null,null,null,null,null,"00:00:00"]
[null,null,null,null,null,null,"00:00:00"]
[null,null,null,null,null,null,"00:00:00"]
[null,null,null,null,null,null,"00:00:00"]
[null,null,null,null,null,null,"00:00:00"]
[null,null,null,null,null,null,"00:00:00"]
[null,null,null,null,null,null,"00:00:00"]
[null,null,null,null,null,null,"00:00:00"]
[null,null,null,null,null,null,"00:00:00"]
[null,null,null,null,null,null,"00:00:00"]
[null,null,null,null,null,null,"00:00:00"]
[null,null,null,null,null,null,"00:00:00"]
[null,null,null,null,null,null,"00:00:00"]
[null,null,null,null,null,null,"00:00:00"]
[null,null,null,null,null,null,"00:00:00"]
[null,null,null,null,null,null,"00:00:00"]
[null,null,null,null,null,null,"00:00:00"]
[null,null,null,null,null,null,"00:00:00"]
[null,null,null,null,null,null,"00:00:00"]
[null,null,null,null,null,null,"00:00:00"]
[null,null,null,null,null,null,"00:00:00"]
[null,null,null,null,null,null,"00:00:00"]
[null,null,null,null,null,null,"00:00:00"]
[null,null,null,null,null,null,"00:00:00"]
[null,null,null,null,null,null,"00:00:00"]
[null,null,null,null,null,null,"00:00:00"]
[null,null,null,null,null,null,"00:00:00"]
[null,null,null,null,null,null,"00:00:00"]
[null,null,null,null,null,null,"00:00:00"]
[null,null,null,null,null,null,"00:00:00"]
[null,null,null,null,null,null,"00:00:00"]
[null,null,null,null,null,null,"00:00:00"]
[null,null,null,null,null,null,"00:00:00"]
[null,null,null,null,null,null,"00:00:00"]
[null,null,null,null,null,null,"00:00:00"]
[null,null,null,null,null,null,"00:00:00"]
[null,null,null,null,null,null,"00:00:00"]
[null,null,null,null,null,null,"00:00:00"]
[null,null,null,null,null,null,"00:00:00"]
[null,null,null,null,null,null,"00:00:00"]
[null,null,null,null,null,null,"00:00:00"]
[null,null,null,null,null,null,"00:00:00"]
[null,null,null,null,null,null,"00:00:00"]
[null,null,null,null,null,null,"00:00:00"]
[null,null,null,null,null,null,"00:00:00"]
[null,null,null,null,null,null,"00:00:00"]
[null,null,null,null,null,null,"00:00:00"]
[null,null,null,null,null,null,"00:00:00"]
[null,null,null,null,null,null,"00:00:00"]
[null,null,null,null,null,null,"00:00:00"]
[null,null,null,null,null,null,"00:00:00"]
[null,null,null,null,null,null,"00:00:00"]
[null,null,null,null,null,null,"00:00:00"]
[null,null,null,null,null,null,"00:00:00"]
[null,null,null,null,null,null,"00:00:00"]
[null,null,null,null,null,null,"00:00:00"]
[null,null,null,null,null,null,"00:00:00"]
[null,null,null,null,null,null,"00:00:00"]
[null,null,null,null,null,null,"00:00:00"]
[null,null,null,null,null,null,"00:00:00"]
[null,null,null,null,null,null,"00:00:00"]
[null,null,null,null,null,null,"00:00:00"]
[null,null,null,null,null,null,{"$f":"F320-B320","v":"00:00:00"}]
[null,null,null,null,null,null,{"$f":"F321-B321","v":"00:00:00"}]

{"sheet":"Clot_1","index":42,"n_rows":109,"n_cols":10,"rows_kept":109,"cut":false,"hidden":false,"merged":[[7,9,7,10],[10,1,10,10],[0,2,0,3],[2,1,2,10],[4,3,4,10],[7,2,7,3],[5,3,5,10],[7,6,7,8],[16,1,16,10],[17,1,17,10],[23,1,23,10],[21,1,21,10],[15,1,15,10],[18,1,18,10],[11,1,11,10],[12,1,12,10],[13,1,13,10],[14,1,14,10],[28,1,28,10],[25,1,25,10],[26,1,26,10],[30,1,30,10],[27,1,27,10],[29,1,29,10],[22,1,22,10],[24,1,24,10],[19,1,19,10],[34,6,34,10],[53,7,53,8],[53,4,53,5],[49,2,49,3],[52,2,52,3],[53,2,53,3],[49,4,49,5],[49,9,49,10],[49,7,49,8],[34,0,34,5],[80,2,80,3],[72,2,72,3],[70,4,70,5],[71,7,71,8],[72,7,72,8],[73,7,73,8],[86,4,86,5],[88,4,88,5],[87,4,87,5],[85,4,85,5],[81,4,81,5],[74,4,74,5],[98,9,98,10],[91,7,91,8],[86,7,86,8],[87,7,87,8],[97,7,97,8],[78,7,78,8],[79,9,79,10],[79,7,79,8],[89,4,89,5],[96,4,96,5],[98,4,98,5],[97,4,97,5],[92,4,92,5],[91,4,91,5],[90,4,90,5],[78,4,78,5],[80,11,80,12],[57,7,57,8],[59,7,59,8],[60,7,60,8],[102,11,102,12],[90,7,90,8],[99,9,99,10],[101,7,101,8],[85,7,85,8],[80,7,80,8],[98,11,98,12],[96,9,96,10],[96,11,96,12],[102,7,102,8],[79,11,79,12],[78,9,78,10],[81,11,81,12],[81,9,81,10],[101,11,101,12],[80,9,80,10],[100,11,100,12],[101,9,101,10],[99,11,99,12],[78,11,78,12],[108,7,108,10],[108,2,108,5],[106,2,106,3],[106,4,106,5],[106,7,106,8],[100,9,100,10],[102,9,102,10],[100,7,100,8],[100,4,100,5],[102,2,102,3],[101,2,101,3],[101,4,101,5],[100,2,100,3],[102,4,102,5],[80,4,80,5],[61,7,61,8],[62,7,62,8],[63,7,63,8],[64,7,64,8],[81,7,81,8],[98,7,98,8],[79,4,79,5],[99,4,99,5],[63,4,63,5],[69,4,69,5],[65,4,65,5],[66,4,66,5],[69,7,69,8],[72,4,72,5],[70,7,70,8],[73,4,73,5],[71,4,71,5],[61,4,61,5],[62,4,62,5],[99,7,99,8],[88,7,88,8],[89,7,89,8],[96,7,96,8],[65,2,65,3],[97,2,97,3],[92,7,92,8],[71,2,71,3],[69,2,69,3],[99,2,99,3],[96,2,96,3],[98,2,98,3],[91,2,91,3],[92,2,92,3],[85,2,85,3],[81,2,81,3],[87,2,87,3],[86,2,86,3],[90,2,90,3],[89,2,89,3],[88,2,88,3],[66,2,66,3],[79,2,79,3],[78,2,78,3],[73,2,73,3],[70,2,70,3],[74,7,74,8],[66,7,66,8],[65,7,65,8],[54,2,54,3],[54,4,54,5],[54,7,54,8],[58,7,58,8],[64,2,64,3],[64,4,64,5],[74,2,74,3],[58,4,58,5],[62,2,62,3],[63,2,63,3],[59,4,59,5],[60,4,60,5],[59,2,59,3],[60,2,60,3],[61,2,61,3],[57,4,57,5],[57,2,57,3],[58,2,58,3]]}
[null,"FFSA"]
[]
[null,"RAPPORT DE CLOTURE"]
[]
[null,"NOM DE L'EPREUVE",null,{"$f":"Rallye!E10","v":"16ème Rallye du PAYS de St-YRIEX"}]
[null,null,null,{"$f":"Rallye!E11","v":"3ème Rallye VHC du PAYS de St-YRIEX"}]
[]
[null,"DATE",{"$f":"Rallye!E12","v":"15 et 16 Septembre 2018"},null,"ASA",{"$f":"Rallye!E19","v":"ASA Saint Martial"},"PERMIS D'ORGANISATION N° ",null,null,{"$f":"Rallye!E15","v":"N 511 du 3/07/2018"}]
[]
[]
[null,"ACCIDENTS SURVENUS AU COURS DE L'EPREUVE\n(joindre toutes les pièces nécessaires au dossier)"]
[null,"ES 1: Suite SR n° 6, Co-pilote : ANDRIEUX Yannick (Lic 255744) évacué vers Hôpilal de St Yriex pour contrôle"]
[null,"Ressorti de l'hôpital sans séquelles. Licence non suspendue."]
[null,"Pilote : PETIT Paul (Lic 212306) à refusé d'être examiné."]
[]
[]
[]
[]
[]
[]
[]
[null,"DEMANDES DE SANCTIONS DISCIPLINAIRES\n(joindre toutes les pièces nécessaires au dossier)"]
[]
[]
[]
[]
[]
[]
[]
[]
[]
[]
[]
[]
["DOCUMENT A RETOURNER IMPERATIVEMENT",null,null,null,null,null,"A LA FFSA SOUS 15 JOURS"]
[]
[]
[]
[]
[]
[]
[]
[]
[]
[]
[]
[]
[]
[]
[null,"OFFICIELS","NOMS :",null,"PRENOMS :",null,null,"N° LICENCES :"]
[]
[null,"DIRECTEUR DE COURSE :"]
[]
[null,null,{"$f":"Officiels!C15","v":"LORRE"},null,{"$f":"Officiels!D15","v":"Joseph"},null,null,{"$f":"Officiels!E15","v":"10395"}]
[null,{"$f":"Officiels!B20","v":"Responsable Rallye 2"},{"$f":"Officiels!C20","v":"BATTE"},null,{"$f":"Officiels!D20","v":"Pascal"},null,null,{"$f":"Officiels!E20","v":"28230"}]
[null,"DIRECTEURS ADJOINTS :"]
[]
[null,"au P.C. :",{"$f":"Officiels!C16","v":"BATTE"},null,{"$f":"Officiels!D16","v":"Pascal"},null,null,{"$f":"Officiels!E16","v":"28230"}]
[null,null,{"$f":"Officiels!C17","v":"GHIGO"},null,{"$f":"Officiels!D17","v":"Gérard"},null,null,{"$f":"Officiels!E17","v":"1967"}]
[null,null,{"$f":"Officiels!C18","v":"FAUVEL"},null,{"$f":"Officiels!D18","v":"serge"},null,null,{"$f":"Officiels!E18","v":"2517"}]
[null,null,{"$f":"Officiels!C19","v":0},null,{"$f":"Officiels!D19","v":0},null,null,{"$f":"Officiels!E19","v":0}]
[null,"en SPECIALES :",{"$f":"Officiels!C22","v":"DESMOULINS"},null,{"$f":"Officiels!D22","v":"Roger"},null,null,{"$f":"Officiels!E22","v":"4799"}]
[null,null,{"$f":"Officiels!C23","v":"ISNARD"},null,{"$f":"Officiels!D23","v":"Christian"},null,null,{"$f":"Officiels!E23","v":"210777"}]
[null,null,{"$f":"Officiels!C24","v":"PERROT"},null,{"$f":"Officiels!D24","v":"José"},null,null,{"$f":"Officiels!E24","v":"6570"}]
[null,null,{"$f":"Officiels!C25","v":"BRIAT"},null,{"$f":"Officiels!D25","v":"Jean-Michel"},null,null,{"$f":"Officiels!E25","v":"110768"}]
[null,null,{"$f":"Officiels!C26","v":"VAURIE"},null,{"$f":"Officiels!D26","v":"Michel"},null,null,{"$f":"Officiels!E26","v":"1059"}]
[null,{"$f":"Officiels!B27","v":0},{"$f":"Officiels!C27","v":"PERROT"},null,{"$f":"Officiels!D27","v":"Elisabeth"},null,null,{"$f":"Officiels!E27","v":"6567"}]
[null,"COLLÈGE DES COMMISSAIRES SPORTIFS :"]
[]
[null,"PRESIDENT :",{"$f":"Officiels!C60","v":"RASORI"},null,{"$f":"Officiels!D60","v":"Jean"},null,null,{"$f":"Officiels!E60","v":"2320"}]
[null,"MEMBRES :",{"$f":"Officiels!C61","v":"GUILLIER"},null,{"$f":"Officiels!D61","v":"Gilles"},null,null,{"$f":"Officiels!E61","v":"2504"}]
[null,null,{"$f":"Officiels!C62","v":"GHIGO"},null,{"$f":"Officiels!D62","v":"Denise"},null,null,{"$f":"Officiels!E62","v":"1968"}]
[null,null,{"$f":"Officiels!C63","v":0},null,{"$f":"Officiels!D63","v":0},null,null,{"$f":"Officiels!E63","v":0}]
[null,null,{"$f":"Officiels!C64","v":0},null,{"$f":"Officiels!D64","v":0},null,null,{"$f":"Officiels!E64","v":0}]
[null,"STAGIAIRE :",{"$f":"Officiels!C65","v":0},null,{"$f":"Officiels!D65","v":0},null,null,{"$f":"Officiels!E65","v":0}]
[]
[null,"CHARGÉS DES RELATIONS AVEC LES CONCURRENTS :"]
[]
[null,null,{"$f":"Officiels!C35","v":"CONDEMINE"},null,{"$f":"Officiels!D35","v":"Cathy"},null,null,{"$f":"Officiels!E35","v":"56617"}]
[null,null,{"$f":"Officiels!C36","v":"SEGOUIN"},null,{"$f":"Officiels!D36","v":"Jean-Marrc"},null,null,{"$f":"Officiels!E36","v":"3352"}]
[null,null,{"$f":"Officiels!C37","v":"DUMOND"},null,{"$f":"Officiels!D37","v":"Rémy"},null,null,{"$f":"Officiels!E37","v":"3808"}]
[null,null,{"$f":"Officiels!C38","v":0},null,{"$f":"Officiels!D38","v":0},null,null,{"$f":"Officiels!E38","v":0}]
[]
[null,"COMMISSAIRES TECHNIQUES :"]
[]
[null,"RESPONSABLE : ",{"$f":"Officiels!C49","v":"PHELIPEAU"},null,{"$f":"Officiels!D49","v":"Jean-Luc"},null,null,{"$f":"Officiels!E49","v":"9060"}]
[null,null,{"$f":"Officiels!C50","v":"RATEL"},null,{"$f":"Officiels!D50","v":"Ghislain"},null,null,{"$f":"Officiels!E50","v":"28760"}]
[null,null,{"$f":"Officiels!C51","v":"FOURCADE"},null,{"$f":"Officiels!D51","v":"Alexandre"},null,null,{"$f":"Officiels!E51","v":"28760"}]
[null,null,{"$f":"Officiels!C52","v":"GENRIES"},null,{"$f":"Officiels!D52","v":"Didier"},null,null,{"$f":"Officiels!E52","v":"228242"}]
[null,null,{"$f":"Officiels!C53","v":"KRUGER"},null,{"$f":"Officiels!D53","v":"Guillaume"},null,null,{"$f":"Officiels!E53","v":"183231"}]
[null,null,{"$f":"Officiels!C54","v":0},null,{"$f":"Officiels!D54","v":0},null,null,{"$f":"Officiels!E54","v":0}]
[null,{"$f":"Officiels!B55","v":0},{"$f":"Officiels!C55","v":0},null,{"$f":"Officiels!D55","v":0},null,null,{"$f":"Officiels!E55","v":0}]
[null,"Responsable VH :",{"$f":"Officiels!C56","v":0},null,{"$f":"Officiels!D56","v":0},null,null,{"$f":"Officiels!E56","v":0}]
[]
[null,"CHRONOMÉTREURS :"]
[]
[null,"RESPONSABLE : ",{"$f":"Officiels!C41","v":0},null,{"$f":"Officiels!D41","v":0},null,null,{"$f":"Officiels!E41","v":0}]
[null,null,{"$f":"Officiels!C42","v":0},null,{"$f":"Officiels!D42","v":0},null,null,{"$f":"Officiels!E42","v":0}]
[null,null,{"$f":"Officiels!C43","v":0},null,{"$f":"Officiels!D43","v":0},null,null,{"$f":"Officiels!E43","v":0}]
[null,null,{"$f":"Officiels!C44","v":0},null,{"$f":"Officiels!D44","v":0},null,null,{"$f":"Officiels!E44","v":0}]
[null,null,{"$f":"Officiels!C45","v":0},null,{"$f":"Officiels!D45","v":0},null,null,{"$f":"Officiels!E45","v":0}]
[null,null,{"$f":"Officiels!C46","v":0},null,{"$f":"Officiels!D46","v":0},null,null,{"$f":"Officiels!E46","v":0}]
[null,null,{"$f":"Officiels!C47","v":0},null,{"$f":"Officiels!D47","v":0},null,null,{"$f":"Officiels!E47","v":0}]
[]
[null,"MÉDECIN :"]
[]
[null,"RESPONSABLE : ",{"$f":"Officiels!C58","v":"CUEILLE"},null,{"$f":"Officiels!D58","v":"Jean-François"},null,null,{"$f":"Officiels!E58","v":0}]
[]
[null,null,"SIGNATURE DU DIRECTEUR DE COURSE ",null,null,null,null,"SIGNATURE DU PRESIDENT DU COLLEGE"]

{"sheet":"CHK_List","index":43,"n_rows":59,"n_cols":9,"rows_kept":59,"cut":false,"hidden":false,"merged":[[48,5,48,7],[42,5,42,7],[43,5,43,7],[44,5,44,7],[45,5,45,7],[46,5,46,7],[47,5,47,7],[59,1,59,4],[49,5,49,6],[50,5,50,6],[51,5,51,6],[52,5,52,6],[53,5,53,6],[58,5,58,6],[58,1,58,4],[56,1,56,4],[57,5,57,6],[57,1,57,4],[10,5,10,7],[11,5,11,7],[12,5,12,7],[55,5,55,6],[19,5,19,7],[20,5,20,7],[21,5,21,7],[56,5,56,6],[54,5,54,6],[31,5,31,7],[37,5,37,7],[34,5,34,7],[32,5,32,7],[33,5,33,7],[27,5,27,7],[28,5,28,7],[29,5,29,7],[22,5,22,7],[24,5,24,7],[30,5,30,7],[40,5,40,7],[38,5,38,7],[35,5,35,7],[13,5,13,7],[3,0,3,3],[4,0,4,3],[5,0,5,3],[6,0,6,3],[13,1,13,4],[18,5,18,7],[7,0,7,3],[4,4,6,8],[10,1,10,4],[11,1,11,4],[9,1,9,4],[14,1,14,4],[15,1,15,4],[9,5,9,7],[12,1,12,4],[32,1,32,4],[33,1,33,4],[41,1,41,4],[43,1,43,4],[20,1,20,4],[17,1,17,4],[14,5,14,7],[17,5,17,7],[46,1,46,4],[34,1,34,4],[36,1,36,4],[37,1,37,4],[38,1,38,4],[29,1,29,4],[15,5,15,7],[16,5,16,7],[16,1,16,4],[36,5,36,7],[23,5,23,7],[25,5,25,7],[26,5,26,7],[41,5,41,7],[39,5,39,7],[24,1,24,4],[18,1,18,4],[25,1,25,4],[19,1,19,4],[21,1,21,4],[22,1,22,4],[23,1,23,4],[30,1,30,4],[31,1,31,4],[26,1,26,4],[27,1,27,4],[28,1,28,4],[48,1,48,4],[44,1,44,4],[40,1,40,4],[35,1,35,4],[55,1,55,4],[42,1,42,4],[51,1,51,4],[52,1,52,4],[54,1,54,4],[53,1,53,4],[47,1,47,4],[39,1,39,4],[49,1,49,4],[50,1,50,4],[45,1,45,4]]}
[]
[]
[]
[{"$f":"Rallye!E10","v":"16ème Rallye du PAYS de St-YRIEX"}]
[{"$f":"Rallye!E50","v":"2018-09-15"},null,null,null,"CHECK-LIST D.C."]
[{"$f":"Rallye!E14","v":"LRSA Nouvelle Aquitaine Sud"}]
[{"$f":"Rallye!E19","v":"ASA Saint Martial"}]
[{"$f":"Rallye!E21","v":"Championnat de France 2ème Div"}]
[]
[null,"Taches / Vérifications",null,null,null,"Responsable Direction de Course Commentaires",null,null,"OK/Non"]
[null,"Police Assurance"]
[null,"Arrêté Préfectoral"]
[null,"Modalités accord Sécurité"]
[null,"Liste des Engagés (vérifier Prioritaires)"]
[null,"Forfaits avant Vérifications"]
[null,"Additifs (Pub, etc,….) : Emargement "]
[null,"N° Téléphones concurrents,"]
[null,"Carnets de Bord : vérification avec Timing"]
[null,"Rapport Reconnaissances"]
[null,"Briefing Concurrents & Commissaires"]
[null,"Itinéraires et horaires "]
[null,"Liste commissaires "]
[null,"Tableau affichage "]
[null,"PC Course"]
[null,"Locaux - Documents de Travail"]
[null,"Téléphones - Fax"]
[null,"Radios"]
[null,"Copieur"]
[null,"Informatique Classement & Pise de temps"]
[null,"Tableau Abandon"]
[null,"Médecin Chef"]
[null,"Contact Gendarmerie"]
[null,"Contact Codis"]
[null,"Délégué Organisation Présent"]
[null,"Voitures Ouvreuses / Balai"]
[null,"Qualité - Moyens communications"]
[null,"Briefing - Licences"]
[null,"Tableau d'Affichage"]
[null,"Lieu"]
[null,"Responsable"]
[null,"Vérifications Administratives"]
[null,"Locaux"]
[null,"Personnel"]
[null,"Rapport Ecrit"]
[null,"Vérifications Techniques"]
[null,"Locaux"]
[null,"Personnel"]
[null,"Rapport Ecrit"]
[null,"Lieu Vérifs Finales"]
[null,"Mise en Place des ES / CH",null,null,null,"Au PC",null,"Sur Place"]
[null,"Parc Départ (Podium)"]
[null,"Parcs Regroupement"]
[null,"Parcs Assistance"]
[null,"ES :"]
[null,"ES :"]
[null,"ES :"]
[null,"ES :"]
[null,"ES :"]
[null,"Parc d'Arrivée"]

{"sheet":"Attest-Conf","index":44,"n_rows":87,"n_cols":8,"rows_kept":87,"cut":false,"hidden":false,"merged":[[86,1,86,7],[71,2,71,3],[71,4,71,7],[75,6,75,7],[78,5,78,6],[75,3,75,4],[76,2,76,3],[78,2,78,3],[72,1,72,7],[45,2,45,7],[53,1,53,2],[55,2,57,7],[59,2,60,7],[62,1,62,2],[62,3,62,5],[63,1,63,5],[63,6,63,7],[66,2,66,7],[69,2,69,7],[70,6,70,7],[25,2,25,7],[23,2,23,7],[0,2,0,7],[47,1,49,7],[75,1,75,2],[2,1,4,7],[8,1,8,2],[10,2,12,7],[64,1,64,3],[64,4,64,6],[70,2,70,4],[34,2,34,3],[14,2,15,7],[18,1,18,2],[18,3,18,5],[20,1,20,7],[22,2,22,7],[67,2,67,7],[34,5,34,6],[26,2,26,4],[26,6,26,7],[27,2,27,3],[27,4,27,7],[42,1,42,7],[28,1,28,7],[31,1,31,2],[31,3,31,4],[31,6,31,7]]}
[null,"Rallye : ",{"$f":"Rallye!E10","v":"16ème Rallye du PAYS de St-YRIEX"}]
[]
[null,"ATTESTATION de CONFORMITE"]
[]
[]
[]
[]
[]
[null,"Vu les dispositions :"]
[]
[null,"-","des articles R331-18 à R334-45 de Code du Sport (décret 2006-554 du 16 mai 2006 relatif aux concentrations et manifestations organisées sur les voies ouvertes ou dans des lieux non ouverts à la circulation publique et comportant la participation de véhicules terrestes à moteur)."]
[]
[]
[]
[null,"-","des articles A331-16 à A331-21 de ce Code du Sport (arrèté ministériel du 7 aout 2006 pris en application du décret ci-dessus)."]
[]
[]
[]
[null,"Je soussigné (e) : ",null,{"$f":"Rallye!J37","v":"MAZAUD Laurent"}]
[]
[null,"agissant en ma qualité d'organisateur technique du :"]
[]
[null,null,{"$f":"Rallye!E10","v":"16ème Rallye du PAYS de St-YRIEX"}]
[null,null,{"$f":"Rallye!E11","v":"3ème Rallye VHC du PAYS de St-YRIEX"}]
[]
[null,"ATTESTE,","par la présente que les prescriptions mentionnées dans l'arrèté d'aurorisation préfectoral "]
[null,"de ",{"$f":"Rallye!J39","v":"Préfecture de la Haute Vienne"},null,null,"portant le n° :",{"$f":"Rallye!J38","v":"2018/28"}]
[null,"en date du : ",{"$f":"Rallye!J40","v":"2018-09-10"},null,"de la manifestation précitée, dont j'ai connaissance sont respectées."]
[]
[]
[]
[null,"Epreuve spéciale :",null,null,null,"se déroulant le :"]
[]
[]
[null,"Fait à :",{"$f":"Rallye!E17","v":"87500 St-YRIEX La PERCHE"},null,"le :"]
[]
[null,null,null,null,"à:","h"]
[]
[null,null,null,"Signature :"]
[]
[]
[]
[null,"Remis ce jour, à  …..  h …….  à                                                            (Référence de l'autorité qui à reçu l'attestation)."]
[]
[]
[null,"Rallye : ",{"$f":"Rallye!E10","v":"16ème Rallye du PAYS de St-YRIEX"}]
[]
[null,"ATTESTATION de CONFORMITE"]
[]
[]
[]
[]
[]
[null,"Vu les dispositions :"]
[]
[null,"-","des articles R331-18 à R334-45 de Code du Sport (décret 2006-554 du 16 mai 2006 relatif aux concentrations et manifestations organisées sur les voies ouvertes ou dans des lieux non ouverts à la circulation publique et comportant la participation de véhicules terrestes à moteur)."]
[]
[]
[]
[null,"-","des articles A331-16 à A331-21 de ce Code du Sport (arrèté ministériel du 7 aout 2006 pris en application du décret ci-dessus)."]
[]
[]
[null,"Considérant l'indisponibilité de",null,{"$f":"Rallye!J37","v":"MAZAUD Laurent"},null,null,"Je soussigné(e) "]
[null,"Fonction excercée au sein de la personne morale organisatrice technique : "]
[null,"atteste sur l'honneur être mandaté(e) par  ",null,null,{"$f":"Rallye!J37","v":"MAZAUD Laurent"},null,null,"organisateur technique du :"]
[]
[null,null,{"$f":"Rallye!E10","v":"16ème Rallye du PAYS de St-YRIEX"}]
[null,null,{"$f":"Rallye!E11","v":"3ème Rallye VHC du PAYS de St-YRIEX"}]
[]
[null,"ATTESTE,","par la présente que les prescriptions mentionnées dans l'arrèté d'aurorisation préfectoral "]
[null,"de ",{"$f":"Rallye!J39","v":"Préfecture de la Haute Vienne"},null,null,"portant le n° :",{"$f":"Rallye!J38","v":"2018/28"}]
[null,"en date du : ",{"$f":"Rallye!J40","v":"2018-09-10"},null,"de la manifestation précitée, dont j'ai connaissance sont respectées."]
[]
[]
[]
[null,"Epreuve spéciale :",null,null,null,"se déroulant le :"]
[null,null,"(N° et Nom de l'ES)"]
[]
[null,"Fait à :",{"$f":"Rallye!E17","v":"87500 St-YRIEX La PERCHE"},null,"le :"]
[]
[null,null,null,null,"à:","h"]
[]
[null,null,null,"Signature :"]
[]
[]
[]
[null,"Remis ce jour, à  …..  h …….  à                                                            (Référence de l'autorité qui à reçu l'attestation)."]

{"sheet":"Reinteg","index":45,"n_rows":79,"n_cols":8,"rows_kept":79,"cut":false,"hidden":false,"merged":[[59,1,59,9],[60,1,60,9],[62,1,62,9],[71,1,71,9],[72,1,72,9],[10,0,10,2],[24,6,25,7],[57,1,57,9],[58,1,58,9],[61,1,61,9],[22,1,22,9],[65,1,65,9],[66,1,66,9],[56,1,56,9],[64,1,64,9],[67,1,67,9],[68,1,68,9],[69,1,69,9],[70,1,70,9],[46,1,46,3],[49,1,49,3],[48,4,49,7],[8,0,8,3],[3,0,3,3],[5,0,5,3],[6,0,6,3],[7,0,7,3],[5,4,7,9],[63,1,63,9],[44,1,44,3],[11,0,11,2],[20,3,20,7],[18,1,18,5],[32,2,32,8],[36,1,36,3],[35,4,37,5],[16,0,16,2],[13,1,13,3],[12,4,14,5],[51,1,51,9],[53,1,53,9],[54,1,54,9],[55,1,55,9],[11,8,13,8],[43,1,43,2],[39,3,39,8],[43,3,43,8],[41,0,41,2],[14,8,16,8],[34,1,34,3],[16,3,16,4],[4,0,4,3],[33,1,33,3],[39,0,39,2],[41,3,41,5]]}
[]
[]
[]
[{"$f":"Rallye!E10","v":"16ème Rallye du PAYS de St-YRIEX"}]
[{"$f":"Rallye!E11","v":"3ème Rallye VHC du PAYS de St-YRIEX"}]
[{"$f":"Rallye!E12","v":"15 et 16 Septembre 2018"},null,null,null,"DEMANDE de REINTEGRATION - RALLYE 2"]
[{"$f":"Rallye!E17","v":"87500 St-YRIEX La PERCHE"}]
[{"$f":"Rallye!E19","v":"ASA Saint Martial"}]
[{"$f":"Rallye!E21","v":"Championnat de France 2ème Div"}]
[]
["Je sousigné(e)  :"]
["Le Concurrent ou son représentant"]
[null,null,null,null,null,null,null,"Groupe :"]
[null,"Concurrent n° :  "]
[]
[null,null,null,null,null,null,null,"Classe :"]
["Téléphone :  "]
[]
[null,"Suite à notre abandon/mise Hors Course lors de l'étape n° :",null,null,null,null,null,"ES n° "]
[]
[null,null,"Raison / Motif :"]
[]
[null,"Par la présente, demande l'autorisation de reprendre le Rallye dans les conditions de l'Article 7.3.17"]
[]
[null,"Fait à :",null,null,null,null,"Signature"]
[]
[null,"Le :"]
[]
[null,"à :",null,"h"]
[]
[]
[]
[null,null,"RECEPTION de la DEMANDE - RALLYE 2"]
[null,"A remplir par l'Officiel qui reçoit la demande"]
[null,"et à remettre au Concurrent"]
[]
[null,"Concurrent n° :  "]
[]
[]
["Nom du Concurrent : "]
[]
["Date et Heure :"]
[]
[null,"Nom de l'Officiel :"]
[null,"qui reçoit la demande"]
[]
[null,"Signature de l'Officiel : "]
[]
[null,null,null,null,{"$f":"Rallye!E35","v":555004997}]
[null,"N° Téléphone PC :"]
[]
[null,"7.3.17.  Nouveau départ après abandon / Rallye 2 (NON AUTORISE EN REGIONAL)"]
[]
[null,"Tout  concurrent  ayant  abandonné  ou  mis  hors  course  pour  un  retard  supérieur  au  maximum  autorisé entre deux "]
[null,"contrôles  horaires,  en  fin  de  section  ou  en  fin  d'étape  pourra  réintégrer  le  Rallye  aux conditions suivantes :"]
[null," -  Avoir signifié par écrit,  à un Chargé des Relations Avec les Concurrents, (à l'aide du document figaurant dans le carnet d'itinéraire)"]
[null,"son intention de réintégrer le rallye."]
[null," -  Avoir  soumis  avec  succès  sa  voiture  au  contrôle  des  Commissaires  Techniques dans une plage horaire fixée par l'organisateur "]
[null,"indiquée dans le règlement particulier."]
[null,"NB* Les demandes écrites devront parvenir au Collège des Commissaires Sportifs, via la Direction de Course, AU PLUS TARD,"]
[null,"au début de chaque réunion, dont les horaires sont affichés."]
[null,"Pour l’étape où l'abandon ou la mise hors course ont été prononcés, un concurrent réintégrant le Rallye se verra affecter :"]
[null,"- pour chaque épreuve spéciale non terminée, ou non effectuée, du plus mauvais temps réalisé augmenté de 5 minutes."]
[null,"- pour l'étape non terminée, d'une pénalité de 3 heures."]
[null,"- ils ne pourront prétendre à aucun prix ni attribution de points,"]
[null,"Dès lors que le collège des commissaires sportifs aura traité d'éventuelles demandes de repositionnement des concurrents toujours en"]
[null,"course, les concurrents réintégrant le rallye dans le cadre du Rallye 2 seront reclassés après la dernière voiture de leur catégorie"]
[null,"(groupe/classe) et dans l'ordre croissant de leur numéro par le Collège des Commissaires Sportifs."]
[null,"Le Collège des Commissaires Sportifs pourra modifier cette méthode de classement (de repositionnement) :"]
[null,"- pour les pilotes prioritaires FIA et FFSA."]
[null,"- pour les autres en fonction de leurs performances réalisées au cours de l'étape."]
[null,"En tout état de cause, le Collège des Commissaires Sportifs pourra à tout moment retirer sans motif le bénéfice de cette "]
[null,"réintégration dans le Rallye, cette décision n'étant pas susceptible d’un appel sportif. "]
[]
[null,null,null," "]
[]
[]
[]
[null,null,null," "]

{"sheet":"IndPerf","index":46,"n_rows":32,"n_cols":14,"rows_kept":32,"cut":false,"hidden":false,"merged":[[6,1,6,13],[3,5,4,9],[4,1,4,4],[5,1,5,4],[3,1,3,4]]}
[]
[]
[]
[null,{"$f":"Rallye!E10","v":"16ème Rallye du PAYS de St-YRIEX"},null,null,null,"Challenge Indice de Performance VHC"]
[null,{"$f":"Rallye!E17","v":"87500 St-YRIEX La PERCHE"}]
[null,{"$f":"Rallye!E19","v":"ASA Saint Martial"}]
[null,"CLASSEMENT DEFINITIF OFFICIEUX"]
[]
[null,"Clt","Num","Pilote","Copilote","Marque","(Pos)","Groupe","(Pos)","Classe","Temps","Coef.","Tps corrigés","Ecart/Précd"]
[null,1,207,"RUAL J-François","DELACOUR Dominique","Porsche 911 S",null,4,null,null,3.4317129629629628E-2,1.2,{"$f":"K10*L10","v":"00:59:18"},{"$f":"(IF(M10>0,M10-M9,))","v":{"$error":"#VALUE!"}}]
[null,2,201,"MENARD Samuel","BRENNEMANNE Yves","BMW 325 i ",null,2,null,null,4.3379629629629629E-2,1.1499999999999999,"01:11:50.200","00:12:32.200"]
[null,3,202,"EOUZAN Pascal","EOUZAN Pascale","FORD Escort RS",null,4,null,null,3.8634259259259257E-2,1.4,"01:17:53.200","00:06:03"]
[null,4,203,"TAN Olivier","CHRISTEN Fréderick","Renault 5 Alpine",null,2,null,null,4.2951388888888886E-2,1.35,"01:23:29.850","00:05:36.650"]
[null,5,206,"LASSERE Philippe","DISSILOS Michael","Autobianchi A112",null,2,null,null,4.6041666666666668E-2,1.3,"01:26:11.400","00:02:41.550"]
[null,6,205,"BACON Thomas","BACON Michel","Talbot  Sumbeam",null,2,null,null,4.4687499999999998E-2,1.35,"01:26:52.350","00:00:40.950"]
[null,7,209,"EVRARD Bruno","QUEVAL Philippe","Renault A110",null,4,null,null,0.46056712962962965,1.1499999999999999,"12:42:41.950","11:15:49.600"]
[null,8,210,"LEMOINE Marc","JAMET   Catherine","Renault Alpine 1300S",null,4,null,null,1.9674537037037039,0.96,1.8887555555555557]
[null,9,208,"DELAPORTE Pascal","DELAPORTE Sandrine","Renault A110",null,5,null,null,1.9674537037037039,1.1100000000000001,2.1838736111111117,{"$f":"(IF(M18>0,M18-M17,))","v":"07:04:58.200"}]
[null,10,null,null,null,null,null,null,null,null,null,null,null,"00:00:00"]
[null,11,null,null,null,null,null,null,null,null,null,null,null,"00:00:00"]
[null,12,null,null,null,null,null,null,null,null,null,null,null,"00:00:00"]
[null,13,null,null,null,null,null,null,null,null,null,null,null,"00:00:00"]
[null,14,null,null,null,null,null,null,null,null,null,null,null,"00:00:00"]
[null,15,null,null,null,null,null,null,null,null,null,null,null,"00:00:00"]
[null,16,null,null,null,null,null,null,null,null,null,null,null,"00:00:00"]
[null,17,null,null,null,null,null,null,null,null,null,null,null,"00:00:00"]
[null,18,null,null,null,null,null,null,null,null,null,null,null,"00:00:00"]
[]
[]
[null,"Abandons"]
[null,null,"Num","Pilote","Copilote","Marque","Groupe","Classe"]
[null,null,204,"DANCZAK Wilhelm","CAZAMAYOU Jacq","ALPINE A 110"]

{"sheet":"Pena","index":47,"n_rows":82,"n_cols":5,"rows_kept":82,"cut":false,"hidden":false,"merged":[[34,1,35,1],[34,2,35,2],[34,3,35,3],[3,1,7,1]]}
[]
[]
[null,"ARTICLES","ATTENTION - VERIFIER avec Le Règlement Rallye FFSA","Page ","Pénalité"]
[null,"                                ART.V Vérifications Administratives Prescription Générale","Retard présentation aux vérifications Par heure ou tranche d'heure :"]
[null,null," * jusqu'à 30 mn",null,15]
[null,null," * de 30 mn à 1 h","Page 13",30]
[null,null," * par heure supplémentaire ",null,15]
[null,null,"(les heures comprises entre 19 h 00 et 8 h 00 ne seront pas comptabilisées)"]
[null,"1-3-2","Présentation aux vérifications au-delà du délai                                              ","Page 2","DEPART REFUSE - CS"]
[null,"1-3-3 (Sécurité)","Combinaison, casques, système de retenue des casques homologués et gants non-conforme                                                                                    ","Page 2","DEPART REFUSE-CS"]
[null,"1-3-3 (Fhom)","Absence de la fiche d'homologation                                                              ","Page 2","DISCRETION C.S"]
[null,"1-3-7","Véhicule non-conforme                                                                            ","Page 3","DEPART REFUSE"]
[null,"1-3-9","Non-conformité technique (en cours d'épreuve)                                              ","Page 3","Pénalité pouvant aller jusqu'à la DISQUALIFICATION"]
[null,"1-3-10","Marques d'identifications absentes                                                            ","Page 3","DISQUALIFICATION"]
[null,"1-3-11","Marques d'identifications retouchées                                                          ","Page 3","DISQUALIFICATION"]
[null,"1-3-12-2","Absence des marques d'identifications                                                       ","Page 3","DISQUALIFICATION"]
[null,"3-1-12","Non paiement des droits d'engagement                                                       ","Page 5","DEPART REFUSE"]
[null,"3-2-1","Equipage non composé de 2 personnes (sauf règlement particulier)                         ","Page 5","DEPART REFUSE"]
[null,"3-2-4","Abandon d'un membre de l'équipage ou admission d'un tiers à bord            ","Page 5","DISQUALIFICATION"]
[null,"3-2-5","Non port de combinaisons,casques, système de retenue des casques homologués et gants, Chaussures synthétiques Caout                                                                                                   ","Page 5","DISQUALIFICATION"]
[null,"3-2-8","Manœuvre déloyale , incorrecte ou frauduleuse                                           ","Page 5","DISCRETION C.S"]
[null,"5-1-6","Absence d'un panneau de portière ou d'une plaque                                       ","Page 16","160 €\n"]
[null,"5-1-6","Absences des 2 panneaux de portières ou plaques                                     ","Page 16","DISQUALIFICATION"]
[null,"5-1-7","Absences des noms et drapeaux de nationalités                                         ","Page 16",80]
[null,"4-2-4 (1)","1ère  infraction à la réglementation des pneumatiques (selon gravité)           ","Page 11","20s,1 mn, ou 3 mn"]
[null,"4-2-4 (2)","2ème infraction à la réglementation des pneumatiques                               ","Page 11","DISQUALIFICATION"]
[null,"4-3-1-2","Assistance en zone interdite                                                                     ","Page 11-12","Pénalité pouvant aller jusqu'à la DISQUALIFICATION"]
[null,"4-3-2","Vitesse dans le parc d'assistance                                                             ","Page 13","DISCRETION C.S"]
[null,"4-3-2-1","Infraction au régles du Parc Fermé (Extincteurs, Baches, contenant hydrocarbures, Déchets, Piquetage).                                                ","Page 12","200 € (Orga)"]
[null,"4-3-4","Assistance Interdite","Page 13","DISCRETION C.S - 12.2-12.3 CSI"]
[null,"4-3-4-2","Assistance par voie aérienne                                                                   ","Page 13","DISQUALIFICATION"]
[null,"4-7","Les extincteurs installés devront être obligatoirement dégoupillés de la SORTIE des Vérifications Tech>Parc Fermé d'Arrivée                                                                                      ","Page 14","Pénalité pouvant aller jusqu'à la DISQUALIFICATION"]
[null,"5-2-4","Absence ou mauvaise apposition de la publicité - 1er constat                       ","Page 17",160]
[null,"5-2-4","Absence ou mauvaise apposition de la publicité -Récidive                             ","Page 17",320]
[null,"6-2","Reconnaissances : voir pages 20 - 21  de la réglementation des rallyes 2018 et 6-2- (page 3) du règlement du Championnat de France des rallyes tout terrain.\n>Toute infraction sera pénalisée selon l’article 6.2.7 du Règlement Standard des Rallyes","Page 21","Autres Infractions : 1ère infraction selon gravité 1 mn à 3 mn ou départ refusé ou/et amende du montant de l'engagement du Rallye,"]
[null,null,null,null,"2ème infraction : départ refusé demande de sanction à la FFSA,  amende du double de montant de l'engagement du Rallye,"]
[null,"6-2-7","Reconnaissance en dehors des jours et heures autorisés ou non respect du nombre maximum de passage ou en cas d'utilisation d'un véhicule qui n'est pas de série.","Page 21","Pénalités cumulées Départ refusé                                             amende identique droits engagement                                     demande sanction disciplinaire FFSA"]
[null,"6-3-3","Rectification sur le carnet de contrôle non approuvée par un commissaire     ","Page 22","DISQUALIFICATION"]
[null,"6-3-4","Absence du visa ou non remise du carnet de contrôle                                 ","Page 22","DISQUALIFICATION"]
[null,"6-3-5","Défaut de fiches d'épreuves Spéciales                                                      ","Page 22","DISQUALIFICATION"]
[null,"6-4-1 (1)","1ère infraction sur le code de la route                                                       ","Page 22",160]
[null,"6-4-1 (2)","2ème infraction sur le code de la route                                                      ","Page 22","5 mn"]
[null,"6-4-1 (3)","3ème infraction sur le code de la route                                                     ","Page 22","DISQUALIFICATION"]
[null,"6-4-2","Non restitution du carnet d'infraction                                                          ","Page 22","DISQUALIFICATION"]
[null,"6-4-4","Remorquage, Transport ou pousser du véhicule                                          ","Page 23","Pouvant aller jusqu'à la DISQUALIFICATION"]
[null,"6-4-5","Blocage intentionnel ou comportement anti-sportif                                     ","Page 23","DISCRETION C.S Pouvant aller jusqu'à la DISQUALIFICATION"]
[null,"6-4-6","Rétroviseurs extérieurs non utilisables                                                       ","Page 23","DISCRETION C.S + pénalités"]
[null,"6-4-7 (1)","Mouvement Anormal de la voiture (Chauffe des pneumatiques) - 1ère infraction                                               ","Page 23","1 mn"]
[null,"6-4-7 (2)","Mouvement Anormal de la Voiture (Chauffe des pneumatiques) - 2ème infraction (Couverture interdite en régional)      ","Page 23","DISQUALIFICATION"]
[null,"7-1-3 (P)","Retard  au Départ Rallye - Etape - Secteur Liaison                                                                               ","Page 23","10 sec / mn"]
[null,"7-1-3 (D)","Retard au départ du rallye ou étape ou secteur dépassant 15 mn                ","Page 23","DEPART REFUSE"]
[null,"7-1-4","Absence de passage à un contrôle                                                        ","Page 24","DISQUALIFICATION"]
[null,"7-1-7","Non respect de l'itinéraire                                                                       ","Page 24","DISQUALIFICATION"]
[null,"7-2-5","Arrivée d'une mauvaise direction à un contrôle,retraverser ou repénétrer dans une zone de contrôle après pointage                                      ","Page 27","DISQUALIFICATION"]
[null,"7-2-10","Ne pas suivre les instructions des commissaires                                      ","Page 27","DISCRETION C.S Pouvant aller jusqu'à la DISQUALIFICATION"]
[null,"7-3-11 (R )","Chaque minute de retard à un contrôle                                                      ","Page 28","10 sec"]
[null,"7-3-11 (A)","Chaque minute d'avance à un contrôle                                                       ","Page 28","1 min"]
[null,"7-3-14","Infraction à la procédure de pointage à un CH                                            ","Page 28","DISCRETION D.C"]
[null,"7-3-16-1","Retard supérieur au délai maximun (+ de 15 mn entre deux contrôles ou +20 mn en fin de section/étape ou  +30 mnt Rallye) ","Page 29","Mise Hors Course DC"]
[null,"7-5-2","Non port de casque homologué, système de retenue des casques, combinaison, gants                                                                                                      ","Page 32","DISQUALIFICATION"]
[null,"7-5-3","Circulation en sens inverse des épreuves spéciales                                    ","Page 32","DISQUALIFICATION"]
[null,"7-5-4 (a)","Véhicule moteur arrété au départ d'une épreuve spéciale                             ","Page 32","DISQUALIFICATION"]
[null,"7-5-4 (20)","Véhicule ne pouvant démarrer dans les 20 secondes au départ d'une épreuve spéciale                                                                             ","Page 32","Mise Hors Course DC"]
[null,"7-5-7","Retard de la part de l'équipage, retard considéré comme un retard en secteur de liaison","Page 32","10 sec"]
[null,"7-5-8 (1)","Départ anticipé en épreuve spéciale  - 1ère infraction                                       ","Page 33","10 sec"]
[null,"7-5-8 (2)","Départ anticipé en épreuve spéciale  - 2ème infraction                                     ","Page 33","1 min"]
[null,"7-5-8 (3)","Départ anticipé en épreuve spéciale  - 3ème infraction                                             ","Page 33","3 min"]
[null,"7-5-9","Arrêt entre le panneau jaune d'arrivée lancée et le panneau stop d'une épreuve spéciale                                                                             ","Page 33","DISQUALIFICATION"]
[null,"7-5-11 (D)","Par faute de l'équipage, pas d'inscription de temps AU DEPART d'une épreuve spéciale                                                                             ","Page 33","DISQUALIFICATION"]
[null,"7-5-11 (A)","Par faute de l'équipage, pas d'inscription de temps à L'ARRIVEE (Point STOP) d'une épreuve spéciale                                                                             ","Page 33","5 min"]
[null,"7-5-12-1","Spéciale en Boucle Tour (ou partie de tour) non entièrement parcouru","Page 33","Temps du dernier concurrent classé dans l'ES + 1 minute"]
[null,"7-5-13","Assistance en épreuve spéciale                                                              ","Page 34","CS - DISQUALIFICATION"]
[null,"7-5-15","Refus de prendre le départ d'une épreuve spéciale à l'heure et au rang attribués                                  ","Page 34","10 min minimum ou + DISCRETION C.S\nEXCLUSION"]
[null,"7-5-17-1","Non observation des règles de sécurité des concurrents (Art 7-5-17)         ","Page 32","A LA DISCRETION C.S"]
[null,"7-5-17-4","Non information en cas d'abandon","Page 35","A LA DISCRETION C.S"]
[null,"7-6-1","Réparation ou ravitaillement sous régime de parc fermé                            ","Page 36","DISQUALIFICATION"]
[null,"7-6-1-","Toute autre infraction au régime des parcs fermés","Page 36","DISCRETION C.S Pouvant aller jusqu'à la DISQUALIFICATION"]
[null,"7-6-6-1 (Rép)","Réparation dans parc fermé - Pour chaque minute                                     ","Page 37","1 min"]
[null,"7-6-6-1 (D)","Réparation autorisée en parc fermé mais dépassant le délai de mise hors course                                                                                ","Page 37","DISQUALIFICATION"]
[null,"7-6-8","Délai de réparation excédant l'heure de départ - par minute  (Art 7.6.6.1 et 7.6.6.2)               ","Page 37","1 min\nmêmes conditions que celles\nprévues aux articles 7.6.6.1. et 7.6.6.2."]
[null,"7-6-9","Infraction au régime de parc fermé                                                            ","Page 37","DISQUALIFICATION"]
[null,"7-6-10","Pirouettes et figures diverses dans les parcs fermés                                  ","Page 37","DISQUALIFICATION"]

{"sheet":"JF_Const","index":48,"n_rows":66,"n_cols":10,"rows_kept":66,"cut":false,"hidden":false,"merged":[[3,1,3,4],[5,1,5,4],[6,1,6,4],[7,1,7,4],[8,1,8,4],[4,1,4,4],[24,1,24,4],[21,4,21,6],[29,1,29,4],[11,6,12,6],[5,5,7,10],[36,1,36,2],[36,3,36,4],[36,5,36,9],[11,1,12,4],[15,2,15,3],[17,2,17,3],[21,2,21,3],[21,9,21,10],[15,7,15,8],[17,7,17,8],[56,5,56,6],[56,8,56,9],[38,3,38,4],[38,5,38,9],[40,3,40,4],[40,5,40,9],[43,2,43,5]]}
[]
[]
[]
[null,{"$f":"Rallye!E10","v":"16ème Rallye du PAYS de St-YRIEX"}]
[null,{"$f":"Rallye!E11","v":"3ème Rallye VHC du PAYS de St-YRIEX"}]
[null,{"$f":"Rallye!E12","v":"15 et 16 Septembre 2018"},null,null,null,"RAPPORT de Juge de Fait"]
[null,{"$f":"Rallye!E14","v":"LRSA Nouvelle Aquitaine Sud"}]
[null,{"$f":"Rallye!E19","v":"ASA Saint Martial"}]
[null,{"$f":"Rallye!E21","v":"Championnat de France 2ème Div"}]
[]
[]
[null,"Equipage Contrôlé n ° :"]
[]
[]
[]
[null,null,"CONCURRENT :",null,null,null,null,"Licence n° :"]
[]
[null,null,"1er CONDUCTEUR :",null,null,null,null,"Licence n° :"]
[]
[]
[]
[null,null,"Constat effectué le :",null,null,null,null,null,"à :","H"]
[]
[]
[null,"Lieu du Contrôle (Le plus précis possible) :"]
[]
[]
[]
[]
[null,"REFERENCE CARNET D'ITINERAIRE"]
[]
[null,null,"Page n° :"]
[]
[null,null,"Dessin n° :"]
[]
[]
[null,"Je soussigné : ",null,"Nom :"]
[]
[null,null,null,"Prénom : "]
[]
[null,null,null,"Licence :"]
[]
[]
[null,null,"Atteste par la présente avoir constaté :   "]
[]
[]
[]
[]
[]
[]
[]
[]
[]
[]
[]
[]
[null,null,"Le juge de Fait",null,null,"Le Concurrent",null,null,"Le 1er Conducteur"]
[]
[]
[]
[]
[null,null,"à :",null,"à :",null,null,null,"à :"]
[]
[null,null,"Le :",null,"Le :",null,null,null,"Le :"]
[]
[null,null,"à :        h",null,"à :           h",null,null,null,"à :          h"]

{"sheet":"Temps","index":49,"n_rows":49,"n_cols":20,"rows_kept":49,"cut":false,"hidden":false,"merged":[[1,0,1,3],[2,0,2,3],[1,4,2,8],[1,11,1,14],[1,15,2,19],[2,11,2,14],[16,12,17,12],[24,12,25,12],[32,12,33,12],[40,12,41,12],[8,1,9,1],[16,1,17,1],[24,1,25,1],[32,1,33,1],[40,1,41,1],[8,12,9,12]]}
[]
[{"$f":"Rallye!E10","v":"16ème Rallye du PAYS de St-YRIEX"},null,null,null,"Saisie TEMPS Spéciale",null,null,null,null,null,null,{"$f":"Rallye!E10","v":"16ème Rallye du PAYS de St-YRIEX"},null,null,null,"Saisie TEMPS Spéciale"]
[{"$f":"Rallye!E11","v":"3ème Rallye VHC du PAYS de St-YRIEX"},null,null,null,null,null,null,null,null,null,null,{"$f":"Rallye!E11","v":"3ème Rallye VHC du PAYS de St-YRIEX"}]
[]
[null,"ES : ",null,"Page :",null,null,null,null,null,null,null,null,"ES : ",null,"Page :"]
[]
[]
[null,"Numéro",null,null,null,"H","mn","s","1/100",null,null,null,"Numéro",null,null,null,"H","mn","s","1/100"]
[null,null,null,"Heure d'arrivée",null,null,null,null,null,null,null,null,null,null,"Heure d'arrivée"]
[]
[null,null,null,"Heure de départ",null,null,null,null,null,null,null,null,null,null,"Heure de départ"]
[]
[null,null,null,"Temps réalisé",null,null,null,null,null,null,null,null,null,null,"Temps réalisé"]
[]
[]
[null,"Numéro",null,null,null,"H","mn","s","1/100",null,null,null,"Numéro",null,null,null,"H","mn","s","1/100"]
[null,null,null,"Heure d'arrivée",null,null,null,null,null,null,null,null,null,null,"Heure d'arrivée"]
[]
[null,null,null,"Heure de départ",null,null,null,null,null,null,null,null,null,null,"Heure de départ"]
[]
[null,null,null,"Temps réalisé",null,null,null,null,null,null,null,null,null,null,"Temps réalisé"]
[]
[]
[null,"Numéro",null,null,null,"H","mn","s","1/100",null,null,null,"Numéro",null,null,null,"H","mn","s","1/100"]
[null,null,null,"Heure d'arrivée",null,null,null,null,null,null,null,null,null,null,"Heure d'arrivée"]
[]
[null,null,null,"Heure de départ",null,null,null,null,null,null,null,null,null,null,"Heure de départ"]
[]
[null,null,null,"Temps réalisé",null,null,null,null,null,null,null,null,null,null,"Temps réalisé"]
[]
[]
[null,"Numéro",null,null,null,"H","mn","s","1/100",null,null,null,"Numéro",null,null,null,"H","mn","s","1/100"]
[null,null,null,"Heure d'arrivée",null,null,null,null,null,null,null,null,null,null,"Heure d'arrivée"]
[]
[null,null,null,"Heure de départ",null,null,null,null,null,null,null,null,null,null,"Heure de départ"]
[]
[null,null,null,"Temps réalisé",null,null,null,null,null,null,null,null,null,null,"Temps réalisé"]
[]
[]
[null,"Numéro",null,null,null,"H","mn","s","1/100",null,null,null,"Numéro",null,null,null,"H","mn","s","1/100"]
[null,null,null,"Heure d'arrivée",null,null,null,null,null,null,null,null,null,null,"Heure d'arrivée"]
[]
[null,null,null,"Heure de départ",null,null,null,null,null,null,null,null,null,null,"Heure de départ"]
[]
[null,null,null,"Temps réalisé",null,null,null,null,null,null,null,null,null,null,"Temps réalisé"]
[]
[]
[null,null,"Visa Directeur de course ",null,null,null,null,null,null,null,null,null,null,"Visa Directeur de course "]
[null,null,"Visa informatique",null,null,null,null,null,null,null,null,null,null,"Visa informatique"]

{"sheet":"R2","index":50,"n_rows":43,"n_cols":9,"rows_kept":43,"cut":false,"hidden":false,"merged":[[10,6,10,8],[8,1,8,3],[10,1,11,1],[10,4,11,4],[10,5,11,5],[5,4,7,7],[3,1,3,3],[4,1,4,3],[5,1,5,3],[6,1,6,3],[7,1,7,3]]}
[]
[]
[]
[null,{"$f":"Rallye!E10","v":"16ème Rallye du PAYS de St-YRIEX"}]
[null,{"$f":"Rallye!E11","v":"3ème Rallye VHC du PAYS de St-YRIEX"}]
[null,{"$f":"Rallye!E12","v":"15 et 16 Septembre 2018"},null,null,"SUIVI  - RALLYE 2"]
[null,{"$f":"Rallye!E17","v":"87500 St-YRIEX La PERCHE"}]
[null,{"$f":"Rallye!E19","v":"ASA Saint Martial"}]
[null,{"$f":"Rallye!E21","v":"Championnat de France 2ème Div"}]
[]
[null,"N°","Demande ","Visa","Groupe","Classe","Motif Abandon"]
[null,null,"Reçue","Technique",null,null,"Mécanique","SRSG","H.C. / R.P."]
[null,65,null,null,"FN",2,"CH 00"]
[null,32,null,null,"F2000",14,"ES 2"]
[]
[]
[]
[]
[]
[]
[]
[]
[]
[]
[]
[]
[]
[]
[]
[]
[]
[]
[]
[]
[]
[]
[]
[]
[]
[]
[]
[]
[null,"Total : ",{"$f":" COUNT(B13:B42)","v":2}]

{"sheet":"Emarg","index":51,"n_rows":37,"n_cols":9,"rows_kept":37,"cut":false,"hidden":false,"merged":[[4,2,4,4],[4,5,4,6],[2,2,2,7],[5,7,5,8],[5,2,5,3],[5,4,5,5]]}
[]
[]
[null,null,{"$f":"Rallye!E10","v":"16ème Rallye du PAYS de St-YRIEX"}]
[]
[null,null,"Feuille Emargement ",null,null,"Additif n° ",null,1]
[null,null,"Type de Rallye :",null,"VHC",null,"Date : ",{"$f":"TODAY()","v":"2018-12-16"}]
[null,"N°","Signature","N°","Signature","N°","Signature","N°","Signature"]
[null,1,null,{"$f":"B37+1","v":31},null,{"$f":"D37+1","v":61},null,{"$f":"F37+1","v":91}]
[null,{"$f":"B8+1","v":2},null,{"$f":"D8+1","v":32},null,{"$f":"F8+1","v":62},null,{"$f":"H8+1","v":92}]
[null,3,null,{"$f":"D9+1","v":33},"   ",63,null,93]
[null,4,null,{"$f":"D10+1","v":34},null,64,null,94]
[null,5,null,35,null,65,null,95]
[null,6,null,36,null,66,null,96]
[null,7,null,37,null,67,null,97]
[null,8,null,38,null,68,null,98]
[null,9,null,39,null,69,null,99]
[null,10,null,40,null,70,null,100]
[null,11,null,41,null,71,null,101]
[null,12,null,42,null,72,null,102]
[null,13,null,43,null,73,null,103]
[null,14,null,44,null,74,null,104]
[null,15,null,45,null,75,null,105]
[null,16,null,46,null,76,null,106]
[null,17,null,47,null,77,null,107]
[null,18,null,48,null,78,null,108]
[null,19,null,49,null,79,null,109]
[null,20,null,50,null,80,null,110]
[null,21,null,51,null,81,null,111]
[null,22,null,52,null,82,null,112]
[null,23,null,53,null,83,null,113]
[null,24,null,54,null,84,null,114]
[null,25,null,55,null,85,null,115]
[null,26,null,56,null,86,null,116]
[null,27,null,57,null,87,null,117]
[null,28,null,58,null,88,null,118]
[null,29,null,59,null,89,null,119]
[null,30,null,60,null,90,null,120]

{"sheet":"Liste ","index":52,"n_rows":139,"n_cols":9,"rows_kept":139,"cut":false,"hidden":false,"merged":[[130,0,130,3],[119,0,119,3],[120,0,120,3],[121,0,121,3],[122,0,122,3],[123,0,123,3],[99,8,99,9],[100,8,100,9],[137,0,137,3],[131,0,131,3],[132,0,132,3],[133,0,133,3],[134,0,134,3],[135,0,135,3],[136,0,136,3],[125,0,125,3],[75,0,75,3],[78,0,78,3],[76,0,76,3],[77,0,77,3],[124,0,124,3],[113,0,113,3],[114,0,114,3],[115,0,115,3],[116,0,116,3],[117,0,117,3],[118,0,118,3],[70,0,70,3],[71,0,71,3],[72,0,72,3],[73,0,73,3],[74,0,74,3],[45,0,45,3],[64,0,64,3],[65,0,65,3],[66,0,66,3],[67,0,67,3],[68,0,68,3],[52,0,52,3],[53,0,53,3],[54,0,54,3],[55,0,55,3],[69,0,69,3],[58,0,58,3],[59,0,59,3],[60,0,60,3],[61,0,61,3],[63,0,63,3],[56,0,56,3],[57,0,57,3],[46,0,46,3],[47,0,47,3],[48,0,48,3],[49,0,49,3],[50,0,50,3],[51,0,51,3],[4,4,4,5],[5,4,5,5],[0,4,0,5],[1,4,1,5],[2,4,2,5],[3,4,3,5],[0,0,0,3],[1,0,1,3],[62,0,62,3],[2,0,2,3],[3,0,3,3],[4,0,4,3],[5,0,5,3],[23,0,23,3],[20,0,20,3],[19,0,19,3],[17,0,17,3],[8,0,8,3],[9,0,9,3],[6,0,6,3],[7,0,7,3],[10,0,10,3],[11,0,11,3],[15,0,15,3],[22,0,22,3],[12,0,12,3],[13,0,13,3],[24,0,24,3],[25,0,25,3],[33,0,33,3],[16,0,16,3],[18,0,18,3],[21,0,21,3],[28,0,28,3],[29,0,29,3],[27,0,27,3],[26,0,26,3],[30,0,30,3],[35,0,35,3],[36,0,36,3],[32,0,32,3],[34,0,34,3],[31,0,31,3],[37,0,37,3],[43,0,43,3],[44,0,44,3],[38,0,38,3],[40,0,40,3],[41,0,41,3],[42,0,42,3],[39,0,39,3],[50,8,50,9],[51,8,51,9],[52,8,52,9],[53,8,53,9],[54,8,54,9],[55,8,55,9],[43,6,43,9],[45,8,45,9],[46,8,46,9],[47,8,47,9],[48,8,48,9],[49,8,49,9],[62,8,62,9],[63,8,63,9],[64,8,64,9],[65,8,65,9],[66,8,66,9],[67,8,67,9],[56,8,56,9],[57,8,57,9],[58,8,58,9],[59,8,59,9],[60,8,60,9],[61,8,61,9],[74,8,74,9],[75,8,75,9],[76,8,76,9],[77,8,77,9],[78,8,78,9],[79,8,79,9],[68,8,68,9],[69,8,69,9],[70,8,70,9],[71,8,71,9],[72,8,72,9],[73,8,73,9],[92,8,92,9],[86,8,86,9],[87,8,87,9],[88,8,88,9],[89,8,89,9],[90,8,90,9],[91,8,91,9],[88,0,88,3],[80,8,80,9],[81,8,81,9],[82,8,82,9],[83,8,83,9],[84,8,84,9],[85,8,85,9],[82,0,82,3],[83,0,83,3],[84,0,84,3],[85,0,85,3],[86,0,86,3],[87,0,87,3],[138,0,138,3],[139,0,139,3],[89,0,89,3],[90,0,90,3],[91,0,91,3],[109,0,109,3],[110,0,110,3],[111,0,111,3],[103,0,103,3],[104,0,104,3],[105,0,105,3],[106,0,106,3],[107,0,107,3],[108,0,108,3],[92,0,92,3],[93,0,93,3],[94,0,94,3],[96,0,96,3],[95,0,95,3],[97,0,97,3],[126,0,126,3],[127,0,127,3],[128,0,128,3],[129,0,129,3]]}
["Liste des Motifs d'Abandons",null,null,null,"Points de contrôle",null,"Libellés des Points de Contrôle"]
["Abandon sur Routier après ES",null,null,null,"C.H. :",null,"Sortie Parc Départ"]
["Abandon sur Routier avant ES",null,null,null,"Départ E.S. :",null,"Entrée Parc Regroup"]
["Absent du Parc Fermé Départ",null,null,null,"Arriv. E.S. :",null,"Sortie Parc Regroup"]
["Absent du Parc Fermé Final",null,null,null,"Point STOP",null,"Entrée Parc Fermé"]
["Mécanique",null,null,null,"C.P. :",null,"Sortie Parc Fermé"]
["Mise Hors Course par Collège",null,null,null,null,null,"Entrée Assistance"]
["Mise Hors Course par D.C.",null,null,null,null,null,"Sortie Assistance"]
["Raison Personnelle",null,null,null,null,null,"Entrée Parc Fermé d'Arrivée"]
["Sortie de route avec arrêt de course",null,null,null,null,null,"Entrée Parc Fermé Fin Etape"]
["Sortie de route avec équipage Blessé",null,null,null,null,null,"Section"]
["Sortie de Route avec Equipage et Public Blessés",null,null,null,null,null,"Avant Départ ES "]
["Sortie de route avec Public blessé",null,null,null,null,null,"Sortie Parc Regroup/Entr Assist"]
["Sortie de Route sans Gravité",null,null,null,null,null,"Podium"]
[null,null,null,null,null,null,"Entrée Parc Reclassement"]
["Liste des Documents donnés au Collège",null,null,null,null,null,"Sortie Parc Reclassement"]
["Challenge Indice de Performance"]
["Classement à l'issue de l'ES "]
["Classement Final Provisoire"]
["Classement provisoire de l'Etape : "]
["Communiqué  n°   ",null,null,null,null,null,"Liste pour Communique"]
["Décision DC n° ",null,null,null,null,null,"au Concurrent n°"]
["Demande de repositionnement du n°",null,null,null,null,null,"à Tous les concurrents"]
["Demande(s) de Rallye 2 n° ",null,null,null,null,null,"aux Commissaires Techniques"]
["Formulaires de restitution de licences (n° ",null,null,null,null,null,"à la Presse"]
["Intention d'Appel du n° ",null,null,null,null,null,"au Collège"]
["Liste autorisés VHRS",null,null,null,null,null,"au Chargé des relations Concurrents"]
["Liste des autorisés au départ",null,null,null,null,null,"aux Juges de Faits"]
["Liste des Engagés",null,null,null,null,null,"à l'Organisateur"]
["Liste des Pénalisations et Abandons"]
["Main courante DC ",null,null,null,null,null,"Notification n°"]
["Notification Commissaire Technique n° ",null,null,null,null,null,"Décision n°"]
["Notification Concurrent n°  ",null,null,null,null,null,"Communiqué n°"]
["Ordres et Heures de Départ Etape ",null,null,null,null,null,"Additif n°"]
["Ordres et Heures de Départ Section  ",null,null,null,null,null,"Convocation n°"]
["Rapport Commissaire",null,null,null,null,null,"Rapport n°"]
["Rapport Commissaires Techniques",null,null,null,null,null,"Ordre de mission"]
["Rapport d'Accident Concurrent n° ",null,null,null,null,null,"Demande"]
["Rapport juges de faits"]
["Rapport Médical"]
["Rapport sur les reconnaissances"]
["Rapport Vérifications Techniques en cours d'épreuve "]
["Rapport Vérifications Techniques Finales"]
["Rapport Vérifs Administratives",null,null,null,null,null,"EVOLUTIONS        E= Evolutions   C = Corrections"]
["Réclamation du n° "]
["Motifs Main Courante",null,null,null,null,null,"Date","Type ","Libellé"]
[{"$f":"TODAY()","v":"2018-12-16"}]
[{"$f":"Rallye!E48","v":"1ère Etape  Sections  1 - 2"},null,null,null,null,null,"2016-10-06","E","Pise en compte SSV dans TT (Tableau - Imprim - Efface)"]
[{"$f":"Rallye!E99","v":"2ème Etape Sections 3 - 4 - 5"},null,null,null,null,null,"2016-10-08","C","Corretion pourcentage abandon"]
["Abandon : Mécanique",null,null,null,null,null,"2016-10-26","C","Edition Main Courante"]
["Abandon : Raison Personnelle",null,null,null,null,null,"2016-11-03","E","Titre rapport Reconnaissances"]
["Abandon : Sortie de route avec Médical",null,null,null,null,null,"2016-11-16","C","Changé libellé Comité par Ligue"]
["Abandon : Sortie de route sans Gravité",null,null,null,null,null,"2016-11-16","C","Remise en forme cellule effacement dans Vérifs Modernes"]
["Appel SDIS",null,null,null,null,null,null,"C","Date d'édition rapport Etp 1"]
["Arrèt des Départs Intervention DC",null,null,null,null,null,null,"E","Vérifs VHC J2"]
["Disqualification  Collège",null,null,null,null,null,"2017-01-27","E","Logo Championnat de France Terre"]
["Entré en Parc",null,null,null,null,null,"2017-02-21","C","Classe J2 VHC + Effacement"]
["Mise en place terminée ES Opérationelle",null,null,null,null,null,"2017-03-07","E","Vérif Licence sur site FFSA"]
["Mise Hors Course DC : Dépassement délai imparti",null,null,null,null,null,"2017-03-15","E","Logo Championnat de France VHC"]
["Moyens vérifiés",null,null,null,null,null,"2017-03-29","E","Ajout Fiche Pénalité avec Fiche Abandon"]
["Ouverture PC",null,null,null,null,null,"2017-03-30","E","Mise à jour liste des pénalités 2017"]
["Parti dans ES ",null,null,null,null,null,"2017-04-07","E","Saisie - Impression Fiche Pénalité"]
["Sorti du Parc",null,null,null,null,null,"2017-05-02","E","Reconstruction du Tableau de Service DC Terrain - PC"]
["Validation ES ",null,null,null,null,null,"2017-05-03","E","Impression Tableau Services"]
[{"$f":"+Rallye!E156","v":0},null,null,null,null,null,"2017-05-12","E","Reprise du Briefing Concurrent"]
["Réouverture à la circulation ES n° ",null,null,null,null,null,"2017-05-12","E","VHC Groupe AJ2 NJ2"]
[null,null,null,null,null,null,"2017-05-21","E","Vétifs TT ajout Gr T3 et Classes SSV7 SSV8"]
[null,null,null,null,null,null,"2017-05-21","E","Liste déroulantes dans fiche pénalités"]
[null,null,null,null,null,null,"2017-05-21","E","Rapport étapes choix déroulant du Classement"]
[null,null,null,null,null,null,"2017-05-26","C","Correction Calcul Total Vérifs Modernes"]
[null,null,null,null,null,null,"2017-05-26","C","Correction Texte du Rallye 2"]
[null,null,null,null,null,null,"2017-06-21","C","Classe R2J dans fiche Patrick Soft"]
[null,null,null,null,null,null,"2017-06-21","E","Feuille - Suivi Rallye 2"]
[null,null,null,null,null,null,"2017-07-10","E","Horaires : choix de la catégorie de la premiers voiture à partir"]
[null,null,null,null,null,null,"2017-07-21","C","Correction entête suivi Rallye 2"]
["Libellés Divers",null,null,null,null,null,"2017-09-27","E","Ajout C P dans postes de contrôles"]
["de la Section",null,null,null,null,null,"2017-10-08","E","Reconditionnement feuille suivi abandon pour projection vidéo"]
["de l'Etape",null,null,null,null,null,"2017-10-10","C","Ajout troisième étape dans tableau services"]
["des sections",null,null,null,null,null,"2017-10-13","E","Horaires Etape 2 : Prise en compte VHC et Modernes"]
["du Rallye",null,null,null,null,null,"2017-11-04","E","Boutons de Navigation entre Suivi ETP et Rallye 2"]
[null,null,null,null,null,null,"2017-12-06","E","Rapport de clôture remplacé Comité par Ligue"]
[null,null,null,null,null,null,"2017-12-11","E","DC Délégué Rallye 2 Dans tableau service"]
["Libelles Catégories Rallyes",null,null,null,null,null,"2018-01-15","E","Nom du Pilote sur attestation accident"]
["Modernes",null,null,null,null,null,"2018-02-09","E","Feuille Emargement, Mise à jour tableau Pénalités"]
["VHC",null,null,null,null,null,"2018-02-19","E","Horaires Etape 1 : Prise en compte VHC et Modernes"]
["VHRS",null,null,null,null,null,"2018-03-15","E","Vérifs VHC dans totaux choix du type de véhicules VHC VHRS ,,,"]
["LPRS",null,null,null,null,null,"2018-03-15","E","Horaires Etape 1 Choix du type Rallye (1 ou 2 ) Expl Mod + Vhc"]
["LTRS",null,null,null,null,null,"2018-03-15","E","Horaires Etape 2 Choix du Type de Rallye (1 ou 2) Expl Mod + Vhc"]
["ENRS",null,null,null,null,null,"2018-04-06","E","Rapport Etapes : Choix affichage ordres de départ étape suivante"]
["Championnat",null,null,null,null,null,"2018-04-10","E","Mise à jour liste des pénalités"]
["Coupe",null,null,null,null,null,"2018-04-10","E","Mise à jour Brief Concurrents"]
[null,null,null,null,null,null,"2018-06-07","C","Horaires Etape 1"]
["Emargements",null,null,null,null,null,"2018-06-07","C","Horaires Etape 2"]
["Additif n° ",null,null,null,null,null,"2018-09-10","E","Liste des véhicules d'encadrement"]
["Communiqué n°  ",null,null,null,null,null,"2018-10-01","E","Modif et mise à jour liste des documents donnés au collège"]
[null,null,null,null,null,null,"2018-10-01","E","rajout de 3 lignes dans la liste des véhicules d'encadrement"]
[null,null,null,null,null,null,"2018-10-08","E","Rapport Cloture : Supprimé colonne Signatures"]
[null,null,null,null,null,null,"2018-10-08","E","Vérifs TT : Supprimer SSV8"]
[null,null,null,null,null,null,"08/10/22018","E","Listes dans ordre alphabetiques"]
["toto",null,null,null,null,null,"2018-10-15","E","Dans le suivi Etape 1, l'Heure du dernier tient compte du tableau Horaires"]
[null,null,null,null,null,null,"2018-10-15","E","Dans le suivi Etape 2, l'Heure du dernier tient compte du tableau Horaires"]
[]
["toto"]
["Nombre Partants Horaires Etape"]
[]
[]
[]
[]
["Rapport Etapes : Libellés pour Etapes suivantes"]
["et Ordres et Heures de Départ Etape 2 "]
["et Ordres et Heures de Départ Etape 3 "]
[]
[]
["Véhicules d'encadrement"]
["Orga"]
["Sécurité"]
["TRICO"]
["Autorité"]
["INFO"]
["Promo 1"]
["Promo 2"]
["Promo 3"]
["Promo 4"]
["Promo 5"]
["Promo 6"]
["Observ"]
["Info-Sono"]
["000 B"]
["000 A"]
["000"]
["00 B"]
["00 A"]
["00"]
["0 VH"]
["0 Mod"]
["0 TT"]
["0 A"]
["0 B"]
["Balai"]

{"sheet":"Clear","index":53,"n_rows":0,"n_cols":0,"rows_kept":0,"cut":false,"hidden":false,"merged":[]}